Workbook
Name IQ_CH: 110000
Name IQ_CQ: 5000
Name IQ_CY: 10000
Name IQ_DAILY: 500000
Name IQ_FH: 100000
Name IQ_FQ: 500
Name IQ_FY: 1000
Name IQ_LTM: 2000
Name IQ_MONTH: 15000
Name IQ_NTM: 6000
Name IQ_WEEK: 50000
Name IQ_YTD: 3000
Name means: 'Question 4'!$B$2:$C$2
Name rho: 'Question 4'!$B$5
Name stdev1: 'Question 4'!$B$3
Name stdev2: 'Question 4'!$C$3
Name varcovar2: 'Question 4'!$F$3:$G$4
Name wgts: 'Question 4'!$B$8:$B$9

Sheet Question 2+3
T2: SOLVER 1 | U2: =MIN($M$45) -> 0.09642671 | V2: =COUNT($M$37:$R$37) -> 6 | W2: =$L$37=1 -> TRUE | X2: {=$M$37:$Q$37<=$M$39:$Q$39} -> TRUE | Y2: {=$M$37:$Q$37>=$M$40:$Q$40} -> TRUE | Z2: =$M$44=$P$44 -> FALSE | AA2: ={32767,32767,0.000001,0.01,FALSE,FALSE,FALSE,1,1,1,0.0001,TRUE} -> 32767 | AB2: ={0,0,0,100,0,FALSE,TRUE,0.075,0,0,TRUE,30} -> 0
A7: Date | C7: CB | D7: PGR | E7: NFLX | F7: BRK-B | G7: WMT | H7: TSLA | I7: . | K7: Question 2, A | L7: Return Statistics
A8: 42401 | B8: =1/68 -> 0.014705882 | C8: 0.021756535 | D8: 0.021440081 | E8: 0.017095036 | F8: 0.033906094 | G8: -0.00030121844 | H8: 0.0038179914 | M8: CB | N8: PGR | O8: NFLX | P8: BRK-B | Q8: WMT | R8: TSLA
A9: 42430 | B9: =1/68 -> 0.014705882 | C9: 0.031333785 | D9: 0.13307457 | E9: 0.094422424 | F9: 0.057464464 | G9: 0.032408632 | H9: 0.19715512 | L9: return | M9: =AVERAGE(C8:C75) -> 0.010191633 | N9: =AVERAGE(D8:D75) -> 0.020322452 | O9: =AVERAGE(E8:E75) -> 0.032235622 | P9: =AVERAGE(F8:F75) -> 0.012362552 | Q9: =AVERAGE(G8:G75) -> 0.01414803 | R9: =AVERAGE(H8:H75) -> 0.059543829
A10: 42461 | B10: =1/68 -> 0.014705882 | C10: -0.0052358835 | D10: -0.07228241 | E10: -0.11933878 | F10: 0.025373491 | G10: -0.016425086 | H10: 0.047830462 | L10: sd | M10: {=SQRT(SUMPRODUCT($B$8:$B$75,(C8:C75-M9)^2))} -> 0.0577304 | N10: {=SQRT(SUMPRODUCT($B$8:$B$75,(D8:D75-N9)^2))} -> 0.057257057 | O10: {=SQRT(SUMPRODUCT($B$8:$B$75,(E8:E75-O9)^2))} -> 0.097419574 | P10: {=SQRT(SUMPRODUCT($B$8:$B$75,(F8:F75-P9)^2))} -> 0.047836755 | Q10: {=SQRT(SUMPRODUCT($B$8:$B$75,(G8:G75-Q9)^2))} -> 0.048699308 | R10: {=SQRT(SUMPRODUCT($B$8:$B$75,(H8:H75-R9)^2))} -> 0.18096554
A11: 42491 | B11: =1/68 -> 0.014705882 | C11: 0.074240255 | D11: 0.021472742 | E11: 0.13928692 | F11: -0.033956579 | G11: 0.058471637 | H11: -0.072811098
A12: 42522 | B12: =1/68 -> 0.014705882 | C12: 0.032383116 | D12: 0.0060056813 | E12: -0.10812125 | F12: 0.030240502 | G12: 0.039200796 | H12: -0.049052524
A13: 42552 | B13: =1/68 -> 0.014705882 | C13: -0.036237043 | D13: -0.029552161 | E13: -0.0025142435 | F13: -0.0035913324 | G13: -0.00068470483 | H13: 0.10603917
A14: 42583 | B14: =1/68 -> 0.014705882 | C14: 0.013332212 | D14: 0.0015379691 | E14: 0.067945173 | F14: 0.043113612 | G14: -0.020967463 | H14: -0.097022872 | L14: Correlation Matrix
A15: 42614 | B15: =1/68 -> 0.014705882 | C15: -0.010084338 | D15: -0.032555268 | E15: 0.011287902 | F15: -0.040002683 | G15: 0.016428882 | H15: -0.037639734 | M15: CB | N15: PGR | O15: NFLX | P15: BRK-B | Q15: WMT | R15: TSLA
A16: 42644 | B16: =1/68 -> 0.014705882 | C16: 0.016341932 | D16: 0.00031748634 | E16: 0.26707254 | F16: -0.001176701 | G16: -0.029117562 | H16: -0.030877788 | L16: CB | M16: 1 | N16: 0.049632076 | O16: 0.033403849 | P16: 0.44065954 | Q16: 0.18843408 | R16: 0.022618804
A17: 42675 | B17: =1/68 -> 0.014705882 | C17: 0.0078738677 | D17: 0.056807597 | E17: -0.063025569 | F17: 0.091060282 | G17: 0.0058552586 | H17: -0.042128153 | L17: PGR | M17: 0.049632076 | N17: 1 | O17: 0.23430079 | P17: 0.28139003 | Q17: 0.15278607 | R17: 0.028798881
A18: 42705 | B18: =1/68 -> 0.014705882 | C18: 0.032187746 | D18: 0.06606597 | E18: 0.058119684 | F18: 0.03518797 | G18: -0.018600385 | H18: 0.12824704 | L18: NFLX | M18: 0.033403849 | N18: 0.23430079 | O18: 1 | P18: 0.12667719 | Q18: 0.078174466 | R18: 0.18359535
A19: 42736 | B19: =1/68 -> 0.014705882 | C19: 0.00043426216 | D19: 0.054647802 | E19: 0.13659131 | F19: 0.0071174563 | G19: -0.027521796 | H19: 0.17895089 | L19: BRK-B | M19: 0.44065954 | N19: 0.28139003 | O19: 0.12667719 | P19: 1 | Q19: 0.39314052 | R19: 0.31021539
A20: 42767 | B20: =1/68 -> 0.014705882 | C20: 0.050802179 | D20: 0.046474381 | E20: 0.010091663 | F20: 0.044352376 | G20: 0.0627806 | H20: -0.0077005713 | L20: WMT | M20: 0.18843408 | N20: 0.15278607 | O20: 0.078174466 | P20: 0.39314052 | Q20: 1 | R20: 0.17289878
A21: 42795 | B21: =1/68 -> 0.014705882 | C21: -0.013895731 | D21: 0.018526093 | E21: 0.039963363 | F21: -0.027651412 | G21: 0.01621337 | H21: 0.11324451 | L21: TSLA | M21: 0.022618804 | N21: 0.028798881 | O21: 0.18359535 | P21: 0.31021539 | Q21: 0.17289878 | R21: 1
A22: 42826 | B22: =1/68 -> 0.014705882 | C22: 0.012401223 | D22: 0.013782621 | E22: 0.029700285 | F22: -0.0088192108 | G22: 0.05067673 | H22: 0.12853034
A23: 42856 | B23: =1/68 -> 0.014705882 | C23: 0.043278666 | D23: 0.068227331 | E23: 0.071419252 | F23: 0.00042365472 | G23: 0.045491214 | H23: 0.085777121
A24: 42887 | B24: =1/68 -> 0.014705882 | C24: 0.015294403 | D24: 0.039123248 | E24: -0.083767722 | F24: 0.024745862 | G24: -0.0307069 | H24: 0.060408724
A25: 42917 | B25: =1/68 -> 0.014705882 | C25: 0.012393747 | D25: 0.068949911 | E25: 0.215849 | F25: 0.033063743 | G25: 0.056950497 | H25: -0.10547273 | L25: Covariance Matrix
A26: 42948 | B26: =1/68 -> 0.014705882 | C26: -0.034412294 | D26: -0.013791558 | E26: -0.038258267 | F26: 0.03537751 | G26: -0.024002999 | H26: 0.10025659 | M26: CB | N26: PGR | O26: NFLX | P26: BRK-B | Q26: WMT | R26: TSLA
A27: 42979 | B27: =1/68 -> 0.014705882 | C27: 0.0079905286 | D27: 0.041738358 | E27: 0.038005831 | F27: 0.011923178 | G27: 0.007192017 | H27: -0.041584701 | L27: CB | M27: =VARP('Question 2+3'!$C$8:$C$75) -> 0.0033327991 | N27: 0.00016405748 | O27: 0.00018786562 | P27: 0.0012169408 | Q27: 0.00052976933 | R27: 0.00023630347
A28: 43009 | B28: =1/68 -> 0.014705882 | C28: 0.063334721 | D28: 0.0047501181 | E28: 0.083154047 | F28: 0.019746863 | G28: 0.11735359 | H28: -0.028056303 | L28: PGR | M28: 0.00016405748 | N28: =VARP('Question 2+3'!$D$8:$D$75) -> 0.0032783706 | O28: 0.00130692 | P28: 0.00077072499 | Q28: 0.00042602547 | R28: 0.00029840117
A29: 43040 | B29: =1/68 -> 0.014705882 | C29: 0.0085531165 | D29: 0.093114263 | E29: -0.045054174 | F29: 0.032470274 | G29: 0.1136181 | H29: -0.068410099 | L29: NFLX | M29: 0.00018786562 | N29: 0.00130692 | O29: =VARP('Question 2+3'!$E$8:$E$75) -> 0.0094905734 | P29: 0.00059034563 | Q29: 0.00037088045 | R29: 0.0032367099
A30: 43070 | B30: =1/68 -> 0.014705882 | C30: -0.039313523 | D30: 0.059044551 | E30: 0.023350064 | F30: 0.026993452 | G30: 0.015633044 | H30: 0.0080945443 | L30: BRK-B | M30: 0.0012169408 | N30: 0.00077072499 | O30: 0.00059034563 | P30: =VARP('Question 2+3'!$F$8:$F$75) -> 0.0022883551 | Q30: 0.00091586679 | R30: 0.0026854739
A31: 43101 | B31: =1/68 -> 0.014705882 | C31: 0.073784562 | D31: -0.039417588 | E31: 0.40810574 | F31: 0.081525597 | G31: 0.085182919 | H31: 0.13797977 | L31: WMT | M31: 0.00052976933 | N31: 0.00042602547 | O31: 0.00037088045 | P31: 0.00091586679 | Q31: =VARP('Question 2+3'!$G$8:$G$75) -> 0.0023716226 | R31: 0.0015237391
A32: 43132 | B32: =1/68 -> 0.014705882 | C32: -0.091130217 | D32: 0.064325274 | E32: 0.077987488 | F32: -0.033491967 | G32: -0.15562861 | H32: -0.031751856 | L32: TSLA | M32: 0.00023630347 | N32: 0.00029840117 | O32: 0.0032367099 | P32: 0.0026854739 | Q32: 0.0015237391 | R32: =VARP('Question 2+3'!$H$8:$H$75) -> 0.032748527
A33: 43160 | B33: =1/68 -> 0.014705882 | C33: -0.03628787 | D33: 0.08065179 | E33: 0.013624823 | F33: -0.037258693 | G33: -0.011554396 | H33: -0.22424646
A34: 43191 | B34: =1/68 -> 0.014705882 | C34: -0.0028638565 | D34: -0.010503729 | E34: 0.057931216 | F34: -0.028824945 | G34: 0.00019542536 | H34: 0.10434744
A35: 43221 | B35: =1/68 -> 0.014705882 | C35: -0.03670667 | D35: 0.029855574 | E35: 0.12526409 | F35: -0.011355996 | G35: -0.066922595 | H35: -0.031201089 | L35: Weigts | V35: Weigts
A36: 43252 | B36: =1/68 -> 0.014705882 | C36: -0.028081806 | D36: -0.047350471 | E36: 0.1132821 | F36: -0.025479063 | G36: 0.044215898 | H36: 0.20447437 | M36: CB | N36: PGR | O36: NFLX | P36: BRK-B | Q36: WMT | R36: returns | S36: Weights | W36: CB | X36: PGR | Y36: NFLX | Z36: BRK-B | AA36: WMT | AB36: TSLA | AC36: returns | AD36: Weights
A37: 43282 | B37: =1/68 -> 0.014705882 | C37: 0.10635811 | D37: 0.014539232 | E37: -0.13790456 | F37: 0.060112517 | G37: 0.041798209 | H37: -0.13066042 | L37: =SUM(M37:R37) -> 1 | M37: 0 | N37: 0 | O37: 0.98980837 | P37: 0 | Q37: 0 | R37: =M9 -> 0.010191633 | S37: =M37 -> 0 | V37: =SUM(W37:AC37) -> 1 | W37: 0.93856925 | X37: 0 | Y37: 0 | Z37: 0.051239119 | AA37: 0 | AB37: 0 | AC37: =M9 -> 0.010191633 | AD37: =W37 -> 0.93856925
A38: 43313 | B38: =1/68 -> 0.014705882 | C38: -0.032064065 | D38: 0.12531246 | E38: 0.089583583 | F38: 0.054834014 | G38: 0.074302351 | H38: 0.011806585 | M38: _wgt1 | N38: _wgt2 | O38: _wgt3 | P38: _wgt4 | Q38: _wgt5 | R38: =N9 -> 0.020322452 | S38: =N37 -> 0 | W38: _wgt1 | X38: _wgt2 | Y38: _wgt3 | Z38: _wgt4 | AA38: _wgt5 | AB38: _wgt6 | AC38: =N9 -> 0.020322452 | AD38: =X37 -> 0
A39: 43344 | B39: =1/68 -> 0.014705882 | C39: -0.011830733 | D39: 0.051976818 | E39: 0.017542461 | F39: 0.02582407 | G39: -0.014652363 | H39: -0.12229003 | L39: Max weight | M39: 1 | N39: 1 | O39: 1 | P39: 1 | Q39: 1 | R39: =O9 -> 0.032235622 | S39: =O37 -> 0.98980837 | V39: Max weight | W39: 1 | X39: 1 | Y39: 1 | Z39: 1 | AA39: 1 | AB39: 1 | AC39: =O9 -> 0.032235622 | AD39: =Y37 -> 0
A40: 43374 | B40: =1/68 -> 0.014705882 | C40: -0.060429732 | D40: -0.018862518 | E40: -0.19338199 | F40: -0.041240493 | G40: 0.067831003 | H40: 0.27401137 | L40: Min Weight | M40: 0 | N40: 0 | O40: 0 | P40: 0 | Q40: 0 | R40: =P9 -> 0.012362552 | S40: =P37 -> 0 | V40: Min Weight | W40: 0 | X40: 0 | Y40: 0 | Z40: 0 | AA40: 0 | AB40: 0 | AC40: =P9 -> 0.012362552 | AD40: =Z37 -> 0.051239119
A41: 43405 | B41: =1/68 -> 0.014705882 | C41: 0.070690838 | D41: -0.048923955 | E41: -0.05185895 | F41: 0.063133311 | G41: -0.026226634 | H41: 0.039013461 | R41: =Q9 -> 0.01414803 | S41: =Q37 -> 0 | AC41: =Q9 -> 0.01414803 | AD41: =AA37 -> 0
A42: 43435 | B42: =1/68 -> 0.014705882 | C42: -0.034096018 | D42: -0.089908069 | E42: -0.064551081 | F42: -0.06442454 | G42: -0.046083022 | H42: -0.050445146 | L42: wS | M42: {=MMULT(M37:Q37,M27:Q31)} -> 0.00018595096 | N42: 0.0012936003 | O42: 0.009393849 | P42: 0.00058432905 | Q42: 0.00036710057 | V42: wS | W42: {=MMULT(W37:AB37,M27:R32)} -> 0.0031904177 | X42: 0.00019347057 | Y42: 0.00020657368 | Z42: 0.0012594365 | AA42: 0.0005441534 | AB42: 0.00035938849 | AC42: =R9 -> 0.059543829 | AD42: =AB37 -> 0
A43: 43466 | B43: =1/68 -> 0.014705882 | C43: 0.035929388 | D43: 0.11536553 | E43: 0.26840019 | F43: 0.0066607897 | G43: 0.034384953 | H43: -0.07746393
A44: 43497 | B44: =1/68 -> 0.014705882 | C44: 0.0063884874 | D44: 0.083370572 | E44: 0.054786468 | F44: -0.02062854 | G44: 0.032974882 | H44: 0.041886572 | L44: Portfolio | M44: =SUMPRODUCT(M37:Q37,M9:Q9) -> 0.031907089 | O44: Desired ER | P44: 0.0322 | V44: Portfolio | W44: =SUMPRODUCT(W37:AB37,M9:R9) -> 0.010199 | Y44: Desired ER | Z44: 0.0102
A45: 43525 | B45: =1/68 -> 0.014705882 | C45: 0.046153661 | D45: 0.027268166 | E45: -0.004300497 | F45: -0.0020367809 | G45: -0.0147488 | H45: -0.12510944 | L45: Std. Dev | M45: {=SQRT(MMULT(MMULT(M37:Q37,M27:Q31),TRANSPOSE(M37:Q37)))} -> 0.09642671 | V45: Std. Dev | W45: {=SQRT(MMULT(MMULT(W37:AB37,M27:R32),TRANSPOSE(W37:AB37)))} -> 0.055307869
A46: 43556 | B46: =1/68 -> 0.014705882 | C46: 0.042197859 | D46: 0.084061685 | E46: 0.039208019 | F46: 0.078749605 | G46: 0.060118333 | H46: -0.14710929
A47: 43586 | B47: =1/68 -> 0.014705882 | C47: 0.0059919384 | D47: 0.015850297 | E47: -0.073568331 | F47: -0.089013005 | G47: -0.01361325 | H47: -0.22426575
A48: 43617 | B48: =1/68 -> 0.014705882 | C48: 0.0083520321 | D48: 0.0081986989 | E48: 0.070030319 | F48: 0.079779152 | G48: 0.095001355 | H48: 0.20684813 | K48: Question 2, b | L48: Asset Allocation Table | U48: Question 3, a | V48: Asset Allocation Table
A49: 43647 | B49: =1/68 -> 0.014705882 | C49: 0.042914559 | D49: 0.0131367 | E49: -0.12068501 | F49: -0.036309073 | G49: -0.00099566716 | H49: 0.081222544 | L49: Portfolio | M49: Portfolio | V49: Portfolio | W49: Portfolio
A50: 43678 | B50: =1/68 -> 0.014705882 | C50: 0.022507323 | D50: -0.062832229 | E50: -0.09052909 | F50: -0.0098329799 | G50: 0.035151408 | H50: -0.066222364 | L50: E(return) | M50: St. Dev. | N50: CB | O50: PGR | P50: NFLX | Q50: BRK-B | R50: WMT | V50: E(return) | W50: St. Dev. | X50: CB | Y50: PGR | Z50: NFLX | AA50: BRK-B | AB50: WMT | AC50: TSLA
A51: 43709 | B51: =1/68 -> 0.014705882 | C51: 0.033017471 | D51: 0.019129136 | E51: -0.088953209 | F51: 0.022663585 | G51: 0.043796626 | H51: 0.067638798 | L51: 0.0102 | M51: 0.055307869 | N51: 0.93856924 | O51: 0 | P51: 0 | Q51: 0.051239125 | R51: 0 | V51: 0.0102 | W51: 0.055307624 | X51: 0.93856925 | Y51: 0 | Z51: 0 | AA51: 0.051239119 | AB51: 0 | AC51: 0
A52: 43739 | B52: =1/68 -> 0.014705882 | C52: -0.051411231 | D52: -0.097734435 | E52: 0.07394817 | F52: 0.021920959 | G52: -0.011965067 | H52: 0.30742726 | L52: 0.0125 | M52: 0.036876701 | N52: 0.32700793 | O52: 0.051029544 | P52: 0 | Q52: 0.29411929 | R52: 0.3176516 | V52: 0.0125 | W52: 0.036876701 | X52: 0.32700795 | Y52: 0.051029551 | Z52: 0 | AA52: 0.29411925 | AB52: 0.31765161 | AC52: 0
A53: 43770 | B53: =1/68 -> 0.014705882 | C53: -0.0061673391 | D53: 0.049454794 | E53: 0.094812288 | F53: 0.036315744 | G53: 0.015606334 | H53: 0.04769462 | L53: 0.015 | M53: 0.033615878 | N53: 0.2277668 | O53: 0.22227992 | P53: 0.046150964 | Q53: 0.17357406 | R53: 0.32003662 | V53: 0.015 | W53: 0.033615878 | X53: 0.22775989 | Y53: 0.2222827 | Z53: 0.046148928 | AA53: 0.17357832 | AB53: 0.32003853 | AC53: 0
A54: 43800 | B54: =1/68 -> 0.014705882 | C54: 0.027594476 | D54: -0.0090348754 | E54: 0.028316287 | F54: 0.028143427 | G54: -0.0020992578 | H54: 0.26789721 | L54: 0.0175 | M54: 0.034962418 | N54: 0.16410515 | O54: 0.28853014 | P54: 0.13957232 | Q54: 0.089952154 | R54: 0.3076486 | V54: 0.02 | W54: 0.036442341 | X54: 0.19769331 | Y54: 0.30816413 | Z54: 0.11565319 | AA54: 0.010997812 | AB54: 0.29554691 | AC54: 0.061753022
A55: 43831 | B55: =1/68 -> 0.014705882 | C55: -0.018817421 | D55: 0.11465684 | E55: 0.066507984 | F55: -0.0091391038 | G55: -0.032282677 | H55: 0.55515978 | L55: 0.02 | M55: 0.039834064 | N55: 0.10044347 | O55: 0.35478064 | P55: 0.23299353 | Q55: 0.0063298712 | R55: 0.29526086 | V55: 0.025 | W55: 0.044902762 | X55: 0.10823868 | Y55: 0.36089188 | Z55: 0.18036698 | AA55: 0 | AB55: 0.20960064 | AC55: 0.13071019
A56: 43862 | B56: =1/68 -> 0.014705882 | C56: -0.045792424 | D56: -0.064259669 | E56: 0.069373216 | F56: -0.080604186 | G56: -0.059480976 | H56: 0.026776589 | L56: 0.0225 | M56: 0.047257766 | N56: 0.00018755496 | O56: 0.40660363 | P56: 0.33096506 | Q56: 0 | R56: 0.25205213 | V56: 0.03 | W56: 0.056934502 | X56: 0.01367135 | Y56: 0.41158444 | Z56: 0.24569038 | AA56: 0 | AB56: 0.11917396 | AC56: 0.19968824
A57: 43891 | B57: =1/68 -> 0.014705882 | C57: -0.22988348 | D57: 0.0092944319 | E57: 0.017532453 | F57: -0.11393813 | G57: 0.055163447 | H57: -0.21555714 | L57: 0.025 | M57: 0.056881555 | N57: -1e-06 | O57: 0.43759172 | P57: 0.45856195 | Q57: 0 | R57: 0.0936557 | V57: 0.035 | W57: 0.071048307 | X57: -1e-06 | Y57: 0.39183501 | Z57: 0.31377824 | AA57: 0 | AB57: 0 | AC57: 0.28419612
A58: 43922 | B58: =1/68 -> 0.014705882 | C58: -0.025626643 | D58: 0.046858161 | E58: 0.1181092 | F58: 0.02477711 | G58: 0.074527506 | H58: 0.49213743 | L58: 0.0275 | M58: 0.068518113 | N58: 0 | O58: 0.36993418 | P58: 0.61987419 | Q58: 0 | R58: 0 | V58: 0.04 | W58: 0.088198682 | X58: 0 | Y58: 0.21457087 | Z58: 0.38524006 | AA58: 0 | AB58: 0 | AC58: 0.38999743
A59: 43952 | B59: =1/68 -> 0.014705882 | C59: 0.12896962 | D59: 0.0062410157 | E59: -0.00028580445 | F59: -0.0095004216 | G59: 0.020649864 | H59: 0.067938766 | L59: 0.03 | M59: 0.083462695 | N59: 0 | O59: 0.15999845 | P59: 0.82980991 | Q59: 0 | R59: 0 | V59: 0.045 | W59: 0.10748878 | X59: 0 | Y59: 0.037378907 | Z59: 0.45667327 | AA59: 0 | AB59: 0 | AC59: 0.49575619
A60: 43983 | B60: =1/68 -> 0.014705882 | C60: 0.038379548 | D60: 0.031282088 | E60: 0.084125502 | F60: -0.038096815 | G60: -0.030252181 | H60: 0.29318566 | L60: 0.0322 | M60: 0.09642671 | N60: 0 | O60: 0 | P60: 0.98980837 | Q60: 0 | R60: 0 | V60: 0.05 | W60: 0.12959762 | X60: 0 | Y60: 0 | Z60: 0.32726354 | AA60: 0 | AB60: 0 | AC60: 0.66254483
A61: 44013 | B61: =1/68 -> 0.014705882 | C61: 0.010976365 | D61: 0.12769949 | E61: 0.074367078 | F61: 0.096745305 | G61: 0.080313894 | H61: 0.32501088 | V61: 0.055 | W61: 0.15622151 | X61: 0 | Y61: 0 | Z61: 0.14416839 | AA61: 0 | AB61: 0 | AC61: 0.84563997
A62: 44044 | B62: =1/68 -> 0.014705882 | C62: -0.017604511 | D62: 0.053355162 | E62: 0.083210589 | F62: 0.11369902 | G62: 0.073029403 | H62: 0.74145207 | V62: 0.0595 | W62: 0.17912139 | X62: 0 | Y62: -1e-06 | Z62: 0 | AA62: 0 | AB62: 0 | AC62: 0.98980937
A63: 44075 | B63: =1/68 -> 0.014705882 | C63: -0.071040042 | D63: -0.0038931092 | E63: -0.055763273 | F63: -0.023390163 | G63: 0.011776526 | H63: -0.13908733
A64: 44105 | B64: =1/68 -> 0.014705882 | C64: 0.12616356 | D64: -0.029259487 | E64: -0.048577103 | F64: -0.051845627 | G64: -0.0082910014 | H64: -0.09549894
A65: 44136 | B65: =1/68 -> 0.014705882 | C65: 0.13794154 | D65: -0.051133401 | E65: 0.031445795 | F65: 0.13377915 | G65: 0.10118908 | H65: 0.4627357
A66: 44166 | B66: =1/68 -> 0.014705882 | C66: 0.041196076 | D66: 0.13511655 | E66: 0.10195632 | F66: 0.012930807 | G66: -0.056548155 | H66: 0.24325231
A67: 44197 | B67: =1/68 -> 0.014705882 | C67: -0.04878652 | D67: -0.11822406 | E67: -0.01542353 | F67: -0.017251046 | G67: -0.021827514 | H67: 0.12450586
A68: 44228 | B68: =1/68 -> 0.014705882 | C68: 0.11608432 | D68: 0.033920992 | E68: 0.012133888 | F68: 0.055470225 | G68: -0.075236826 | H68: -0.14874047
A69: 44256 | B69: =1/68 -> 0.014705882 | C69: -0.028355314 | D69: 0.11239098 | E69: -0.031901278 | F69: 0.062201182 | G69: 0.045489544 | H69: -0.011206524
A70: 44287 | B70: =1/68 -> 0.014705882 | C70: 0.091125734 | D70: 0.053655444 | E70: -0.015699886 | F70: 0.076251657 | G70: 0.034338219 | H70: 0.062147245
A71: 44317 | B71: =1/68 -> 0.014705882 | C71: -0.0093244648 | D71: -0.015460099 | E71: -0.020760655 | F71: 0.052700452 | G71: 0.01515255 | H71: -0.11871339
A72: 44348 | B72: =1/68 -> 0.014705882 | C72: -0.06500388 | D72: -0.0087808242 | E72: 0.050516147 | F72: -0.039800957 | G72: -0.003211853 | H72: 0.087137397
A73: 44378 | B73: =1/68 -> 0.014705882 | C73: 0.06675341 | D73: -0.031055858 | E73: -0.020143531 | F73: 0.0013313039 | G73: 0.010849478 | H73: 0.01103428
A74: 44409 | B74: =1/68 -> 0.014705882 | C74: 0.089960908 | D74: 0.013424093 | E74: 0.09973529 | F74: 0.026878363 | G74: 0.038933682 | H74: 0.070605294
A75: 44440 | B75: =1/68 -> 0.014705882 | C75: -0.029849958 | D75: -0.05875022 | E75: 0.041198919 | F75: -0.029674145 | G75: -0.04823224 | H75: 0.075626619
V80: return | W80: sd
U81: Question 3, b | V81: 0.015 | W81: 0.033615878 | X81: 0.2277668 | Y81: 0.22227992 | Z81: 0.046150964 | AA81: 0.17357406 | AB81: 0.32003662
V82: 0.02 | W82: 0.039834064 | X82: 0.10044347 | Y82: 0.35478064 | Z82: 0.23299353 | AA82: 0.0063298712 | AB82: 0.29526086
V83: 0.025 | W83: 0.056881555 | X83: -1e-06 | Y83: 0.43759172 | Z83: 0.45856195 | AA83: 0 | AB83: 0.0936557
V84: 0.03 | W84: 0.083462695 | X84: 0 | Y84: 0.15999845 | Z84: 0.82980991 | AA84: 0 | AB84: 0
AC85: 0
V86: 0.015 | W86: 0.033615878 | X86: 0.22775989 | Y86: 0.2222827 | Z86: 0.046148928 | AA86: 0.17357832 | AB86: 0.32003853 | AC86: 0.061753022
V87: 0.02 | W87: 0.036442341 | X87: 0.19769331 | Y87: 0.30816413 | Z87: 0.11565319 | AA87: 0.010997812 | AB87: 0.29554691 | AC87: 0.13071019
V88: 0.025 | W88: 0.044902762 | X88: 0.10823868 | Y88: 0.36089188 | Z88: 0.18036698 | AA88: 0 | AB88: 0.20960064 | AC88: 0.19968824
V89: 0.03 | W89: 0.056934502 | X89: 0.01367135 | Y89: 0.41158444 | Z89: 0.24569038 | AA89: 0 | AB89: 0.11917396
V91: When adding TSLA to the mix, we can further diversify the portfolio, and concsequetnly reduce our standard deviation at given rates of return. Tis is reflected in the data-- the standard deviations are lower for the portfolio that includes tesla then the portfolio that doesn't when comparing at the same return rates. Additionally, as the return gets larger, the differnece in standard devciation becomes larger when comparing the two portfolios; there is a greater diversification effect of the portfoli with TSLA as the return gets higher because we can use a higher percentage weight for tesla.

Sheet Original Data
A1: Vanguard Small-Cap Value ETFVBR (U.S.: NYSE Arca) | I1: S&P 500 | P1: Vanguard U.S. Momentum Factor ETFVFMO (U.S.: Cboe BZX) | X1: Cat Bond | AE1: US Treasury | AL1: Gold Price
A2: Date | B2: Open | C2: High | D2: Low | E2: Close | F2: Volume | I2: Date | J2: Open | K2: High | L2: Low | M2: Close | P2: Date | Q2: Open | R2: High | S2: Low | T2: Close | U2: Volume | X2: Date | Y2: Open | Z2: High | AA2: Low | AB2: Close | AE2: Date | AF2: Open | AG2: High | AH2: Low | AI2: Close | AL2: Date | AM2: Open | AN2: High | AO2: Low | AP2: Close | AQ2: Volume
A3: 45639 | B3: 210.03 | C3: 210.1 | D3: 208.1 | E3: 208.86 | F3: 407138 | G3: =(E3-E4)/E4 -> -0.0060438776 | H3: =AVERAGE(G3:G2833) -> 0.00038490786 | I3: 45639 | J3: 6068.17 | K3: 6078.58 | L3: 6035.77 | M3: 6051.09 | N3: =(L3-L4)/L4 -> -0.0025581491 | O3: =AVERAGE(N3:N2833) -> 0.00049533868 | P3: 45639 | Q3: 172.54 | R3: 172.99 | S3: 171.41 | T3: 172.13 | U3: 31945 | V3: =(T3-T4)/T4 -> -0.0013923537 | W3: =AVERAGE(V3:V2833) -> 0.00057422931 | X3: 45639 | Y3: 10.74 | Z3: 10.74 | AA3: 10.74 | AB3: 10.74 | AC3: =(AA3-AA4)/AA4 -> 0.00093196645 | AD3: =AVERAGE(AC3:AC2833) -> 0.00017137429 | AE3: 45639 | AF3: 4.547 | AG3: 4.623 | AH3: 4.534 | AI3: 4.6 | AJ3: =(AH3-AH4)/AH4 -> 0.011827717 | AK3: =AVERAGE(AJ3:AJ2833) -> 0.00032729879 | AL3: 45639 | AM3: 245.67 | AN3: 245.94 | AO3: 244.27 | AP3: 244.29 | AQ3: 6602591 | AR3: =(AP3-AP4)/AP4 -> -0.012091556 | AS3: =AVERAGE(AR3:AR2833) -> 0.00027360319
A4: 45638 | B4: 211.19 | C4: 211.64 | D4: 210.05 | E4: 210.13 | F4: 355045 | G4: =(E4-E5)/E5 -> -0.006195611 | H4: =H3*365 -> 0.14049137 | I4: 45638 | J4: 6074.29 | K4: 6079.68 | L4: 6051.25 | M4: 6051.25 | N4: =(L4-L5)/L5 -> -0.0014686105 | O4: =O3*365 -> 0.18079862 | P4: 45638 | Q4: 173.86 | R4: 173.92 | S4: 172.2 | T4: 172.37 | U4: 36733 | V4: =(T4-T5)/T5 -> -0.0098799472 | W4: =W3*365 -> 0.2095937 | X4: 45638 | Y4: 10.73 | Z4: 10.73 | AA4: 10.73 | AB4: 10.73 | AC4: =(AA4-AA5)/AA5 -> 0 | AD4: =AD3*365 -> 0.062551617 | AE4: 45638 | AF4: 4.484 | AG4: 4.562 | AH4: 4.481 | AI4: 4.547 | AJ4: =(AH4-AH5)/AH5 -> 0.016791468 | AK4: =AK3*365 -> 0.11946406 | AL4: 45638 | AM4: 247.81 | AN4: 248.24 | AO4: 246.87 | AP4: 247.28 | AQ4: 10149590 | AR4: =(AP4-AP5)/AP5 -> -0.014663691 | AS4: =AS3*365 -> 0.099865166
A5: 45637 | B5: 212.2 | C5: 212.344 | D5: 211 | E5: 211.44 | F5: 361984 | G5: =(E5-E6)/E6 -> 0.0030836377 | I5: 45637 | J5: 6060.15 | K5: 6092.59 | L5: 6060.15 | M5: 6084.19 | N5: =(L5-L6)/L6 -> 0.0050183337 | P5: 45637 | Q5: 173.81 | R5: 174.61 | S5: 173.23 | T5: 174.09 | U5: 28427 | V5: =(T5-T6)/T6 -> 0.0095685456 | X5: 45637 | Y5: 10.73 | Z5: 10.73 | AA5: 10.73 | AB5: 10.73 | AC5: =(AA5-AA6)/AA6 -> 0.00093283582 | AE5: 45637 | AF5: 4.414 | AG5: 4.495 | AH5: 4.407 | AI5: 4.484 | AJ5: =(AH5-AH6)/AH6 -> 0.0070840951 | AL5: 45637 | AM5: 249.35 | AN5: 251.26 | AO5: 248.97 | AP5: 250.96 | AQ5: 11033780 | AR5: =(AP5-AP6)/AP6 -> 0.0095337705
A6: 45636 | B6: 212.1 | C6: 212.3094 | D6: 209.8146 | E6: 210.79 | F6: 424658 | G6: =(E6-E7)/E7 -> -0.0061763319 | I6: 45636 | J6: 6057.59 | K6: 6065.4 | L6: 6029.89 | M6: 6034.91 | N6: =(L6-L7)/L7 -> -0.0030982222 | P6: 45636 | Q6: 173.74 | R6: 173.98 | S6: 172.07 | T6: 172.44 | U6: 63894 | V6: =(T6-T7)/T7 -> -0.0056510206 | X6: 45636 | Y6: 10.72 | Z6: 10.72 | AA6: 10.72 | AB6: 10.72 | AC6: =(AA6-AA7)/AA7 -> 0 | AE6: 45636 | AF6: 4.389 | AG6: 4.436 | AH6: 4.376 | AI6: 4.414 | AJ6: =(AH6-AH7)/AH7 -> 0.012494216 | AL6: 45636 | AM6: 247.86 | AN6: 248.86 | AO6: 247.83 | AP6: 248.59 | AQ6: 4641963 | AR6: =(AP6-AP7)/AP7 -> 0.01316433
A7: 45635 | B7: 213.77 | C7: 214.3599 | D7: 211.91 | E7: 212.1 | F7: 303347 | G7: =(E7-E8)/E8 -> -0.0029615005 | I7: 45635 | J7: 6083.01 | K7: 6088.51 | L7: 6048.63 | M7: 6052.85 | N7: =(L7-L8)/L8 -> -0.005156267 | P7: 45635 | Q7: 178.15 | R7: 178.15 | S7: 173.34 | T7: 173.42 | U7: 46715 | V7: =(T7-T8)/T8 -> -0.023261053 | X7: 45635 | Y7: 10.72 | Z7: 10.72 | AA7: 10.72 | AB7: 10.72 | AC7: =(AA7-AA8)/AA8 -> 0.00093370682 | AE7: 45635 | AF7: 4.34 | AG7: 4.394 | AH7: 4.322 | AI7: 4.389 | AJ7: =(AH7-AH8)/AH8 -> 0.00839944 | AL7: 45635 | AM7: 246.28 | AN7: 247.11 | AO7: 245.2595 | AP7: 245.36 | AQ7: 4711536 | AR7: =(AP7-AP8)/AP8 -> 0.0099197366
A8: 45632 | B8: 214.18 | C8: 214.7 | D8: 212.1036 | E8: 212.73 | F8: 538198 | G8: =(E8-E9)/E9 -> -0.00042289259 | I8: 45632 | J8: 6081.38 | K8: 6099.97 | L8: 6079.98 | M8: 6090.27 | N8: =(L8-L9)/L9 -> 0.0011658351 | P8: 45632 | Q8: 177.75 | R8: 177.86 | S8: 177.03 | T8: 177.55 | U8: 54207 | V8: =(T8-T9)/T9 -> 0.0040717073 | X8: 45632 | Y8: 10.71 | Z8: 10.71 | AA8: 10.71 | AB8: 10.71 | AC8: =(AA8-AA9)/AA9 -> 0.0018709074 | AE8: 45632 | AF8: 4.342 | AG8: 4.356 | AH8: 4.286 | AI8: 4.34 | AJ8: =(AH8-AH9)/AH9 -> -0.0099330099 | AL8: 45632 | AM8: 242.79 | AN8: 243.86 | AO8: 242.435 | AP8: 242.95 | AQ8: 3540698 | AR8: =(AP8-AP9)/AP9 -> 0.00037058388
A9: 45631 | B9: 214.83 | C9: 214.95 | D9: 212.78 | E9: 212.82 | F9: 366772 | G9: =(E9-E10)/E10 -> -0.0075545607 | I9: 45631 | J9: 6089.03 | K9: 6094.55 | L9: 6072.9 | M9: 6075.11 | N9: =(L9-L10)/L10 -> 0.0019534537 | P9: 45631 | Q9: 178.06 | R9: 178.07 | S9: 176.81 | T9: 176.83 | U9: 42686 | V9: =(T9-T10)/T10 -> -0.0057351701 | X9: 45631 | Y9: 10.69 | Z9: 10.69 | AA9: 10.69 | AB9: 10.69 | AC9: =(AA9-AA10)/AA10 -> 0 | AE9: 45631 | AF9: 4.346 | AG9: 4.382 | AH9: 4.329 | AI9: 4.342 | AJ9: =(AH9-AH10)/AH10 -> -0.0032235782 | AL9: 45631 | AM9: 244.16 | AN9: 244.38 | AO9: 242.15 | AP9: 242.86 | AQ9: 4806206 | AR9: =(AP9-AP10)/AP10 -> -0.0073977194
A10: 45630 | B10: 214.38 | C10: 214.91 | D10: 213.2601 | E10: 214.44 | F10: 406042 | G10: =(E10-E11)/E11 -> 0.00027987685 | I10: 45630 | J10: 6069.39 | K10: 6089.84 | L10: 6061.06 | M10: 6086.49 | N10: =(L10-L11)/L11 -> 0.0045861448 | P10: 45630 | Q10: 177.27 | R10: 177.85 | S10: 176.53 | T10: 177.85 | U10: 103234 | V10: =(T10-T11)/T11 -> 0.0062804119 | X10: 45630 | Y10: 10.69 | Z10: 10.69 | AA10: 10.69 | AB10: 10.69 | AC10: =(AA10-AA11)/AA11 -> 0 | AE10: 45630 | AF10: 4.409 | AG10: 4.452 | AH10: 4.343 | AI10: 4.346 | AJ10: =(AH10-AH11)/AH11 -> -0.00023020258 | AL10: 45630 | AM10: 244.93 | AN10: 245.34 | AO10: 244.365 | AP10: 244.67 | AQ10: 4608584 | AR10: =(AP10-AP11)/AP11 -> 0.0030336572
A11: 45629 | B11: 215.92 | C11: 215.92 | D11: 213.73 | E11: 214.38 | F11: 610178 | G11: =(E11-E12)/E12 -> -0.0050125313 | I11: 45629 | J11: 6042.97 | K11: 6052.07 | L11: 6033.39 | M11: 6049.88 | N11: =(L11-L12)/L12 -> -0.00032144058 | P11: 45629 | Q11: 177.57 | R11: 179.37 | S11: 176.22 | T11: 176.74 | U11: 42127 | V11: =(T11-T12)/T12 -> -0.0022017727 | X11: 45629 | Y11: 10.69 | Z11: 10.69 | AA11: 10.69 | AB11: 10.69 | AC11: =(AA11-AA12)/AA12 -> -0.094067797 | AE11: 45629 | AF11: 4.359 | AG11: 4.418 | AH11: 4.344 | AI11: 4.409 | AJ11: =(AH11-AH12)/AH12 -> 0 | AL11: 45629 | AM11: 244.96 | AN11: 245.18 | AO11: 243.3 | AP11: 243.93 | AQ11: 3557819 | AR11: =(AP11-AP12)/AP12 -> 0.0020128163
A12: 45628 | B12: 216.22 | C12: 216.455 | D12: 214.5 | E12: 215.46 | F12: 598484 | G12: =(E12-E13)/E13 -> -0.0034227567 | I12: 45628 | J12: 6040.11 | K12: 6053.58 | L12: 6035.33 | M12: 6047.15 | N12: =(L12-L13)/L13 -> 0.0052215364 | P12: 45628 | Q12: 178.95 | R12: 179.45 | S12: 176.93 | T12: 177.13 | U12: 74458 | V12: =(T12-T13)/T13 -> -0.005669698 | X12: 45628 | Y12: 11.8 | Z12: 11.8 | AA12: 11.8 | AB12: 11.8 | AC12: =(AA12-AA13)/AA13 -> 0.00084817642 | AE12: 45628 | AF12: 4.362 | AG12: 4.418 | AH12: 4.344 | AI12: 4.359 | AJ12: =(AH12-AH13)/AH13 -> -0.0027548209 | AL12: 45628 | AM12: 244.46 | AN12: 244.5805 | AO12: 243.14 | AP12: 243.44 | AQ12: 4765001 | AR12: =(AP12-AP13)/AP13 -> -0.0087544281
A13: 45625 | B13: 216.86 | C13: 217.8099 | D13: 215.98 | E13: 216.2 | F13: 224649 | G13: =(E13-E14)/E14 -> 0.0017607265 | I13: 45625 | J13: 6003.98 | K13: 6044.17 | L13: 6003.98 | M13: 6032.38 | N13: =(L13-L14)/L14 -> 0.0031930518 | P13: 45625 | Q13: 177.91 | R13: 179.03 | S13: 177.91 | T13: 178.14 | U13: 33584 | V13: =(T13-T14)/T14 -> 0.0030405405 | X13: 45625 | Y13: 11.79 | Z13: 11.79 | AA13: 11.79 | AB13: 11.79 | AC13: =(AA13-AA14)/AA14 -> 0.00084889643 | AE13: 45625 | AF13: 4.432 | AG13: 4.437 | AH13: 4.356 | AI13: 4.362 | AJ13: =(AH13-AH14)/AH14 -> -0.012468828 | AL13: 45625 | AM13: 245.25 | AN13: 245.81 | AO13: 244.73 | AP13: 245.59 | AQ13: 2708494 | AR13: =(AP13-AP14)/AP14 -> 0.0086245842
A14: 45623 | B14: 217 | C14: 218.4 | D14: 215.675 | E14: 215.82 | F14: 338066 | G14: =(E14-E15)/E15 -> -0.0016652789 | I14: 45623 | J14: 6014.11 | K14: 6020.16 | L14: 5984.87 | M14: 5998.74 | N14: =(L14-L15)/L15 -> -0.0012349243 | P14: 45623 | Q14: 179.09 | R14: 179.35 | S14: 177.22 | T14: 177.6 | U14: 56909 | V14: =(T14-T15)/T15 -> -0.0044284994 | X14: 45623 | Y14: 11.78 | Z14: 11.78 | AA14: 11.78 | AB14: 11.78 | AC14: =(AA14-AA15)/AA15 -> 0 | AE14: 45623 | AF14: 4.483 | AG14: 4.488 | AH14: 4.411 | AI14: 4.433 | AJ14: =(AH14-AH15)/AH15 -> -0.0085412452 | AL14: 45623 | AM14: 244.85 | AN14: 245.1835 | AO14: 243.2 | AP14: 243.49 | AQ14: 6930587 | AR14: =(AP14-AP15)/AP15 -> 0.0022226796
A15: 45622 | B15: 216.89 | C15: 216.89 | D15: 214.89 | E15: 216.18 | F15: 721990 | G15: =(E15-E16)/E16 -> -0.0051541647 | I15: 45622 | J15: 6000.03 | K15: 6025.42 | L15: 5992.27 | M15: 6021.63 | N15: =(L15-L16)/L16 -> 0.0047552696 | P15: 45622 | Q15: 178.27 | R15: 178.48 | S15: 177.44 | T15: 178.39 | U15: 91407 | V15: =(T15-T16)/T16 -> 0.0023036296 | X15: 45622 | Y15: 11.78 | Z15: 11.78 | AA15: 11.78 | AB15: 11.78 | AC15: =(AA15-AA16)/AA16 -> 0 | AE15: 45622 | AF15: 4.469 | AG15: 4.509 | AH15: 4.449 | AI15: 4.483 | AJ15: =(AH15-AH16)/AH16 -> 0.0011251125 | AL15: 45622 | AM15: 242.71 | AN15: 243.09 | AO15: 241.58 | AP15: 242.95 | AQ15: 4945897 | AR15: =(AP15-AP16)/AP16 -> 0.0019383042
A16: 45621 | B16: 215.84 | C16: 219.005 | D16: 215.84 | E16: 217.3 | F16: 1023846 | G16: =(E16-E17)/E17 -> 0.01532567 | I16: 45621 | J16: 5992.28 | K16: 6020.75 | L16: 5963.91 | M16: 5987.37 | N16: =(L16-L17)/L17 -> 0.0032888318 | P16: 45621 | Q16: 179.02 | R16: 179.56 | S16: 177.42 | T16: 177.98 | U16: 82778 | V16: =(T16-T17)/T17 -> 0.0051959788 | X16: 45621 | Y16: 11.78 | Z16: 11.78 | AA16: 11.78 | AB16: 11.78 | AC16: =(AA16-AA17)/AA17 -> 0.00084961767 | AE16: 45621 | AF16: 4.584 | AG16: 4.584 | AH16: 4.444 | AI16: 4.469 | AJ16: =(AH16-AH17)/AH17 -> -0.027571116 | AL16: 45621 | AM16: 244.27 | AN16: 244.3999 | AO16: 241.48 | AP16: 242.48 | AQ16: 10733110 | AR16: =(AP16-AP17)/AP17 -> -0.029458854
... A475: 44956 | B475: 169.77 | C475: 171.28 | D475: 169.05 | E475: 169.16 | F475: 474734 | G475: =(E475-E476)/E476 -> -0.010123471 | I475: 44956 | J475: 4049.27 | K475: 4063.85 | L475: 4015.55 | M475: 4017.77 | N475: =(L475-L476)/L476 -> -0.0081878134 | P475: 44956 | Q475: 117.98 | R475: 118.19 | S475: 116.85 | T475: 116.85 | U475: 21198 | V475: =(T475-T476)/T476 -> -0.01142132 | X475: 44956 | Y475: 9.99 | Z475: 9.99 | AA475: 9.99 | AB475: 9.99 | AC475: =(AA475-AA476)/AA476 -> -0.001 | AE475: 44953 | AF475: 3.641 | AG475: 3.689 | AH475: 3.621 | AI475: 3.621 | AJ475: =(AH475-AH476)/AH476 -> 0.0086350975 | AL475: 44956 | AM475: 179.286 | AN475: 179.43 | AO475: 178.65 | AP475: 178.76 | AQ475: 4210726 | AR475: =(AP475-AP476)/AP476 -> -0.0025666778
A476: 44953 | B476: 169.78 | C476: 171.46 | D476: 169.3201 | E476: 170.89 | F476: 520074 | G476: =(E476-E477)/E477 -> 0.003582335 | I476: 44953 | J476: 4053.72 | K476: 4094.21 | L476: 4048.7 | M476: 4070.56 | N476: =(L476-L477)/L477 -> 0.008823185 | P476: 44953 | Q476: 118.53 | R476: 119.02 | S476: 118.11 | T476: 118.2 | U476: 10527 | V476: =(T476-T477)/T477 -> -0.0021105952 | X476: 44953 | Y476: 10 | Z476: 10 | AA476: 10 | AB476: 10 | AE476: 44952 | AF476: 3.596 | AG476: 3.667 | AH476: 3.59 | AI476: 3.641 | AJ476: =(AH476-AH477)/AH477 -> 0.0039149888 | AL476: 44953 | AM476: 179.27 | AN476: 179.72 | AO476: 178.262 | AP476: 179.22 | AQ476: 6052728 | AR476: =(AP476-AP477)/AP477 -> -0.0013929905
A477: 44952 | B477: 169.64 | C477: 170.4399 | D477: 168.21 | E477: 170.28 | F477: 412826 | G477: =(E477-E478)/E478 -> 0.0091862739 | I477: 44952 | J477: 4036.08 | K477: 4061.57 | L477: 4013.29 | M477: 4060.43 | N477: =(L477-L478)/L478 -> 0.01626463 | P477: 44952 | Q477: 118.73 | R477: 118.73 | S477: 117.59 | T477: 118.45 | U477: 11457 | V477: =(T477-T478)/T478 -> 0.0062866366 | AE477: 44951 | AF477: 3.608 | AG477: 3.645 | AH477: 3.576 | AI477: 3.596 | AJ477: =(AH477-AH478)/AH478 -> -0.0083194676 | AL477: 44952 | AM477: 180.146 | AN477: 180.265 | AO477: 178.46 | AP477: 179.47 | AQ477: 5860129 | AR477: =(AP477-AP478)/AP478 -> -0.0090552703
A478: 44951 | B478: 166.82 | C478: 168.81 | D478: 166.2 | E478: 168.73 | F478: 295842 | G478: =(E478-E479)/E479 -> 0.0033299637 | I478: 44951 | J478: 3982.71 | K478: 4019.55 | L478: 3949.06 | M478: 4016.22 | N478: =(L478-L479)/L479 -> -0.010208557 | P478: 44951 | Q478: 116.21 | R478: 117.71 | S478: 116.14 | T478: 117.71 | U478: 13297 | V478: =(T478-T479)/T479 -> 0.0014463161 | AE478: 44950 | AF478: 3.683 | AG478: 3.708 | AH478: 3.606 | AI478: 3.608 | AJ478: =(AH478-AH479)/AH479 -> -0.010970927 | AL478: 44951 | AM478: 179.35 | AN478: 181.22 | AO478: 179.2925 | AP478: 181.11 | AQ478: 6925348 | AR478: =(AP478-AP479)/AP479 -> 0.0046039494
A479: 44950 | B479: 167.88 | C479: 168.85 | D479: 167.1104 | E479: 168.17 | F479: 565724 | G479: =(E479-E480)/E480 -> -0.0026687226 | I479: 44950 | J479: 4001.74 | K479: 4023.92 | L479: 3989.79 | M479: 4016.95 | N479: =(L479-L480)/L480 -> 0.0045699006 | P479: 44950 | Q479: 117.16 | R479: 117.65 | S479: 116.5 | T479: 117.54 | U479: 20876 | V479: =(T479-T480)/T480 -> 0.0023023791 | AE479: 44949 | AF479: 3.653 | AG479: 3.722 | AH479: 3.646 | AI479: 3.683 | AJ479: =(AH479-AH480)/AH480 -> 0.0238697 | AL479: 44950 | AM479: 179.56 | AN479: 180.32 | AO479: 178.35 | AP479: 180.28 | AQ479: 4604628 | AR479: =(AP479-AP480)/AP480 -> 0.0036185492
A480: 44949 | B480: 167.38 | C480: 169.35 | D480: 166.94 | E480: 168.62 | F480: 510620 | G480: =(E480-E481)/E481 -> 0.010063496 | I480: 44949 | J480: 3978.14 | K480: 4039.31 | L480: 3971.64 | M480: 4019.81 | N480: =(L480-L481)/L481 -> 0.018928335 | P480: 44949 | Q480: 116.63 | R480: 117.79 | S480: 116.63 | T480: 117.27 | U480: 14479 | V480: =(T480-T481)/T481 -> 0.0066094421 | AE480: 44946 | AF480: 3.567 | AG480: 3.666 | AH480: 3.561 | AI480: 3.653 | AJ480: =(AH480-AH481)/AH481 -> 0.020636285 | AL480: 44949 | AM480: 178.35 | AN480: 179.69 | AO480: 177.78 | AP480: 179.63 | AQ480: 5265507 | AR480: =(AP480-AP481)/AP481 -> 0.001896369
A481: 44946 | B481: 164.91 | C481: 167.05 | D481: 163.79 | E481: 166.94 | F481: 510684 | G481: =(E481-E482)/E482 -> 0.016439357 | I481: 44946 | J481: 3909.04 | K481: 3972.96 | L481: 3897.86 | M481: 3972.61 | N481: =(L481-L482)/L482 -> 0.0031707305 | P481: 44946 | Q481: 115.62 | R481: 116.51 | S481: 115.5 | T481: 116.5 | U481: 13190 | V481: =(T481-T482)/T482 -> 0.012603216 | AE481: 44945 | AF481: 3.541 | AG481: 3.599 | AH481: 3.489 | AI481: 3.567 | AJ481: =(AH481-AH482)/AH482 -> -0.0068317677 | AL481: 44946 | AM481: 179.06 | AN481: 179.66 | AO481: 178.645 | AP481: 179.29 | AQ481: 5754818 | AR481: =(AP481-AP482)/AP482 -> -0.0033353716
A482: 44945 | B482: 164.7 | C482: 165.039 | D482: 163.2392 | E482: 164.24 | F482: 816711 | G482: =(E482-E483)/E483 -> -0.009468669 | I482: 44945 | J482: 3911.84 | K482: 3922.94 | L482: 3885.54 | M482: 3898.85 | N482: =(L482-L483)/L483 -> -0.010454364 | P482: 44945 | Q482: 115.3 | R482: 115.58 | S482: 114.75 | T482: 115.05 | U482: 17717 | V482: =(T482-T483)/T483 -> -0.0081896552 | AE482: 44944 | AF482: 3.661 | AG482: 3.672 | AH482: 3.513 | AI482: 3.541 | AJ482: =(AH482-AH483)/AH483 -> -0.027946873 | AL482: 44945 | AM482: 178.37 | AN482: 180.03 | AO482: 178.09 | AP482: 179.89 | AQ482: 6678687 | AR482: =(AP482-AP483)/AP483 -> 0.015868534
A483: 44944 | B483: 168.97 | C483: 169.77 | D483: 165.76 | E483: 165.81 | F483: 1111785 | G483: =(E483-E484)/E484 -> -0.015029108 | I483: 44944 | J483: 4002.25 | K483: 4014.16 | L483: 3926.59 | M483: 3928.86 | N483: =(L483-L484)/L484 -> -0.014551131 | P483: 44944 | Q483: 118.62 | R483: 118.74 | S483: 115.96 | T483: 116 | U483: 6872 | V483: =(T483-T484)/T484 -> -0.016365641 | AE483: 44943 | AF483: 3.614 | AG483: 3.699 | AH483: 3.614 | AI483: 3.661 | AJ483: =(AH483-AH484)/AH484 -> 0.01716859 | AL483: 44944 | AM483: 178.92 | AN483: 179.18 | AO483: 176.9 | AP483: 177.08 | AQ483: 5384664 | AR483: =(AP483-AP484)/AP484 -> -0.0028717833
A484: 44943 | B484: 168.87 | C484: 169.37 | D484: 168.065 | E484: 168.34 | F484: 483155 | G484: =(E484-E485)/E485 -> -0.002606944 | I484: 44943 | J484: 3999.28 | K484: 4015.39 | L484: 3984.57 | M484: 3990.97 | N484: =(L484-L485)/L485 -> 0.0093472859 | P484: 44943 | Q484: 118.21 | R484: 118.71 | S484: 117.75 | T484: 117.93 | U484: 15625 | V484: =(T484-T485)/T485 -> -0.0018620398 | AE484: 44939 | AF484: 3.579 | AG484: 3.634 | AH484: 3.553 | AI484: 3.614 | AJ484: =(AH484-AH485)/AH485 -> 0.00056322163 | AL484: 44943 | AM484: 178.21 | AN484: 178.24 | AO484: 177.09 | AP484: 177.59 | AQ484: 6610834 | AR484: =(AP484-AP485)/AP485 -> -0.0065450884
A485: 44939 | B485: 167.07 | C485: 169.07 | D485: 166.5706 | E485: 168.78 | F485: 395786 | G485: =(E485-E486)/E486 -> 0.0026137579 | I485: 44939 | J485: 3960.32 | K485: 4003.95 | L485: 3947.67 | M485: 3999.09 | N485: =(L485-L486)/L486 -> 0.0025675799 | P485: 44939 | Q485: 117.17 | R485: 118.23 | S485: 117.17 | T485: 118.15 | U485: 11470 | V485: =(T485-T486)/T486 -> 0.0047623097 | AE485: 44938 | AF485: 3.671 | AG485: 3.722 | AH485: 3.551 | AI485: 3.579 | AJ485: =(AH485-AH486)/AH486 -> -0.027123288 | AL485: 44939 | AM485: 176.96 | AN485: 178.825 | AO485: 176.8934 | AP485: 178.76 | AQ485: 7468768 | AR485: =(AP485-AP486)/AP486 -> 0.012001812
A486: 44938 | B486: 167.11 | C486: 168.67 | D486: 166.12 | E486: 168.34 | F486: 654802 | G486: =(E486-E487)/E487 -> 0.011476296 | I486: 44938 | J486: 3977.57 | K486: 3997.76 | L486: 3937.56 | M486: 3983.17 | N486: =(L486-L487)/L487 -> 0.0022960184 | P486: 44938 | Q486: 117.96 | R486: 117.96 | S486: 116.15 | T486: 117.59 | U486: 13326 | V486: =(T486-T487)/T487 -> 0.012572117 | AE486: 44937 | AF486: 3.755 | AG486: 3.755 | AH486: 3.65 | AI486: 3.671 | AJ486: =(AH486-AH487)/AH487 -> 0.00027404768 | AL486: 44938 | AM486: 176.01 | AN486: 176.71 | AO486: 174.88 | AP486: 176.64 | AQ486: 6936919 | AR486: =(AP486-AP487)/AP487 -> 0.011567976
A487: 44937 | B487: 164.91 | C487: 166.4894 | D487: 164.91 | E487: 166.43 | F487: 336598 | G487: =(E487-E488)/E488 -> 0.012532701 | I487: 44937 | J487: 3932.35 | K487: 3970.07 | L487: 3928.54 | M487: 3969.61 | N487: =(L487-L488)/L488 -> 0.013217995 | P487: 44937 | Q487: 116.1 | R487: 116.13 | S487: 115.61 | T487: 116.13 | U487: 7600 | V487: =(T487-T488)/T488 -> 0.0064130341 | AE487: 44936 | AF487: 3.659 | AG487: 3.771 | AH487: 3.649 | AI487: 3.755 | AJ487: =(AH487-AH488)/AH488 -> 0.0019220209 | AL487: 44937 | AM487: 174.76 | AN487: 174.79 | AO487: 173.72 | AP487: 174.62 | AQ487: 3374201 | AR487: =(AP487-AP488)/AP488 -> -0.00068673458
A488: 44936 | B488: 162.7 | C488: 164.398 | D488: 161.96 | E488: 164.37 | F488: 305689 | G488: =(E488-E489)/E489 -> 0.0090239411 | I488: 44936 | J488: 3888.57 | K488: 3919.83 | L488: 3877.29 | M488: 3919.25 | N488: =(L488-L489)/L489 -> -0.0033749569 | P488: 44936 | Q488: 114.08 | R488: 115.39 | S488: 114.08 | T488: 115.39 | U488: 7409 | V488: =(T488-T489)/T489 -> 0.012015436 | AE488: 44935 | AF488: 3.687 | AG488: 3.743 | AH488: 3.642 | AI488: 3.659 | AJ488: =(AH488-AH489)/AH489 -> -0.0089795918 | AL488: 44936 | AM488: 174.61 | AN488: 174.98 | AO488: 174.06 | AP488: 174.74 | AQ488: 4398411 | AR488: =(AP488-AP489)/AP489 -> 0.0036760482
... A1720: 43147 | B1720: 130.97 | C1720: 132.48 | D1720: 130.97 | E1720: 131.67 | F1720: 207090 | G1720: =(E1720-E1721)/E1721 -> 0.0035823171 | I1720: 43147 | J1720: 2727.14 | K1720: 2754.42 | L1720: 2725.11 | M1720: 2732.22 | N1720: =(L1720-L1721)/L1721 -> 0.013119837 | P1720: 43147 | Q1720: 77.35 | R1720: 77.72 | S1720: 77.32 | T1720: 77.57 | U1720: 4509 | V1720: =(T1720-T1721)/T1721 -> 0.0021963824 | AE1720: 43171 | AF1720: 3.165 | AG1720: 3.174 | AH1720: 3.12 | AI1720: 3.128 | AJ1720: =(AH1720-AH1721)/AH1721 -> -0.0022385673 | AL1720: 43147 | AM1720: 128.3 | AN1720: 128.7 | AO1720: 127.5689 | AP1720: 127.96 | AQ1720: 7956921 | AR1720: =(AP1720-AP1721)/AP1721 -> -0.0032715376
A1721: 43146 | B1721: 131.02 | C1721: 131.22 | D1721: 129.68 | E1721: 131.2 | F1721: 257374 | G1721: =(E1721-E1722)/E1722 -> 0.0088427528 | I1721: 43146 | J1721: 2713.46 | K1721: 2731.51 | L1721: 2689.82 | M1721: 2731.2 | N1721: =(L1721-L1722)/L1722 -> 0.015459422 | P1721: 43146 | Q1721: 77.4 | R1721: 77.4 | S1721: 77.4 | T1721: 77.4 | U1721: 196 | AE1721: 43168 | AF1721: 3.134 | AG1721: 3.178 | AH1721: 3.127 | AI1721: 3.16 | AJ1721: =(AH1721-AH1722)/AH1722 -> 0.0054662379 | AL1721: 43146 | AM1721: 128.43 | AN1721: 128.569 | AO1721: 127.94 | AP1721: 128.38 | AQ1721: 7276495 | AR1721: =(AP1721-AP1722)/AP1722 -> 0.0011697731
A1722: 43145 | B1722: 127.24 | C1722: 130.24 | D1722: 127.17 | E1722: 130.05 | F1722: 302793 | G1722: =(E1722-E1723)/E1723 -> 0.015698219 | I1722: 43145 | J1722: 2651.21 | K1722: 2702.1 | L1722: 2648.87 | M1722: 2698.63 | N1722: =(L1722-L1723)/L1723 -> 0.0044708541 | AE1722: 43167 | AF1722: 3.151 | AG1722: 3.163 | AH1722: 3.11 | AI1722: 3.124 | AJ1722: =(AH1722-AH1723)/AH1723 -> -0.0016051364 | AL1722: 43145 | AM1722: 126.47 | AN1722: 128.59 | AO1722: 126.29 | AP1722: 128.23 | AQ1722: 16416410 | AR1722: =(AP1722-AP1723)/AP1723 -> 0.017052665
A1723: 43144 | B1723: 127.13 | C1723: 128.3 | D1723: 126.84 | E1723: 128.04 | F1723: 288214 | G1723: =(E1723-E1724)/E1724 -> 0.0017211704 | I1723: 43144 | J1723: 2646.27 | K1723: 2668.84 | L1723: 2637.08 | M1723: 2662.94 | N1723: =(L1723-L1724)/L1724 -> 0.0055787527 | AE1723: 43166 | AF1723: 3.12 | AG1723: 3.16 | AH1723: 3.115 | AI1723: 3.148 | AJ1723: =(AH1723-AH1724)/AH1724 -> -0.0019224607 | AL1723: 43144 | AM1723: 125.67 | AN1723: 126.18 | AO1723: 125.52 | AP1723: 126.08 | AQ1723: 5321327 | AR1723: =(AP1723-AP1724)/AP1724 -> 0.0056632368
A1724: 43143 | B1724: 126.86 | C1724: 128.4899 | D1724: 125.8698 | E1724: 127.82 | F1724: 326245 | G1724: =(E1724-E1725)/E1725 -> 0.0099557522 | I1724: 43143 | J1724: 2636.75 | K1724: 2672.61 | L1724: 2622.45 | M1724: 2656 | N1724: =(L1724-L1725)/L1725 -> 0.035440579 | AE1724: 43165 | AF1724: 3.152 | AG1724: 3.174 | AH1724: 3.121 | AI1724: 3.155 | AJ1724: =(AH1724-AH1725)/AH1725 -> 0.0087265676 | AL1724: 43143 | AM1724: 125.19 | AN1724: 125.82 | AO1724: 125.11 | AP1724: 125.37 | AQ1724: 6984852 | AR1724: =(AP1724-AP1725)/AP1725 -> 0.0048088483
A1725: 43140 | B1725: 126.46 | C1725: 127.32 | D1725: 123.03 | E1725: 126.56 | F1725: 649181 | G1725: =(E1725-E1726)/E1726 -> 0.0088481467 | I1725: 43140 | J1725: 2601.78 | K1725: 2638.67 | L1725: 2532.69 | M1725: 2619.55 | N1725: =(L1725-L1726)/L1726 -> -0.018550237 | AE1725: 43164 | AF1725: 3.135 | AG1725: 3.175 | AH1725: 3.094 | AI1725: 3.155 | AJ1725: =(AH1725-AH1726)/AH1726 -> 0.0071614583 | AL1725: 43140 | AM1725: 124.65 | AN1725: 125.14 | AO1725: 124.39 | AP1725: 124.77 | AQ1725: 14140700 | AR1725: =(AP1725-AP1726)/AP1726 -> -0.0016802688
A1726: 43139 | B1726: 129.29 | C1726: 129.3311 | D1726: 125.4201 | E1726: 125.45 | F1726: 343849 | G1726: =(E1726-E1727)/E1727 -> -0.028498412 | I1726: 43139 | J1726: 2685.01 | K1726: 2685.27 | L1726: 2580.56 | M1726: 2581 | N1726: =(L1726-L1727)/L1727 -> -0.037582095 | AE1726: 43161 | AF1726: 3.094 | AG1726: 3.148 | AH1726: 3.072 | AI1726: 3.139 | AJ1726: =(AH1726-AH1727)/AH1727 -> -0.0019493177 | AL1726: 43139 | AM1726: 124.92 | AN1726: 125.44 | AO1726: 124.51 | AP1726: 124.98 | AQ1726: 7343637 | AR1726: =(AP1726-AP1727)/AP1727 -> 0.0015225579
A1727: 43138 | B1727: 128.91 | C1727: 130.18 | D1727: 128.235 | E1727: 129.13 | F1727: 360412 | G1727: =(E1727-E1728)/E1728 -> -0.00038705682 | I1727: 43138 | J1727: 2690.95 | K1727: 2727.67 | L1727: 2681.33 | M1727: 2681.66 | N1727: =(L1727-L1728)/L1728 -> 0.034036875 | AE1727: 43160 | AF1727: 3.129 | AG1727: 3.145 | AH1727: 3.078 | AI1727: 3.088 | AJ1727: =(AH1727-AH1728)/AH1728 -> -0.014724712 | AL1727: 43138 | AM1727: 125.48 | AN1727: 125.77 | AO1727: 124.41 | AP1727: 124.79 | AQ1727: 8558460 | AR1727: =(AP1727-AP1728)/AP1728 -> -0.0047056947
A1728: 43137 | B1728: 125.36 | C1728: 129.6815 | D1728: 124.51 | E1728: 129.18 | F1728: 847366 | G1728: =(E1728-E1729)/E1729 -> 0.01111459 | I1728: 43137 | J1728: 2614.78 | K1728: 2701.04 | L1728: 2593.07 | M1728: 2695.14 | N1728: =(L1728-L1729)/L1729 -> -0.017095183 | AE1728: 43159 | AF1728: 3.16 | AG1728: 3.171 | AH1728: 3.124 | AI1728: 3.126 | AJ1728: =(AH1728-AH1729)/AH1729 -> -0.002872646 | AL1728: 43137 | AM1728: 126.54 | AN1728: 126.55 | AO1728: 125.22 | AP1728: 125.38 | AQ1728: 17672449 | AR1728: =(AP1728-AP1729)/AP1729 -> -0.010496409
A1729: 43136 | B1729: 131.6 | C1729: 132.6 | D1729: 127.76 | E1729: 127.76 | F1729: 681611 | G1729: =(E1729-E1730)/E1730 -> -0.037734428 | I1729: 43136 | J1729: 2741.06 | K1729: 2763.39 | L1729: 2638.17 | M1729: 2648.94 | N1729: =(L1729-L1730)/L1730 -> -0.044130914 | AE1729: 43158 | AF1729: 3.152 | AG1729: 3.199 | AH1729: 3.133 | AI1729: 3.159 | AJ1729: =(AH1729-AH1730)/AH1730 -> 0.0038449215 | AL1729: 43136 | AM1729: 126.82 | AN1729: 127.31 | AO1729: 126.44 | AP1729: 126.71 | AQ1729: 13596330 | AR1729: =(AP1729-AP1730)/AP1730 -> 0.0025318459
A1730: 43133 | B1730: 134.71 | C1730: 134.7749 | D1730: 132.58 | E1730: 132.77 | F1730: 409977 | G1730: =(E1730-E1731)/E1731 -> -0.020509037 | I1730: 43133 | J1730: 2808.92 | K1730: 2808.92 | L1730: 2759.97 | M1730: 2762.13 | N1730: =(L1730-L1731)/L1731 -> -0.018747111 | AE1730: 43157 | AF1730: 3.159 | AG1730: 3.164 | AH1730: 3.121 | AI1730: 3.155 | AJ1730: =(AH1730-AH1731)/AH1731 -> -0.0092063492 | AL1730: 43133 | AM1730: 126.81 | AN1730: 126.85 | AO1730: 125.955 | AP1730: 126.39 | AQ1730: 16789211 | AR1730: =(AP1730-AP1731)/AP1731 -> -0.013117826
A1731: 43132 | B1731: 134.92 | C1731: 135.81 | D1731: 134.6001 | E1731: 135.55 | F1731: 274526 | G1731: =(E1731-E1732)/E1732 -> 0.0015516477 | I1731: 43132 | J1731: 2816.45 | K1731: 2835.96 | L1731: 2812.7 | M1731: 2821.98 | N1731: =(L1731-L1732)/L1732 -> -0.00012086568 | AE1731: 43154 | AF1731: 3.214 | AG1731: 3.225 | AH1731: 3.15 | AI1731: 3.157 | AJ1731: =(AH1731-AH1732)/AH1732 -> -0.0091223655 | AL1731: 43132 | AM1731: 127.18 | AN1731: 128.15 | AO1731: 127.08 | AP1731: 128.07 | AQ1731: 10854640 | AR1731: =(AP1731-AP1732)/AP1732 -> 0.0032902468
A1732: 43131 | B1732: 136.35 | C1732: 136.83 | D1732: 134.8206 | E1732: 135.34 | F1732: 970935 | G1732: =(E1732-E1733)/E1733 -> -0.0036074505 | I1732: 43131 | J1732: 2832.41 | K1732: 2839.26 | L1732: 2813.04 | M1732: 2823.81 | N1732: =(L1732-L1733)/L1733 -> -0.0018557484 | AE1732: 43153 | AF1732: 3.216 | AG1732: 3.219 | AH1732: 3.179 | AI1732: 3.206 | AJ1732: =(AH1732-AH1733)/AH1733 -> 0.012742912 | AL1732: 43131 | AM1732: 127.45 | AN1732: 127.85 | AO1732: 126.4 | AP1732: 127.65 | AQ1732: 13418900 | AR1732: =(AP1732-AP1733)/AP1733 -> 0.00670347
A1733: 43130 | B1733: 136.35 | C1733: 136.7399 | D1733: 135.52 | E1733: 135.83 | F1733: 1001833 | G1733: =(E1733-E1734)/E1734 -> -0.010129719 | I1733: 43130 | J1733: 2832.74 | K1733: 2837.75 | L1733: 2818.27 | M1733: 2822.43 | N1733: =(L1733-L1734)/L1734 -> -0.011646584 | AE1733: 43152 | AF1733: 3.155 | AG1733: 3.232 | AH1733: 3.139 | AI1733: 3.223 | AJ1733: =(AH1733-AH1734)/AH1734 -> 0.0006375518 | AL1733: 43130 | AM1733: 127.91 | AN1733: 127.9167 | AO1733: 126.74 | AP1733: 126.8 | AQ1733: 9736105 | AR1733: =(AP1733-AP1734)/AP1734 -> -0.0043188064
... A2833: 41534 | B2833: 89.3 | C2833: 89.88 | D2833: 89.3 | E2833: 89.85 | F2833: 81707 | G2833: =(E2833-E2834)/E2834 -> 0.0066099037 | I2833: 41534 | J2833: 1697.73 | K2833: 1705.52 | L2833: 1697.73 | M2833: 1704.76 | N2833: =(L2833-L2834)/L2834 -> 0.0035644618 | AE2833: 41550 | AF2833: 3.704 | AG2833: 3.732 | AH2833: 3.676 | AI2833: 3.708 | AJ2833: =(AH2833-AH2834)/AH2834 -> 0.0013620267 | AL2833: 41534 | AM2833: 126.81 | AN2833: 126.99 | AO2833: 126.11 | AP2833: 126.5 | AQ2833: 8135454 | AR2833: =(AP2833-AP2834)/AP2834 -> 0.00039541321
A2834: 41533 | B2834: 89.93 | C2834: 90 | D2834: 89.161 | E2834: 89.26 | F2834: 80793 | I2834: 41533 | J2834: 1691.7 | K2834: 1704.95 | L2834: 1691.7 | M2834: 1697.6 | N2834: =(L2834-L2835)/L2835 -> #DIV/0! | AE2834: 41549 | AF2834: 3.723 | AG2834: 3.725 | AH2834: 3.671 | AI2834: 3.705 | AJ2834: =(AH2834-AH2835)/AH2835 -> -0.0035287731 | AL2834: 41533 | AM2834: 127.48 | AN2834: 128.02 | AO2834: 126.335 | AP2834: 126.45 | AQ2834: 9987682
N2835: =(L2835-L2836)/L2836 -> #DIV/0! | AE2835: 41548 | AF2835: 3.688 | AG2835: 3.734 | AH2835: 3.684 | AI2835: 3.719 | AJ2835: =(AH2835-AH2836)/AH2836 -> 0.0076586433
N2836: =(L2836-L2837)/L2837 -> #DIV/0! | AE2836: 41547 | AF2836: 3.674 | AG2836: 3.706 | AH2836: 3.656 | AI2836: 3.685 | AJ2836: =(AH2836-AH2837)/AH2837 -> -0.0035431998
N2837: =(L2837-L2838)/L2838 -> #DIV/0! | AE2837: 41544 | AF2837: 3.698 | AG2837: 3.719 | AH2837: 3.669 | AI2837: 3.685 | AJ2837: =(AH2837-AH2838)/AH2838 -> 0.0016380016
N2838: =(L2838-L2839)/L2839 -> #DIV/0! | AE2838: 41543 | AF2838: 3.677 | AG2838: 3.702 | AH2838: 3.663 | AI2838: 3.697 | AJ2838: =(AH2838-AH2839)/AH2839 -> 0.0052140505
N2839: =(L2839-L2840)/L2840 -> #DIV/0! | AE2839: 41542 | AF2839: 3.674 | AG2839: 3.694 | AH2839: 3.644 | AI2839: 3.672 | AJ2839: =(AH2839-AH2840)/AH2840 -> -0.0057298772
N2840: =(L2840-L2841)/L2841 -> #DIV/0! | AE2840: 41541 | AF2840: 3.729 | AG2840: 3.731 | AH2840: 3.665 | AI2840: 3.672 | AJ2840: =(AH2840-AH2841)/AH2841 -> -0.016635364
N2841: =(L2841-L2842)/L2842 -> #DIV/0! | AE2841: 41540 | AF2841: 3.751 | AG2841: 3.779 | AH2841: 3.727 | AI2841: 3.728 | AJ2841: =(AH2841-AH2842)/AH2842 -> -0.0071923282
N2842: =(L2842-L2843)/L2843 -> #DIV/0! | AE2842: 41537 | AF2842: 3.804 | AG2842: 3.819 | AH2842: 3.754 | AI2842: 3.764 | AJ2842: =(AH2842-AH2843)/AH2843 -> 0.001333689
N2843: =(L2843-L2844)/L2844 -> #DIV/0! | AE2843: 41536 | AF2843: 3.771 | AG2843: 3.813 | AH2843: 3.749 | AI2843: 3.802 | AJ2843: =(AH2843-AH2844)/AH2844 -> 0.0067132116
N2844: =(L2844-L2845)/L2845 -> #DIV/0! | AE2844: 41535 | AF2844: 3.827 | AG2844: 3.873 | AH2844: 3.724 | AI2844: 3.745 | AJ2844: =(AH2844-AH2845)/AH2845 -> -0.027168234
N2845: =(L2845-L2846)/L2846 -> #DIV/0! | AE2845: 41534 | AF2845: 3.87 | AG2845: 3.875 | AH2845: 3.828 | AI2845: 3.837 | AJ2845: =(AH2845-AH2846)/AH2846 -> 0.012162877
N2846: =(L2846-L2847)/L2847 -> #DIV/0! | AE2846: 41533 | AF2846: 3.837 | AG2846: 3.879 | AH2846: 3.782 | AI2846: 3.873

Sheet Sheet1
B1: Daily | C1: Yearly | D1: daily sd | E1: yearly sd | M1: Vanguard Sr | N1: S&P 500 | O1: Vanguard U | P1: Cat Bond | Q1: Gold Price | T1: Return Statistics
A2: Vanguard Small-Cap Value ETFVBR (U.S.: NYSE Arca) | B2: =AVERAGE(B11:B2841) -> 0.00038490786 | C2: =B2*252 -> 0.09699678 | D2: =_xlfn.STDEV.S(B11:B2841) -> 0.012963866 | E2: =D2*SQRT(252) -> 0.20579499 | L2: Vanguard Sr | M2: 1 | N2: =M3 -> 0.86421699 | O2: =M4 -> 0.8356279 | P2: =M5 -> -0.013171046 | Q2: =M6 -> 0.013512352 | U2: Vanguard Sr | V2: S&P 500 | W2: Vanguard U | X2: Cat Bond | Y2: Gold Price | Z2: Treasury
A3: S&P 500 | B3: =AVERAGE(C11:C2841) -> 0.00050787692 | C3: =B3*252 -> 0.12798498 | D3: =_xlfn.STDEV.S(C11:C2841) -> 0.010823555 | E3: =D3*SQRT(252) -> 0.1718186 | L3: S&P 500 | M3: =CORREL(C11:C2840, B11:B2840) -> 0.86421699 | N3: 1 | O3: =N4 -> 0.88159126 | P3: =N5 -> -0.048260093 | Q3: =N6 -> 0.032832032 | T3: return | U3: 0.14049137 | V3: 0.18537508 | W3: 0.2095937 | X3: 0.062551617 | Y3: 0.099865166 | Z3: 0.0425
A4: Vanguard U.S. Momentum Factor ETFVFMO (U.S.: Cboe BZX) | B4: =AVERAGE(D11:D1728) -> 0.00057422931 | C4: =B4*252 -> 0.14470579 | D4: =_xlfn.STDEV.S(D11:D2841) -> 0.014710158 | E4: =D4*SQRT(252) -> 0.23351651 | L4: Vanguard U | M4: =CORREL(D11:D1728, B11:B1728) -> 0.8356279 | N4: =CORREL(D11:D1728, C11:C1728) -> 0.88159126 | O4: 1 | P4: =O5 -> -0.028105466 | Q4: =O6 -> 0.14923954 | T4: sd | U4: 0.20579499 | V4: 0.1718186 | W4: 0.23351651 | X4: 0.098775062 | Y4: 0.14370902 | Z4: 0
A5: Cat Bond | B5: =AVERAGE(E11:E483) -> 0.00017137429 | C5: =B5*252 -> 0.043186322 | D5: =_xlfn.STDEV.S(E11:E2841) -> 0.006222244 | E5: =D5*SQRT(252) -> 0.098775062 | L5: Cat Bond | M5: =CORREL($E$11:$E$483, B$11:B$483) -> -0.013171046 | N5: =CORREL($E$11:$E$483, C$11:C$483) -> -0.048260093 | O5: =CORREL($E$11:$E$483, D$11:D$483) -> -0.028105466 | P5: 1 | Q5: =P6 -> -0.0022671171 | U5: standard deviations are on a daily basis
A6: Gold Price | B6: =AVERAGE(F11:F2841) -> 0.00027360319 | C6: =B6*252 -> 0.068948005 | D6: =_xlfn.STDEV.S(F11:F2841) -> 0.0090528174 | E6: =D6*SQRT(252) -> 0.14370902 | L6: Gold Price | M6: =CORREL($F$11:$F$2840, B$11:B$2840) -> 0.013512352 | N6: =CORREL($F$11:$F$2840, C$11:C$2840) -> 0.032832032 | O6: =CORREL($F$11:$F$1728, D$11:D$1728) -> 0.14923954 | P6: =CORREL($F$11:$F$483, E$11:E$483) -> -0.0022671171 | Q6: 1
A7: US Treasury | C7: 4.25 | D7: 0 | E7: =D7*SQRT(252) -> 0
A8: VFQY | F8: 0.2 | G8: 0.5 | M8: Vanguard Sr | N8: S&P 500 | O8: Vanguard U | P8: Cat Bond | Q8: Gold Price
B9: ILS | C9: SSO | D9: FALN | E9: VUG | F9: VBR | G9: VTI | H9: VEA | I9: VWO | J9: VSS | L9: Vanguard Sr | M9: =HLOOKUP(M$8,$U$2:$Y$4,3,FALSE)*M2*HLOOKUP($L9,$U$2:$Y$4,3,FALSE) -> 0.042351578 | N9: =HLOOKUP(N$8,$U$2:$Y$4,3,FALSE)*N2*HLOOKUP($L9,$U$2:$Y$4,3,FALSE) -> 0.030558201 | O9: =HLOOKUP(O$8,$U$2:$Y$4,3,FALSE)*O2*HLOOKUP($L9,$U$2:$Y$4,3,FALSE) -> 0.040157377 | P9: =HLOOKUP(P$8,$U$2:$Y$4,3,FALSE)*P2*HLOOKUP($L9,$U$2:$Y$4,3,FALSE) -> -0.0002677333 | Q9: =HLOOKUP(Q$8,$U$2:$Y$4,3,FALSE)*Q2*HLOOKUP($L9,$U$2:$Y$4,3,FALSE) -> 0.00039962235
A10: Date | B10: Vanguard Small-Cap Value ETFVBR (U.S.: NYSE Arca) | C10: S&P 500 | D10: Vanguard U.S. Momentum Factor ETFVFMO (U.S.: Cboe BZX) | E10: Cat Bond | F10: Gold Price | L10: S&P 500 | M10: =HLOOKUP(M$8,$U$2:$Y$4,3,FALSE)*M3*HLOOKUP($L10,$U$2:$Y$4,3,FALSE) -> 0.030558201 | N10: =HLOOKUP(N$8,$U$2:$Y$4,3,FALSE)*N3*HLOOKUP($L10,$U$2:$Y$4,3,FALSE) -> 0.029521632 | O10: =HLOOKUP(O$8,$U$2:$Y$4,3,FALSE)*O3*HLOOKUP($L10,$U$2:$Y$4,3,FALSE) -> 0.035371629 | P10: =HLOOKUP(P$8,$U$2:$Y$4,3,FALSE)*P3*HLOOKUP($L10,$U$2:$Y$4,3,FALSE) -> -0.00081904102 | Q10: =HLOOKUP(Q$8,$U$2:$Y$4,3,FALSE)*Q3*HLOOKUP($L10,$U$2:$Y$4,3,FALSE) -> 0.00081068469
A11: 45639 | B11: -0.0060438776 | C11: -2.6440818e-05 | D11: -0.0013923537 | E11: 0.00093196645 | F11: -0.012091556 | L11: Vanguard U | M11: =HLOOKUP(M$8,$U$2:$Y$4,3,FALSE)*M4*HLOOKUP($L11,$U$2:$Y$4,3,FALSE) -> 0.040157377 | N11: =HLOOKUP(N$8,$U$2:$Y$4,3,FALSE)*N4*HLOOKUP($L11,$U$2:$Y$4,3,FALSE) -> 0.035371629 | O11: =HLOOKUP(O$8,$U$2:$Y$4,3,FALSE)*O4*HLOOKUP($L11,$U$2:$Y$4,3,FALSE) -> 0.054529963 | P11: =HLOOKUP(P$8,$U$2:$Y$4,3,FALSE)*P4*HLOOKUP($L11,$U$2:$Y$4,3,FALSE) -> -0.00064826967 | Q11: =HLOOKUP(Q$8,$U$2:$Y$4,3,FALSE)*Q4*HLOOKUP($L11,$U$2:$Y$4,3,FALSE) -> 0.0050082448
A12: 45638 | B12: -0.006195611 | C12: -0.0054140321 | D12: -0.0098799472 | E12: 0 | F12: -0.014663691 | L12: Cat Bond | M12: =HLOOKUP(M$8,$U$2:$Y$4,3,FALSE)*M5*HLOOKUP($L12,$U$2:$Y$4,3,FALSE) -> -0.0002677333 | N12: =HLOOKUP(N$8,$U$2:$Y$4,3,FALSE)*N5*HLOOKUP($L12,$U$2:$Y$4,3,FALSE) -> -0.00081904102 | O12: =HLOOKUP(O$8,$U$2:$Y$4,3,FALSE)*O5*HLOOKUP($L12,$U$2:$Y$4,3,FALSE) -> -0.00064826967 | P12: =HLOOKUP(P$8,$U$2:$Y$4,3,FALSE)*P5*HLOOKUP($L12,$U$2:$Y$4,3,FALSE) -> 0.0097565129 | Q12: =HLOOKUP(Q$8,$U$2:$Y$4,3,FALSE)*Q5*HLOOKUP($L12,$U$2:$Y$4,3,FALSE) -> -3.2181426e-05
A13: 45637 | B13: 0.0030836377 | C13: 0.0081658219 | D13: 0.0095685456 | E13: 0.00093283582 | F13: 0.0095337705 | L13: Gold Price | M13: =HLOOKUP(M$8,$U$2:$Y$4,3,FALSE)*M6*HLOOKUP($L13,$U$2:$Y$4,3,FALSE) -> 0.00039962235 | N13: =HLOOKUP(N$8,$U$2:$Y$4,3,FALSE)*N6*HLOOKUP($L13,$U$2:$Y$4,3,FALSE) -> 0.00081068469 | O13: =HLOOKUP(O$8,$U$2:$Y$4,3,FALSE)*O6*HLOOKUP($L13,$U$2:$Y$4,3,FALSE) -> 0.0050082448 | P13: =HLOOKUP(P$8,$U$2:$Y$4,3,FALSE)*P6*HLOOKUP($L13,$U$2:$Y$4,3,FALSE) -> -3.2181426e-05 | Q13: =HLOOKUP(Q$8,$U$2:$Y$4,3,FALSE)*Q6*HLOOKUP($L13,$U$2:$Y$4,3,FALSE) -> 0.020652283
A14: 45636 | B14: -0.0061763319 | C14: -0.002963893 | D14: -0.0056510206 | E14: 0 | F14: 0.01316433
A15: 45635 | B15: -0.0029615005 | C15: -0.0061442268 | D15: -0.023261053 | E15: 0.00093370682 | F15: 0.0099197366 | L15: Weigts
A16: 45632 | B16: -0.00042289259 | C16: 0.0024954281 | D16: 0.0040717073 | E16: 0.0018709074 | F16: 0.00037058388 | M16: Vanguard Sr | N16: S&P 500 | O16: Vanguard U | P16: Cat Bond | Q16: Gold Price | R16: Risk Free | S16: Market | V16: returns | W16: Weights
A17: 45631 | B17: -0.0075545607 | C17: -0.0018697147 | D17: -0.0057351701 | E17: 0 | F17: -0.0073977194 | L17: =SUM(P17:R17,S17) -> 1 | M17: =S17*0.25 -> 0.25 | N17: =S17*0.5 -> 0.5 | O17: =S17*0.25 -> 0.25 | P17: 0 | Q17: 0 | R17: 0 | S17: 1 | V17: =C2 -> 0.09699678 | W17: =M17 -> 0.25
A18: 45630 | B18: 0.00027987685 | C18: 0.0060513597 | D18: 0.0062804119 | E18: 0 | F18: 0.0030336572 | P18: _wgt1 | Q18: _wgt2 | R18: _wgt3 | S18: _wgt4 | V18: =C3 -> 0.12798498 | W18: =N17 -> 0.5
A19: 45629 | B19: -0.0050125313 | C19: 0.00045145234 | D19: -0.0022017727 | E19: -0.094067797 | F19: 0.0020128163 | L19: Max weight | M19: 1 | N19: 1 | O19: 1 | P19: 1 | Q19: 1 | R19: 1 | S19: 1 | V19: =C4 -> 0.14470579 | W19: =O17 -> 0.25
A20: 45628 | B20: -0.0034227567 | C20: 0.0024484532 | D20: -0.005669698 | E20: 0.00084817642 | F20: -0.0087544281 | L20: Min Weight | M20: 0 | N20: 0 | O20: 0 | P20: 0 | Q20: -1 | R20: 0 | S20: 0 | V20: =C5 -> 0.043186322 | W20: =P17 -> 0
A21: 45625 | B21: 0.0017607265 | C21: 0.0056078443 | D21: 0.0030405405 | E21: 0.00084889643 | F21: 0.0086245842 | V21: =C6 -> 0.068948005 | W21: =Q17 -> 0
A22: 45623 | B22: -0.0016652789 | C22: -0.0038012963 | D22: -0.0044284994 | E22: 0 | F22: 0.0022226796 | L22: wS | M22: {=MMULT(M17:Q17,M9:Q13)} -> 0.035906339 | N22: 0.031243274 | O22: 0.041357649 | P22: -0.00063852125 | Q22: 0.0017573091 | V22: 0.0425 | W22: =R17 -> 0
A23: 45622 | B23: -0.0051541647 | C23: 0.0057220449 | D23: 0.0023036296 | E23: 0 | F23: 0.0019383042
A24: 45621 | B24: 0.01532567 | C24: 0.0030204344 | D24: 0.0051959788 | E24: 0.00084961767 | F24: -0.029458854 | L24: Portfolio | M24: =SUMPRODUCT(M17:R17,U3:Z3) -> 0.1802088
A25: 45618 | B25: 0.013352273 | C25: 0.0034679788 | D25: 0.01356689 | E25: 0.00085034014 | F25: 0.01289224 | L25: Std. Dev | M25: {=SQRT(MMULT(MMULT(M17:Q17,M9:Q13),TRANSPOSE(M17:Q17)))} -> 0.18691611 | N25: =P17 -> 0 | O25: =Q17 -> 0 | P25: =R17 -> 0 | Q25: =S17 -> 1
A26: 45617 | B26: 0.016655435 | C26: 0.0053404449 | D26: 0.012930535 | E26: 0 | F26: 0.0083394653 | L26: Desired return | M26: 0.2
A27: 45616 | B27: 0.003187174 | C27: 2.1970667e-05 | D27: 0.00069629802 | E27: 0 | F27: 0.0056320658
A28: 45615 | B28: -0.0020240964 | C28: 0.0039636081 | D28: 0.011325626 | E28: 0.00085106383 | F28: 0.0089593098
A29: 45614 | B29: 0.0022702024 | C29: 0.0039178145 | D29: 0.0057247403 | E29: 0 | F29: 0.019020246 | L29: Question 2.b.i: Asset Allocation Table
A30: 45611 | B30: -0.0070503597 | C30: -0.013203523 | D30: -0.010627117 | E30: 0.0068551842 | F30: -0.0017720771 | L30: Portfolio E(Return) | M30: Portfolio St. Dev. | N30: Weights
A31: 45610 | B31: -0.0089362107 | C31: -0.0060497412 | D31: -0.014444381 | E31: 0 | F31: -0.0026090982 | N31: Cat Bond | O31: Gold Price | P31: Risk Free | Q31: Market
A32: 45609 | B32: -0.0040711986 | C32: 0.00023228648 | D32: -0.0053234116 | E32: 0.00085763293 | F32: -0.010081233 | L32: 0.0425 | M32: 9.8775062e-08 | N32: -1e-06 | O32: 0 | P32: 1.000001 | Q32: 0 | R32: =M32/L32 -> 2.3241191e-06 | S32: =L32-M32 -> 0.042499901
A33: 45608 | B33: -0.01234337 | C33: -0.0028926825 | D33: -0.01221305 | E33: 0 | F33: -0.0086313703 | L33: 0.05 | M33: 0.0088463952 | N33: 0.02416577 | O33: 0.025593464 | P33: 0.9099582 | Q33: 0.040282565 | R33: =M33/L33 -> 0.1769279 | S33: =L33-M33 -> 0.041153605
A34: 45607 | B34: 0.010488519 | C34: 0.00096905366 | D34: 0.010166781 | E34: 0.0008583691 | F34: -0.023471528 | L34: 0.06 | M34: 0.020641589 | N34: 0.056386718 | O34: 0.059718346 | P34: 0.78990238 | Q34: 0.093992554 | R34: =M34/L34 -> 0.34402648 | S34: =L34-M34 -> 0.039358411
A35: 45604 | B35: 0.0035084392 | C35: 0.0037568432 | D35: 0.016960967 | E35: 0 | F35: -0.0067694773 | L35: 0.07 | M35: 0.032436783 | N35: 0.088607648 | O35: 0.093843244 | P35: 0.66984657 | Q35: 0.14770254 | R35: =M35/L35 -> 0.46338261 | S35: =L35-M35 -> 0.037563217
A36: 45603 | B36: -0.0027423168 | C36: 0.0074312199 | D36: 0.0065481759 | E36: 0 | F36: 0.016076516 | L36: 0.08 | M36: 0.044231977 | N36: 0.12082875 | O36: 0.12796804 | P36: 0.54979067 | Q36: 0.20141254 | R36: =M36/L36 -> 0.55289971 | S36: =L36-M36 -> 0.035768023
A37: 45602 | B37: 0.044805612 | C37: 0.025295879 | D37: 0.037738139 | E37: 0.00085910653 | F37: -0.03038674 | L37: 0.09 | M37: 0.05602717 | N37: 0.1530497 | O37: 0.16209244 | P37: 0.42973513 | Q37: 0.25512273 | R37: =M37/L37 -> 0.62252411 | S37: =L37-M37 -> 0.03397283
A38: 45601 | B38: 0.015042872 | C38: 0.012265675 | D38: 0.019925743 | E38: 0 | F38: 0.0022544793 | L38: 0.0925 | M38: 0.058975969 | N38: 0.16110475 | O38: 0.1706234 | P38: 0.39972149 | Q38: 0.26855037 | R38: =M38/L38 -> 0.63757804 | S38: =L38-M38 -> 0.033524031
A39: 45600 | B39: 0.0030176533 | C39: -0.0028121072 | D39: 0.0011151035 | E39: 0.00085984523 | F39: 0.001425912 | L39: 0.095 | M39: 0.061924767 | N39: 0.16916002 | O39: 0.17915459 | P39: 0.36970752 | Q39: 0.28197787 | R39: =M39/L39 -> 0.65183965 | S39: =L39-M39 -> 0.033075233
A40: 45597 | B40: 0.00015090543 | C40: 0.0040925781 | D40: -0.0030263727 | E40: 0 | F40: -0.0041024023 | L40: 0.0975 | M40: 0.064873566 | N40: 0.17721527 | O40: 0.18768576 | P40: 0.33969358 | Q40: 0.29540538 | R40: =M40/L40 -> 0.6653699 | S40: =L40-M40 -> 0.032626434
A41: 45596 | B41: -0.013007646 | C41: -0.018614748 | D41: -0.012563274 | E41: 0 | F41: -0.015495146 | L41: 0.1 | M41: 0.067822364 | N41: 0.18527053 | O41: 0.19621695 | P41: 0.30967962 | Q41: 0.30883289 | R41: =M41/L41 -> 0.67822364 | S41: =L41-M41 -> 0.032177636
A42: 45595 | B42: 0.0026382597 | C42: -0.0033002338 | D42: -0.0028581854 | E42: 0.0008605852 | F42: 0.0055058768 | L42: 0.1025 | M42: 0.070771163 | N42: 0.19332579 | O42: 0.20474814 | P42: 0.27966567 | Q42: 0.3222604 | R42: =M42/L42 -> 0.69045037 | S42: =L42-M42 -> 0.031728837
A43: 45594 | B43: -0.0018880111 | C43: 0.001614144 | D43: 0.0013396663 | E43: 0 | F43: 0.01089488 | L43: 0.105 | M43: 0.073719961 | N43: 0.20138103 | O43: 0.21327931 | P43: 0.24965174 | Q43: 0.33568792 | R43: =M43/L43 -> 0.70209487 | S43: =L43-M43 -> 0.031280039
... A73: 45552 | B73: 0.0044119884 | C73: 0.00026450847 | D73: 0.0029249062 | E73: 0.00087719298 | F73: -0.0055308808 | L73: 0.18 | M73: 0.18645515 | N73: 0 | O73: 0.0025988848 | P73: 0 | Q73: 0.99740112 | R73: =M73/L73 -> 1.0358619 | S73: =L73-M73 -> -0.0064551473
A74: 45551 | B74: 0.0085413257 | C74: 0.001256661 | D74: 0.0035094436 | E74: 0.00087796313 | F74: -8.3794201e-05
A75: 45548 | B75: 0.020139831 | C75: 0.0054076658 | D75: 0.016540183 | E75: 0.0052956752 | F75: 0.0099437228
A76: 45547 | B76: 0.010811666 | C76: 0.0074953233 | D76: 0.015211379 | E76: 0 | F76: 0.017567277
A77: 45546 | B77: 0 | C77: 0.010665051 | D77: 0.0091706539 | E77: 0.00088339223 | F77: -0.0015905769
A78: 45545 | B78: -0.0033639947 | C78: 0.0044726332 | D78: -0.00066409882 | E78: 0 | F78: 0.0044041451
A79: 45544 | B79: 0.0026350461 | C79: 0.011580092 | D79: 0.016608156 | E79: 0.0008841733 | F79: 0.0042058709
A80: 45541 | B80: -0.013875896 | C80: -0.017260208 | D80: -0.022439282 | E80: 0.0035492458 | F80: -0.0074026253
A81: 45540 | B81: -0.0058382847 | C81: -0.0030180777 | D81: -0.0061655516 | E81: 0.00088809947 | F81: 0.0083322484
A82: 45539 | B82: -0.0025252525 | C82: -0.00160248 | D82: -0.0030081088 | E82: 0 | F82: 0.00060792913
A83: 45538 | B83: -0.022222222 | C83: -0.021151122 | D83: -0.034108135 | E83: 0.0017793594 | F83: -0.0043235765
A84: 45534 | B84: 0.0070536892 | C84: 0.010093062 | D84: 0.012082081 | E84: 0.006266786 | F84: -0.0071259927
A85: 45533 | B85: 0.0038716251 | C85: -3.9340651e-05 | D85: 0.00025577083 | E85: 0 | F85: 0.0051779935
... A483: 44956 | B483: -0.010123471 | C483: -0.012968732 | D483: -0.01142132 | E483: -0.001 | F483: -0.0025666778
A484: 44953 | B484: 0.003582335 | C484: 0.0024948097 | D484: -0.0021105952 | F484: -0.0013929905
A485: 44952 | B485: 0.0091862739 | C485: 0.011007863 | D485: 0.0062866366 | F485: -0.0090552703
A486: 44951 | B486: 0.0033299637 | C486: -0.00018172992 | D486: 0.0014463161 | F486: 0.0046039494
A487: 44950 | B487: -0.0026687226 | C487: -0.00071147641 | D487: 0.0023023791 | F487: 0.0036185492
A488: 44949 | B488: 0.010063496 | C488: 0.011881358 | D488: 0.0066094421 | F488: 0.001896369
A489: 44946 | B489: 0.016439357 | C489: 0.018918399 | D489: 0.012603216 | F489: -0.0033353716
A490: 44945 | B490: -0.009468669 | C490: -0.007638348 | D490: -0.0081896552 | F490: 0.015868534
A491: 44944 | B491: -0.015029108 | C491: -0.015562633 | D491: -0.016365641 | F491: -0.0028717833
A492: 44943 | B492: -0.002606944 | C492: -0.0020304619 | D492: -0.0018620398 | F492: -0.0065450884
A493: 44939 | B493: 0.0026137579 | C493: 0.0039968166 | D493: 0.0047623097 | F493: 0.012001812
A494: 44938 | B494: 0.011476296 | C494: 0.0034159527 | D494: 0.012572117 | F494: 0.011567976
A495: 44937 | B495: 0.012532701 | C495: 0.012849397 | D495: 0.0064130341 | F495: -0.00068673458
... A1728: 43147 | B1728: 0.0035823171 | C1728: 0.00037346221 | D1728: 0.0021963824 | F1728: -0.0032715376
A1729: 43146 | B1729: 0.0088427528 | C1729: 0.012069087 | F1729: 0.0011697731
A1730: 43145 | B1730: 0.015698219 | C1730: 0.01340248 | F1730: 0.017052665
A1731: 43144 | B1731: 0.0017211704 | C1731: 0.0026129518 | F1731: 0.0056632368
A1732: 43143 | B1732: 0.0099557522 | C1732: 0.013914604 | F1732: 0.0048088483
A1733: 43140 | B1733: 0.0088481467 | C1733: 0.014936071 | F1733: -0.0016802688
A1734: 43139 | B1734: -0.028498412 | C1734: -0.037536451 | F1734: 0.0015225579
A1735: 43138 | B1735: -0.00038705682 | C1735: -0.0050015955 | F1735: -0.0047056947
A1736: 43137 | B1736: 0.01111459 | C1736: 0.017440939 | F1736: -0.010496409
A1737: 43136 | B1737: -0.037734428 | C1737: -0.040979244 | F1737: 0.0025318459
A1738: 43133 | B1738: -0.020509037 | C1738: -0.021208513 | F1738: -0.013117826
A1739: 43132 | B1739: 0.0015516477 | C1739: -0.0006480606 | F1739: 0.0032902468
A1740: 43131 | B1740: -0.0036074505 | C1740: 0.00048894038 | F1740: 0.00670347
... A2841: 41534 | B2841: 0.0066099037 | C2841: 0.0042177191 | F2841: 0.00039541321
A2842: 41533

Sheet Sheet2

Sheet Question 4
B1: State | C1: Prob | D1: Return 1 | E1: Return 2 | H1: Var/Covar | N1: =MAX($I$21) -> 0.47775182
B2: 1 | C2: 0.05 | D2: 0.18 | E2: 0 | H2: Inv 1 | I2: Inv 2 | N2: =COUNT($I$16:$I$17) -> 2 | AC2: -0.1 | AD2: 0.09494625 | AE2: 0.06185
B3: 2 | C3: 0.2 | D3: -0.15 | E3: 0.15 | G3: Inv 1 | H3: =D11^2 -> 0.016519 | I3: =D11*E11*D13 -> -0.0050945 | N3: {=$I$16:$I$17<=$J$16:$J$17} -> TRUE | AC3: -0.2 | AD3: 0.10940617 | AE3: 0.0592
B4: 3 | C4: 0.15 | D4: 0.23 | E4: -0.03 | G4: Inv 2 | H4: =D11*E11*D13 -> -0.0050945 | I4: =E11^2 -> 0.00521475 | N4: {=$I$16:$I$17>=$K$16:$K$17} -> TRUE | AC4: -0.3 | AD4: 0.12389728 | AE4: 0.05655
B5: 4 | C5: 0.2 | D5: 0.08 | E5: -0.02 | N5: =$J$18=1 -> TRUE | AC5: -0.4 | AD5: 0.1384098 | AE5: 0.0539
B6: 5 | C6: 0.15 | D6: 0.16 | E6: 0.12 | N6: ={32767,32767,0.000001,0.01,FALSE,FALSE,FALSE,1,1,1,0.0001,TRUE} -> 32767 | AC6: -0.5 | AD6: 0.15293763 | AE6: 0.05125
B7: 6 | C7: 0.25 | D7: 0.15 | E7: 0.1 | N7: ={0,0,0,100,0,FALSE,TRUE,0.075,0,0,TRUE,30} -> 0 | AC7: -0.6 | AD7: 0.16747678 | AE7: 0.0486
M8: sd | N8: {=SQRT(MMULT(MMULT(H10:I10,H3:I4),TRANSPOSE(H10:I10)))} -> 0.058672367 | O8: minimum | AC8: -0.7 | AD8: 0.18202454 | AE8: 0.04595
D9: Inv 1 | E9: Inv 2 | H9: Weight 1 | I9: Weight 2 | M9: E(r | N9: =SUMPRODUCT(H10:I10,D10:E10) -> 0.078910561 | AC9: -0.8 | AD9: 0.196579 | AE9: 0.0433
B10: Question 4,a-b | C10: E(r | D10: =SUMPRODUCT(D2:D7,$C$2:$C$7) -> 0.091 | E10: =SUMPRODUCT(E2:E7,$C$2:$C$7) -> 0.0645 | G10: =SUM(H10:I10) -> 1.000001 | H10: 0.54379233 | I10: 0.45620867 | AC10: -0.9 | AD10: 0.21113877 | AE10: 0.04065
C11: SD | D11: {=SQRT(SUMPRODUCT(C2:C7,(D2:D7-D10)^2))} -> 0.12852626 | E11: {=SQRT(SUMPRODUCT(C2:C7,(E2:E7-E10)^2))} -> 0.072213226 | G11: Max | H11: 1 | I11: 1 | AC11: -1 | AD11: 0.22570284 | AE11: 0.038
C12: Cov(a,b) | D12: {=SUMPRODUCT(C2:C7,D2:D7-D10,E2:E7-E10)} -> -0.0050945 | G12: Min | H12: 0 | I12: 0
C13: Corr(a,b) | D13: =D12/(D11*E11) -> -0.54889964
H15: rf | I15: 0.03 | M15: 4,e | N15: Maximize slope with minimum risk asset
B16: 4, C | C16: sd | D16: 0.059252051 | H16: w1 | I16: 0 | J16: 1 | K16: 0 | N16: rf | O16: 0.03
C17: E(r | D17: 0.07903759 | H17: w2 | I17: =1-I16 -> 1 | J17: 1 | K17: 0 | N17: w1 | O17: 0.54858829
D18: Inv 1 | E18: Inv 2 | H18: rp | J18: =I16+I17 -> 1 | N18: w2 | O18: 0.45141171
C19: Weights | D19: 0.54858829 | E19: 0.45141171 | G19: Lowest sd | H19: sp | I19: {=SQRT(MMULT(MMULT(TRANSPOSE(I16:I17),H3:I4),I16:I17))} -> 0.072213226 | J19: {=MMULT(D10:E10,I16:I17)} -> 0.0645 | N19: rp | O19: 0.07903759
N20: sp | O20: 0.059252051
H21: Slope: | I21: =(J19-I15)/I19 -> 0.47775182 | N21: Max slope | O21: 0.82760999
C24: 4, D | D24: Graph the Capital Market Line | H24: 4, f | J24: Graph the Capital Market Line
D25: Two Stock portfolio | J25: with Rf Asset | O25: Inv 1 | P25: Inv 2 | Q25: Inv 3
D26: %w1 | E26: Risk | F26: Return | I26: %wp | J26: %rf | K26: Risk | L26: Return | N26: E(r | O26: 0.091 | P26: 0.0645 | Q26: 0.03 | T26: =O28 -> 1
D27: 1 | E27: 0.12852626 | F27: 0.091 | I27: 0 | J27: 1 | K27: 0 | L27: 0.03 | N27: SD | O27: 0.067975363 | P27: 0.080534341 | Q27: 0 | T27: =P28 -> 1
D28: 0.9 | E28: 0.11187282 | F28: 0.08835 | I28: 0.1 | J28: 0.9 | K28: 0.0043421688 | L28: 0.034305801 | N28: Weights | O28: 1 | P28: 1 | Q28: -1 | R28: =SUM(O28:Q28) -> 1 | T28: -0.9
D29: 0.8 | E29: 0.095658298 | F29: 0.0857 | I29: 0.2 | J29: 0.8 | K29: 0.0086843376 | L29: 0.038611601 | N29: max | O29: 1 | P29: 1 | Q29: 1
D30: 0.7 | E30: 0.080149532 | F30: 0.08305 | I30: 0.3 | J30: 0.7 | K30: 0.013026506 | L30: 0.042917402 | N30: min | O30: 0 | P30: 0 | Q30: 0
D31: 0.6 | E31: 0.065847096 | F31: 0.0804 | I31: 0.4 | J31: 0.6 | K31: 0.017368675 | L31: 0.047223203
D32: 0.5 | E32: 0.053723249 | F32: 0.07775 | I32: 0.5 | J32: 0.5 | K32: 0.021710844 | L32: 0.051529004
D33: 0.4 | E33: 0.045552058 | F33: 0.0751 | I33: 0.6 | J33: 0.4 | K33: 0.026053013 | L33: 0.055834804 | N33: Er
D34: 0.3 | E34: 0.043614762 | F34: 0.07245 | I34: 0.7 | J34: 0.3 | K34: 0.030395182 | L34: 0.060140605 | N34: Sd | O34: {=SQRT(MMULT(MMULT(TRANSPOSE(T26:T27),H3:I4),T26:T27))} -> 0.1074465 | P34: =SUMPRODUCT(O26:Q26,O28:Q28) -> 0.1255
D35: 0.2 | E35: 0.048661689 | F35: 0.0698 | I35: 0.8 | J35: 0.2 | K35: 0.03473735 | L35: 0.064446406
D36: 0.1 | E36: 0.058924761 | F36: 0.06715 | I36: 0.9 | J36: 0.1 | K36: 0.039079519 | L36: 0.068752206
D37: 0 | E37: 0.072213226 | F37: 0.0645 | I37: 1 | J37: 0 | K37: 0.043421688 | L37: 0.073058007
I38: 1.1 | J38: -0.1 | K38: 0.047763857 | L38: 0.077363808
I39: 1.2 | J39: -0.2 | K39: 0.052106026 | L39: 0.081669609
I40: 1.3 | J40: -0.3 | K40: 0.056448194 | L40: 0.085975409
I41: 1.4 | J41: -0.4 | K41: 0.060790363 | L41: 0.09028121
I42: 1.5 | J42: -0.5 | K42: 0.065192024 | L42: 0.095
I43: 1.6 | J43: -0.6 | K43: 0.071050616 | L43: 0.1011
I44: 1.7 | J44: -0.7 | K44: 0.078592366 | L44: 0.1072
I45: 1.8 | J45: -0.8 | K45: 0.08738255 | L45: 0.1133
I46: 1.9 | J46: -0.9 | K46: 0.097082645 | L46: 0.1194
I47: 2 | J47: -1 | K47: 0.1074465 | L47: 0.1255
