Workbook

Sheet Sheet1
A2: Options | B2: Deductible | C2: Premium
A3: Option 1 | B3: 500000 | C3: 60000
A4: Option 2 | B4: 1500000 | C4: 17000
A5: Option 3 | B5: uninsured
B7: loss sizes | C7: Probability
A8: None | B8: 0 | C8: 1-p-p/5-p/20 | D8: =1-SUM(D9:D11) -> 0.8125
A9: Small | B9: 100000 | C9: p | D9: 0.15
A10: Medium | B10: 1500000 | C10: p/5 | D10: =D9/5 -> 0.03
A11: Large | B11: 3500000 | C11: p/20 | D11: =D9/20 -> 0.0075
A13: On hand cash | B13: 600000 | C13: 0.08
A14: Losses over 600 | B14: 1000000 | C14: 0.08 | D14: =-B14*C14 -> -80000
A15: losses over 1600 | B15: 1600000 | C15: 0.3 | D15: =-B15*C15 -> -480000
A16: Losses over 600 without borrowing | D16: -350000
F23: Decision
F24: =_xll.PTreeNodeValue(treeCalc_1!$F$2,1) -> -92250
G25: =$D$8 -> 0.8125 | H25: =_xll.PTreeNodeProbability(treeCalc_1!$F$2,5) -> 0
G26: =$B$8 -> 0 | H26: =_xll.PTreeNodeValue(treeCalc_1!$F$2,5) -> -60000
F27: =_xll.PTreeNodeDecision(treeCalc_1!$F$2,2) -> FALSE | G27: Chance
F28: =-$C$3 -> -60000 | G28: =_xll.PTreeNodeValue(treeCalc_1!$F$2,2) -> -93750
G29: =$D$9 -> 0.15 | H29: =_xll.PTreeNodeProbability(treeCalc_1!$F$2,6) -> 0
G30: =-IF(B9<B3,B9,B3) -> -100000 | H30: =_xll.PTreeNodeValue(treeCalc_1!$F$2,6) -> -160000
G31: =$D$10 -> 0.03 | H31: =_xll.PTreeNodeProbability(treeCalc_1!$F$2,7) -> 0
G32: =-IF(B10<B3,B10,B3) -> -500000 | H32: =_xll.PTreeNodeValue(treeCalc_1!$F$2,7) -> -560000
G33: =$D$11 -> 0.0075 | H33: =_xll.PTreeNodeProbability(treeCalc_1!$F$2,8) -> 0
G34: =-IF(B11<B3,B11,B3) -> -500000 | H34: =_xll.PTreeNodeValue(treeCalc_1!$F$2,8) -> -560000
H35: =$D$8 -> 0.8125 | I35: =_xll.PTreeNodeProbability(treeCalc_1!$F$2,11) -> 0
H36: =$B$8 -> 0 | I36: =_xll.PTreeNodeValue(treeCalc_1!$F$2,11) -> -17000
G37: =_xll.PTreeNodeDecision(treeCalc_1!$F$2,9) -> FALSE | H37: Chance
G38: 0 | H38: =_xll.PTreeNodeValue(treeCalc_1!$F$2,9) -> -101375
H39: =$D$9 -> 0.15 | I39: =_xll.PTreeNodeProbability(treeCalc_1!$F$2,12) -> 0
H40: =-$B$9 -> -100000 | I40: =_xll.PTreeNodeValue(treeCalc_1!$F$2,12) -> -117000
H41: =$D$10 -> 0.03 | I41: =_xll.PTreeNodeProbability(treeCalc_1!$F$2,32) -> 0
H42: =-IF($B$10<$B$4,$B$10,$B$4)+$D$16 -> -1850000 | I42: =_xll.PTreeNodeValue(treeCalc_1!$F$2,32) -> -1867000
H43: =$D$11 -> 0.0075 | I43: =_xll.PTreeNodeProbability(treeCalc_1!$F$2,33) -> 0
H44: =-IF($B$11<$B$4,$B$11,$B$4)+$D$16 -> -1850000 | I44: =_xll.PTreeNodeValue(treeCalc_1!$F$2,33) -> -1867000
F45: =_xll.PTreeNodeDecision(treeCalc_1!$F$2,3) -> FALSE | G45: Decision
F46: =-$C$4 -> -17000 | G46: =_xll.PTreeNodeValue(treeCalc_1!$F$2,3) -> -94250
H47: =$D$8 -> 0.8125 | I47: =_xll.PTreeNodeProbability(treeCalc_1!$F$2,28) -> 0
H48: =$B$8 -> 0 | I48: =_xll.PTreeNodeValue(treeCalc_1!$F$2,28) -> -17000
G49: =_xll.PTreeNodeDecision(treeCalc_1!$F$2,10) -> TRUE | H49: Chance
G50: 0 | H50: =_xll.PTreeNodeValue(treeCalc_1!$F$2,10) -> -94250
H51: =$D$9 -> 0.15 | I51: =_xll.PTreeNodeProbability(treeCalc_1!$F$2,29) -> 0
H52: =-IF($B$9<$B$4,$B$9,$B$4) -> -100000 | I52: =_xll.PTreeNodeValue(treeCalc_1!$F$2,29) -> -117000
H53: =$D$10 -> 0.03 | I53: =_xll.PTreeNodeProbability(treeCalc_1!$F$2,30) -> 0
H54: =-IF($B$10<$B$4,$B$10,$B$4)+$D$14 -> -1580000 | I54: =_xll.PTreeNodeValue(treeCalc_1!$F$2,30) -> -1597000
H55: =$D$11 -> 0.0075 | I55: =_xll.PTreeNodeProbability(treeCalc_1!$F$2,31) -> 0
H56: =-IF($B$11<$B$4,$B$11,$B$4)+$D$15 -> -1980000 | I56: =_xll.PTreeNodeValue(treeCalc_1!$F$2,31) -> -1997000
H57: =$D$8 -> 0.8125 | I57: =_xll.PTreeNodeProbability(treeCalc_1!$F$2,36) -> 0.8125
H58: 0 | I58: =_xll.PTreeNodeValue(treeCalc_1!$F$2,36) -> 0
G59: =_xll.PTreeNodeDecision(treeCalc_1!$F$2,18) -> TRUE | H59: Chance
G60: 0 | H60: =_xll.PTreeNodeValue(treeCalc_1!$F$2,18) -> -92250 | K60: 0
H61: =$D$9 -> 0.15 | I61: =_xll.PTreeNodeProbability(treeCalc_1!$F$2,37) -> 0.15 | K61: 0
H62: =-$B$9 -> -100000 | I62: =_xll.PTreeNodeValue(treeCalc_1!$F$2,37) -> -100000 | K62: =H62*H61 -> -15000
H63: =$D$10 -> 0.03 | I63: =_xll.PTreeNodeProbability(treeCalc_1!$F$2,38) -> 0.03 | K63: 0
H64: =-$B$10+$D$14 -> -1580000 | I64: =_xll.PTreeNodeValue(treeCalc_1!$F$2,38) -> -1580000 | K64: =H64*H63 -> -47400
H65: =$D$11 -> 0.0075 | I65: =_xll.PTreeNodeProbability(treeCalc_1!$F$2,39) -> 0.0075 | K65: 0
H66: =-$B$11+$D$15 -> -3980000 | I66: =_xll.PTreeNodeValue(treeCalc_1!$F$2,39) -> -3980000 | K66: =H66*H65 -> -29850
F67: =_xll.PTreeNodeDecision(treeCalc_1!$F$2,17) -> TRUE | G67: Decision
F68: 0 | G68: =_xll.PTreeNodeValue(treeCalc_1!$F$2,17) -> -92250 | K68: =SUM(K62:K66) -> -92250
H69: =$D$8 -> 0.8125 | I69: =_xll.PTreeNodeProbability(treeCalc_1!$F$2,20) -> 0
H70: =$B$8 -> 0 | I70: =_xll.PTreeNodeValue(treeCalc_1!$F$2,20) -> 0
G71: =_xll.PTreeNodeDecision(treeCalc_1!$F$2,19) -> FALSE | H71: Chance
G72: 0 | H72: =_xll.PTreeNodeValue(treeCalc_1!$F$2,19) -> -99375
H73: =$D$9 -> 0.15 | I73: =_xll.PTreeNodeProbability(treeCalc_1!$F$2,21) -> 0
H74: =-$B$9 -> -100000 | I74: =_xll.PTreeNodeValue(treeCalc_1!$F$2,21) -> -100000
H75: =$D$10 -> 0.03 | I75: =_xll.PTreeNodeProbability(treeCalc_1!$F$2,34) -> 0
H76: =-$B$10+$D$16 -> -1850000 | I76: =_xll.PTreeNodeValue(treeCalc_1!$F$2,34) -> -1850000
H77: =$D$11 -> 0.0075 | I77: =_xll.PTreeNodeProbability(treeCalc_1!$F$2,35) -> 0
H78: =-$B$11+$D$16 -> -3850000 | I78: =_xll.PTreeNodeValue(treeCalc_1!$F$2,35) -> -3850000

Sheet _PalUtilTempWorksheet

Sheet treeCalc_1
A1: Name | B1: Insure/retain | E1: Ptree1 Compatibility | F1: 3 | H1: Output Label | K1: R-Value Ref. | L1: 100
A2: SheetRef | B2: =Sheet1!#REF! -> #REF! | E2: Eval. Function | F2: =_xll.PTreeEvaluate5(B3,$L$11:$L$49,$J$11:$J$49,$K$11:$K$49,$N$11:$N$49,$G$11:$G$49,,L1) -> 8850433
A3: GenInfo | B3: 0,1,1,0,0,Exponential, 0,0,-1,0,-1,-1,.0001 | E3: Creation Version | F3: 8.5.0 | H3: Output Value NF | I3: <NF>
A4: Def. Link | B4: = | E4: Required Version | F4: 5.0.0 | H4: Output Prob NF | I4: Automatic
A5: EXT REFS | B5: 0 | E5: Recommended Version | F5: 5.0.0 | H5: Input Value NF | I5: <NF>
A6: Def. Form | E6: Last Modified By Version | F6: 8.5.0 | H6: Input Prob NF | I6: Automatic
A7: Calc Macro | E7: Model GUID | F7: 18555411
A8: Highest# | B8: 39
A10: Anchor Cell | B10: Branch Name | C10: bformtype | D10: valformula | E10: pbformula | F10: distribution | G10: cumPayoffFunction | H10: link | I10: ENDNODEFORMULA | J10: VAL | K10: PB | L10: GenInfo | M10: IntRefs | N10: RefRefs | O10: NodeNames | P10: Collapsed
A11: =Sheet1!$F$24 -> -92250 | B11: =B1 -> Insure/retain | C11: 0 | I11: DEFAULT | J11: =Sheet1!$E$24 -> 0 | K11: =Sheet1!$E$23 -> 0 | L11: 2,0,0,3,2,3,17,0,0,0 | M11: 0 | O11: =Sheet1!$F$23 -> Decision | P11: FALSE
A12: =Sheet1!$G$28 -> -93750 | B12: Option 1 | C12: 0 | I12: DEFAULT | J12: =Sheet1!$F$28 -> -60000 | L12: 1,0,0,4,5,6,7,8,1,0,0 | M12: 0 | O12: =Sheet1!$G$27 -> Chance | P12: FALSE
A13: =Sheet1!$G$46 -> -94250 | B13: Option 2 | C13: 0 | I13: DEFAULT | J13: =Sheet1!$F$46 -> -17000 | L13: 2,0,0,2,9,10,1,0,0 | M13: 0 | O13: =Sheet1!$G$45 -> Decision | P13: FALSE
A15: =Sheet1!$H$26 -> -60000 | B15: None | C15: 0 | H15: DEFAULT | I15: DEFAULT | J15: =Sheet1!$G$26 -> 0 | K15: =Sheet1!$G$25 -> 0.8125 | L15: 4,0,0,0,2,0,0 | M15: 0 | P15: FALSE
A16: =Sheet1!$H$30 -> -160000 | B16: Small | C16: 0 | H16: DEFAULT | I16: DEFAULT | J16: =Sheet1!$G$30 -> -100000 | K16: =Sheet1!$G$29 -> 0.15 | L16: 4,0,0,0,2,0,0 | M16: 0 | P16: FALSE
A17: =Sheet1!$H$32 -> -560000 | B17: Medium | C17: 0 | H17: DEFAULT | I17: DEFAULT | J17: =Sheet1!$G$32 -> -500000 | K17: =Sheet1!$G$31 -> 0.03 | L17: 4,0,0,0,2,0,0 | M17: 0 | P17: FALSE
A18: =Sheet1!$H$34 -> -560000 | B18: Large | C18: 0 | H18: DEFAULT | I18: DEFAULT | J18: =Sheet1!$G$34 -> -500000 | K18: =Sheet1!$G$33 -> 0.0075 | L18: 4,0,0,0,2,0,0 | M18: 0 | P18: FALSE
A19: =Sheet1!$H$38 -> -101375 | B19: No Borrowing | C19: 0 | I19: DEFAULT | J19: =Sheet1!$G$38 -> 0 | L19: 1,0,0,4,11,12,32,33,3,0,0 | M19: 0 | O19: =Sheet1!$H$37 -> Chance | P19: FALSE
A20: =Sheet1!$H$50 -> -94250 | B20: Borrowing | C20: 0 | I20: DEFAULT | J20: =Sheet1!$G$50 -> 0 | L20: 1,0,0,4,28,29,30,31,3,0,0 | M20: 0 | O20: =Sheet1!$H$49 -> Chance | P20: FALSE
A21: =Sheet1!$I$36 -> -17000 | B21: None | C21: 0 | H21: DEFAULT | I21: DEFAULT | J21: =Sheet1!$H$36 -> 0 | K21: =Sheet1!$H$35 -> 0.8125 | L21: 4,0,0,0,9,0,0 | M21: 0 | P21: FALSE
A22: =Sheet1!$I$40 -> -117000 | B22: Small | C22: 0 | H22: DEFAULT | I22: DEFAULT | J22: =Sheet1!$H$40 -> -100000 | K22: =Sheet1!$H$39 -> 0.15 | L22: 4,0,0,0,9,0,0 | M22: 0 | P22: FALSE
A27: =Sheet1!$G$68 -> -92250 | B27: Option 3 (retain) | C27: 0 | I27: DEFAULT | J27: =Sheet1!$F$68 -> 0 | L27: 2,0,0,2,18,19,1,0,0 | M27: 0 | O27: =Sheet1!$G$67 -> Decision | P27: FALSE
A28: =Sheet1!$H$60 -> -92250 | B28: Borrowing | C28: 0 | I28: DEFAULT | J28: =Sheet1!$G$60 -> 0 | L28: 1,0,0,4,36,37,38,39,17,0,0 | M28: 0 | O28: =Sheet1!$H$59 -> Chance | P28: FALSE
A29: =Sheet1!$H$72 -> -99375 | B29: No Borrowing | C29: 0 | I29: DEFAULT | J29: =Sheet1!$G$72 -> 0 | L29: 1,0,0,4,20,21,34,35,17,0,0 | M29: 0 | O29: =Sheet1!$H$71 -> Chance | P29: FALSE
A30: =Sheet1!$I$70 -> 0 | B30: None | C30: 0 | H30: DEFAULT | I30: DEFAULT | J30: =Sheet1!$H$70 -> 0 | K30: =Sheet1!$H$69 -> 0.8125 | L30: 4,0,0,0,19,0,0 | M30: 0 | P30: FALSE
A31: =Sheet1!$I$74 -> -100000 | B31: Small | C31: 0 | H31: DEFAULT | I31: DEFAULT | J31: =Sheet1!$H$74 -> -100000 | K31: =Sheet1!$H$73 -> 0.15 | L31: 4,0,0,0,19,0,0 | M31: 0 | P31: FALSE
A38: =Sheet1!$I$48 -> -17000 | B38: None | C38: 0 | H38: DEFAULT | I38: DEFAULT | J38: =Sheet1!$H$48 -> 0 | K38: =Sheet1!$H$47 -> 0.8125 | L38: 4,0,0,0,10,0,0 | M38: 0 | P38: FALSE
A39: =Sheet1!$I$52 -> -117000 | B39: Small | C39: 0 | H39: DEFAULT | I39: DEFAULT | J39: =Sheet1!$H$52 -> -100000 | K39: =Sheet1!$H$51 -> 0.15 | L39: 4,0,0,0,10,0,0 | M39: 0 | P39: FALSE
A40: =Sheet1!$I$54 -> -1597000 | B40: Medium | C40: 0 | H40: DEFAULT | I40: DEFAULT | J40: =Sheet1!$H$54 -> -1580000 | K40: =Sheet1!$H$53 -> 0.03 | L40: 4,0,0,0,10,0,0 | M40: 0 | P40: FALSE
A41: =Sheet1!$I$56 -> -1997000 | B41: Large | C41: 0 | H41: DEFAULT | I41: DEFAULT | J41: =Sheet1!$H$56 -> -1980000 | K41: =Sheet1!$H$55 -> 0.0075 | L41: 4,0,0,0,10,0,0 | M41: 0 | P41: FALSE
A42: =Sheet1!$I$42 -> -1867000 | B42: Medium | C42: 0 | H42: DEFAULT | I42: DEFAULT | J42: =Sheet1!$H$42 -> -1850000 | K42: =Sheet1!$H$41 -> 0.03 | L42: 4,0,0,0,9,0,0 | M42: 0 | P42: FALSE
A43: =Sheet1!$I$44 -> -1867000 | B43: Large | C43: 0 | H43: DEFAULT | I43: DEFAULT | J43: =Sheet1!$H$44 -> -1850000 | K43: =Sheet1!$H$43 -> 0.0075 | L43: 4,0,0,0,9,0,0 | M43: 0 | P43: FALSE
A44: =Sheet1!$I$76 -> -1850000 | B44: Medium | C44: 0 | H44: DEFAULT | I44: DEFAULT | J44: =Sheet1!$H$76 -> -1850000 | K44: =Sheet1!$H$75 -> 0.03 | L44: 4,0,0,0,19,0,0 | M44: 0 | P44: FALSE
A45: =Sheet1!$I$78 -> -3850000 | B45: Large | C45: 0 | H45: DEFAULT | I45: DEFAULT | J45: =Sheet1!$H$78 -> -3850000 | K45: =Sheet1!$H$77 -> 0.0075 | L45: 4,0,0,0,19,0,0 | M45: 0 | P45: FALSE
A46: =Sheet1!$I$58 -> 0 | B46: None | C46: 0 | H46: DEFAULT | I46: DEFAULT | J46: =Sheet1!$H$58 -> 0 | K46: =Sheet1!$H$57 -> 0.8125 | L46: 4,0,0,0,18,0,0 | M46: 0 | P46: FALSE
A47: =Sheet1!$I$62 -> -100000 | B47: Small | C47: 0 | H47: DEFAULT | I47: DEFAULT | J47: =Sheet1!$H$62 -> -100000 | K47: =Sheet1!$H$61 -> 0.15 | L47: 4,0,0,0,18,0,0 | M47: 0 | P47: FALSE
A48: =Sheet1!$I$64 -> -1580000 | B48: Medium | C48: 0 | H48: DEFAULT | I48: DEFAULT | J48: =Sheet1!$H$64 -> -1580000 | K48: =Sheet1!$H$63 -> 0.03 | L48: 4,0,0,0,18,0,0 | M48: 0 | P48: FALSE
A49: =Sheet1!$I$66 -> -3980000 | B49: Large | C49: 0 | H49: DEFAULT | I49: DEFAULT | J49: =Sheet1!$H$66 -> -3980000 | K49: =Sheet1!$H$65 -> 0.0075 | L49: 4,0,0,0,18,0,0 | M49: 0 | P49: FALSE
