Workbook
Name _: #REF!
Name __FDS_UNIQUE_RANGE_ID_GENERATOR_COUNTER: 50
Name __FDS_USED_FOR_REUSING_RANGE_IDS_RECYCLE: {22,8,23,4,14,18,17,43,48,47,45,46,1,51,50,49}
Name __FDS_USED_FOR_REUSING_RANGE_IDS_RECYCLE: {22,8,23,4,14,18,17,43,48,47,45,46,1,51,50,49}
Name __FDS_USED_FOR_REUSING_RANGE_IDS_RECYCLE: {22,8,23,4,14,18,17,43,48,47,45,46,1,51,50,49}
Name __FDS_USED_FOR_REUSING_RANGE_IDS_RECYCLE: {22,8,23,4,14,18,17,43,48,47,45,46,1,51,50,49}
Name __FDS_USED_FOR_REUSING_RANGE_IDS_RECYCLE: {22,8,23,4,14,18,17,43,48,47,45,46,1,51,50,49}
Name __FDS_USED_FOR_REUSING_RANGE_IDS_RECYCLE: {22,8,23,4,14,18,17,43,48,47,45,46,1,51,50,49}
Name __FDS_USED_FOR_REUSING_RANGE_IDS_RECYCLE: {22,8,23,4,14,18,17,43,48,47,45,46,1,51,50,49}
Name __FDS_USED_FOR_REUSING_RANGE_IDS_RECYCLE: {22,8,23,4,14,18,17,43,48,47,45,46,1,51,50,49}
Name __FDS_USED_FOR_REUSING_RANGE_IDS_RECYCLE: {22,8,23,4,14,18,17,43,48,47,45,46,1,51,50,49}
Name __FDS_USED_FOR_REUSING_RANGE_IDS_RECYCLE_1: {22,8,23,4,14,18,17,43,48,47,45,46,1,51,50,49}
Name __FDS_USED_FOR_REUSING_RANGE_IDS_RECYCLE_1: {22,8,23,4,14,18,17,43,48,47,45,46,1,51,50,49}
Name _1: #REF!
Name _1_0EBITDA_Sh: [3]NOPAT_VDF!#REF!
Name _10_3_0Other_Segment_Reven: [3]NOPAT_VDF!#REF!
Name _1007: #REF!
Name _10071: #REF!
Name _1007a: #REF!
Name _1009: #REF!
Name _1015: '[4]RMA Feb'!#REF!
Name _1017: '[4]RMA Feb'!#REF!
Name _1031: #REF!
Name _1033: #REF!
Name _1040: #REF!
Name _1042: #REF!
Name _1043: #REF!
Name _1045: #REF!
Name _1051: '[4]RMA Feb'!#REF!
Name _1053: '[4]RMA Feb'!#REF!
Name _1067: '[4]All MRB Feb'!#REF!
Name _1069: '[4]All MRB Feb'!#REF!
Name _1073: #REF!
Name _1075: '[4]All MRB Mar'!$I$37
Name _1079: #REF!
Name _1081: #REF!
Name _1087: '[4]RMA Feb'!#REF!
Name _1089: '[4]RMA Feb'!#REF!
Name _1103: '[4]All MRB Feb'!#REF!
Name _1105: '[4]All MRB Feb'!#REF!
Name _1123: '[4]RMA Feb'!#REF!
Name _1125: '[4]RMA Feb'!#REF!
Name _1129: #REF!
Name _1131: #REF!
Name _1139: #REF!
Name _1141: #REF!
Name _115: #REF!
Name _1159: '[4]RMA Feb'!#REF!
Name _1161: '[4]RMA Feb'!#REF!
Name _117: #REF!
Name _1175: '[4]All MRB Feb'!#REF!
Name _1177: '[4]All MRB Feb'!#REF!
Name _1179: #REF!
Name _1181: #REF!
Name _1195: '[4]RMA Feb'!#REF!
Name _1197: '[4]RMA Feb'!#REF!
Name _1211: '[4]All MRB Feb'!#REF!
Name _1213: '[4]All MRB Feb'!#REF!
Name _1217: #REF!
Name _1219: #REF!

Sheet Cover
C46: Version: 10.15.2025

Sheet Control
B2: Control
B4: Circuit Switch | C4: Off | E4: Enterprise Value | H4: Fully Diluted Shares
B5: Operating Case | C5: Management | H5: MM
B6: Valuation Date | C6: 45882 | E6: Current Share Price | F6: 181.59
E7: Fully Diluted Shares Outstanding | F7: =I10 -> 24677 | H7: Basic Shares Outstanding | I7: 24400
B8: 10:1 stock-split effective 6/6/2024 | E8: Equity Value | F8: =F6*F7 -> 4481096.4 | H8: Plus: RSUs and PSUs | I8: 277
E9: Debt | F9: 8500 | H9: Plus: Other | I9: 0
E10: Cash | F10: =-15234-38457 -> -53691 | H10: Fully Diluted Shares | I10: =SUM(I7:I9) -> 24677
E11: Other | F11: -3240
E12: Enterprise Value | F12: =SUM(F8:F11) -> 4432665.4
E14: Implied Multiples
E16: FY 2026E Revenue | F16: =IF($C$5="Street",'Operating Model'!$F$17,Control!F16) -> 203602
E17: FY 2026E EBITDA | F17: ='Operating Model'!F37 -> 124574.55
E18: FY 2026E Net Income | F18: ='Operating Model'!F49 -> 103464.97
E20: EV / 2025E Revenue | F20: =F12/F16 -> 21.771227
E21: EV / 2025E EBITDA | F21: =F12/F17 -> 35.582432
E22: Price / 2025E Earnings | F22: =F8/F18 -> 43.310275

Sheet Operating Model
B2: Nvidia Operating Model
B4: Income Statement | C4: Fiscal Year Ending January
B5: $MM, unless otherwise noted | C5: 44955 | D5: 45319 | E5: 45683 | F5: 46052 | G5: 46417 | H5: 46782 | I5: 47148 | J5: 47513
B7: Data Center Revenue | C7: 15005 | D7: 47525 | E7: 115186 | F7: =E7*(1+F8) -> 182241.09 | G7: =F7*(1+G8) -> 255137.52 | H7: =G7*(1+H8) -> 357192.53 | I7: =H7*(1+I8) -> 464350.29 | J7: =I7*(1+J8) -> 557220.34
B8: % growth | D8: =D7/C7-1 -> 2.1672776 | E8: =E7/D7-1 -> 1.4236928 | F8: =Drivers!F7 -> 0.58214614 | G8: =Drivers!G7 -> 0.4 | H8: =Drivers!H7 -> 0.4 | I8: =Drivers!I7 -> 0.3 | J8: =Drivers!J7 -> 0.2
B9: Gaming Revenue | C9: 9067 | D9: 10447 | E9: 11350 | F9: =E9*(1+F10) -> 16188.494 | G9: =F9*(1+G10) -> 18713.899 | H9: =G9*(1+H10) -> 21053.136 | I9: =H9*(1+I10) -> 23579.513 | J9: =I9*(1+J10) -> 26409.054
B10: % growth | D10: =D9/C9-1 -> 0.15220029 | E10: =E9/D9-1 -> 0.086436298 | F10: =Drivers!F15 -> 0.42629903 | G10: =Drivers!G15 -> 0.156 | H10: =Drivers!H15 -> 0.125 | I10: =Drivers!I15 -> 0.12 | J10: =Drivers!J15 -> 0.12
B11: Professional Visualization Revenue | C11: 1544 | D11: 1553 | E11: 1878 | F11: =E11*(1+F12) -> 2248.6348 | G11: =F11*(1+G12) -> 2639.8972 | H11: =G11*(1+H12) -> 2917.0864 | I11: =H11*(1+I12) -> 3150.4533 | J11: =I11*(1+J12) -> 3402.4896
B12: % growth | D12: =D11/C11-1 -> 0.0058290155 | E12: =E11/D11-1 -> 0.20927238 | F12: =Drivers!F23 -> 0.1973561 | G12: =Drivers!G23 -> 0.174 | H12: =Drivers!H23 -> 0.105 | I12: =Drivers!I23 -> 0.08 | J12: =Drivers!J23 -> 0.08
B13: Automotive Revenue | C13: 903 | D13: 1091 | E13: 1694 | F13: =E13*(1+F14) -> 2444.8405 | G13: =F13*(1+G14) -> 3545.0188 | H13: =G13*(1+H14) -> 5140.2772 | I13: =H13*(1+I14) -> 7196.3881 | J13: =I13*(1+J14) -> 9715.1239
B14: % growth | D14: =D13/C13-1 -> 0.20819491 | E14: =E13/D13-1 -> 0.55270394 | F14: =Drivers!F31 -> 0.44323526 | G14: =Drivers!G31 -> 0.45 | H14: =Drivers!H31 -> 0.45 | I14: =Drivers!I31 -> 0.4 | J14: =Drivers!J31 -> 0.35
B15: OEM and Other Revenue | C15: 455 | D15: 306 | E15: 389 | F15: =E15*(1+F16) -> 478.99342 | G15: =F15*(1+G16) -> 582.45599 | H15: =G15*(1+H16) -> 691.37526 | I15: =H15*(1+I16) -> 795.08155 | J15: =I15*(1+J16) -> 874.58971
B16: % growth | D16: =D15/C15-1 -> -0.32747253 | E16: =E15/D15-1 -> 0.27124183 | F16: =Drivers!F39 -> 0.23134554 | G16: =Drivers!G39 -> 0.216 | H16: =Drivers!H39 -> 0.187 | I16: =Drivers!I39 -> 0.15 | J16: =Drivers!J39 -> 0.1
B17: Total Revenue | C17: =C7+C9+C11+C13+C15 -> 26974 | D17: =D7+D9+D11+D13+D15 -> 60922 | E17: =E7+E9+E11+E13+E15 -> 130497 | F17: =F7+F9+F11+F13+F15 -> 203602.05 | G17: =G7+G9+G11+G13+G15 -> 280618.79 | H17: =H7+H9+H11+H13+H15 -> 386994.4 | I17: =I7+I9+I11+I13+I15 -> 499071.72 | J17: =J7+J9+J11+J13+J15 -> 597621.6
B18: % growth | D18: =D17/C17-1 -> 1.2585453 | E18: =E17/D17-1 -> 1.1420341 | F18: =F17/E17-1 -> 0.56020482 | G18: =G17/F17-1 -> 0.37827096 | H18: =H17/G17-1 -> 0.37907516 | I18: =I17/H17-1 -> 0.28960966 | J18: =J17/I17-1 -> 0.19746637
B20: Cost of Revenue | C20: -11618 | D20: -16621 | E20: -32639 | F20: =F$17*F21 -> -59672.589 | G20: =G$17*G21 -> -73241.504 | H20: =H$17*H21 -> -98683.573 | I20: =I$17*I21 -> -124767.93 | J20: =J$17*J21 -> -146417.29
B21: % margin | C21: =C20/C$17 -> -0.43071106 | D21: =D20/D$17 -> -0.27282427 | E21: =E20/E$17 -> -0.25011303 | F21: =Drivers!F47 -> -0.29308443 | G21: =Drivers!G47 -> -0.261 | H21: =Drivers!H47 -> -0.255 | I21: =Drivers!I47 -> -0.25 | J21: =Drivers!J47 -> -0.245
B22: Gross Profit | C22: =C17+C20 -> 15356 | D22: =D17+D20 -> 44301 | E22: =E17+E20 -> 97858 | F22: =F17+F20 -> 143929.46 | G22: =G17+G20 -> 207377.29 | H22: =H17+H20 -> 288310.83 | I22: =I17+I20 -> 374303.79 | J22: =J17+J20 -> 451204.31
B23: % margin | C23: =C22/C$17 -> 0.56928894 | D23: =D22/D$17 -> 0.72717573 | E23: =E22/E$17 -> 0.74988697 | F23: =F22/F$17 -> 0.70691557 | G23: =G22/G$17 -> 0.739 | H23: =H22/H$17 -> 0.745 | I23: =I22/I$17 -> 0.75 | J23: =J22/J$17 -> 0.755
B25: Research and Development Costs | C25: -7339 | D25: -8675 | E25: -12914 | F25: =F$17*F26 -> -17511.71 | G25: =G$17*G26 -> -19643.315 | H25: =H$17*H26 -> -27089.608 | I25: =I$17*I26 -> -34935.021 | J25: =J$17*J26 -> -41833.512
B26: % margin | C26: =C25/C$17 -> -0.27207681 | D26: =D25/D$17 -> -0.14239519 | E26: =E25/E$17 -> -0.098960129 | F26: =Drivers!F55 -> -0.086009498 | G26: =Drivers!G55 -> -0.07 | H26: =Drivers!H55 -> -0.07 | I26: =Drivers!I55 -> -0.07 | J26: =Drivers!J55 -> -0.07
B27: Sales, General and Administrative Costs | C27: -2440 | D27: -2654 | E27: -3491 | F27: =F$17*F28 -> -4317.2 | G27: =G$17*G28 -> -4489.9007 | H27: =H$17*H28 -> -5417.9216 | I27: =I$17*I28 -> -6487.9324 | J27: =J$17*J28 -> -7171.4592
B28: % margin | C28: =C27/C$17 -> -0.090457478 | D28: =D27/D$17 -> -0.043563901 | E28: =E27/E$17 -> -0.026751573 | F28: =Drivers!F63 -> -0.021204109 | G28: =Drivers!G63 -> -0.016 | H28: =Drivers!H63 -> -0.014 | I28: =Drivers!I63 -> -0.013 | J28: =Drivers!J63 -> -0.012
B29: Acquisition Termination Costs | C29: -1353 | D29: 0 | E29: 0 | F29: =F$17*F30 -> 0 | G29: =G$17*G30 -> 0 | H29: =H$17*H30 -> 0 | I29: =I$17*I30 -> 0 | J29: =J$17*J30 -> 0
B30: % margin | C30: =C29/C$17 -> -0.050159413 | D30: =D29/D$17 -> 0 | E30: =E29/E$17 -> 0 | F30: 0 | G30: 0 | H30: 0 | I30: 0 | J30: 0
B31: Operating Expenses | C31: =C25+C27+C29 -> -11132 | D31: =D25+D27+D29 -> -11329 | E31: =E25+E27+E29 -> -16405 | F31: =F25+F27+F29 -> -21828.91 | G31: =G25+G27+G29 -> -24133.216 | H31: =H25+H27+H29 -> -32507.53 | I31: =I25+I27+I29 -> -41422.953 | J31: =J25+J27+J29 -> -49004.971
B32: % margin | C32: =C31/C$17 -> -0.41269371 | D32: =D31/D$17 -> -0.1859591 | E32: =E31/E$17 -> -0.1257117 | F32: =F31/F$17 -> -0.10721361 | G32: =G31/G$17 -> -0.086 | H32: =H31/H$17 -> -0.084 | I32: =I31/I$17 -> -0.083 | J32: =J31/J$17 -> -0.082
B34: Operating Income (EBIT) | C34: =C22+C31 -> 4224 | D34: =D22+D31 -> 32972 | E34: =E22+E31 -> 81453 | F34: =F22+F31 -> 122100.55 | G34: =G22+G31 -> 183244.07 | H34: =H22+H31 -> 255803.3 | I34: =I22+I31 -> 332880.84 | J34: =J22+J31 -> 402199.34
B35: % margin | C35: =C34/C$17 -> 0.15659524 | D35: =D34/D$17 -> 0.54121664 | E35: =E34/E$17 -> 0.62417527 | F35: =F34/F$17 -> 0.59970197 | G35: =G34/G$17 -> 0.653 | H35: =H34/H$17 -> 0.661 | I35: =I34/I$17 -> 0.667 | J35: =J34/J$17 -> 0.673
B37: EBITDA | C37: =C34+C64 -> 5768 | D37: =D34+D64 -> 34480 | E37: =E34+E64 -> 83317 | F37: =F34+F64 -> 124574.55 | G37: =G34+G64 -> 186050.26 | H37: =H34+H64 -> 259673.24 | I37: =I34+I64 -> 337871.56 | J37: =J34+J64 -> 408175.55
B38: % margin | C38: =C37/C$17 -> 0.21383555 | D38: =D37/D$17 -> 0.5659696 | E38: =E37/E$17 -> 0.63845912 | F38: =F37/F$17 -> 0.61185312 | G38: =G37/G$17 -> 0.663 | H38: =H37/H$17 -> 0.671 | I38: =I37/I$17 -> 0.677 | J38: =J37/J$17 -> 0.683
B40: Interest Income | C40: 267 | D40: 866 | E40: 1786 | F40: ='Operating Model'!F267 -> 2200.7956 | G40: ='Operating Model'!G267 -> 4112.2857 | H40: ='Operating Model'!H267 -> 6192.3512 | I40: ='Operating Model'!I267 -> 8588.5474 | J40: ='Operating Model'!J267 -> 10696.176
B41: Interest Expense | C41: -262 | D41: -257 | E41: -247 | F41: =-F260 -> -242.625 | G41: =-G260 -> -226.625 | H41: =-H260 -> -210.625 | I41: =-I260 -> -200.9375 | J41: =-J260 -> -191.25
B42: Other income, net | C42: -48 | D42: 237 | E42: 1034 | F42: 0 | G42: 0 | H42: 0 | I42: 0 | J42: 0
B44: Income Before Income Taxes | C44: =C34+C40+C41+C42 -> 4181 | D44: =D34+D40+D41+D42 -> 33818 | E44: =E34+E40+E41+E42 -> 84026 | F44: =F34+F40+F41+F42 -> 124058.72 | G44: =G34+G40+G41+G42 -> 187129.73 | H44: =H34+H40+H41+H42 -> 261785.03 | I44: =I34+I40+I41+I42 -> 341268.45 | J44: =J34+J40+J41+J42 -> 412704.26
B46: Taxes | C46: 187 | D46: -4058 | E46: -11146 | F46: =-F44*F47 -> -20593.747 | G46: =-G44*G47 -> -30876.406 | H46: =-H44*H47 -> -43194.529 | I46: =-I44*I47 -> -56309.294 | J46: =-J44*J47 -> -68096.204
B47: Tax rate | C47: =-C46/C44 -> -0.044726142 | D47: =-D46/D44 -> 0.11999527 | E47: =-E46/E44 -> 0.13264942 | F47: =Drivers!F71 -> 0.166 | G47: =Drivers!G71 -> 0.165 | H47: =Drivers!H71 -> 0.165 | I47: =Drivers!I71 -> 0.165 | J47: =Drivers!J71 -> 0.165
B49: Net income | C49: =C44+C46 -> 4368 | D49: =D44+D46 -> 29760 | E49: =E44+E46 -> 72880 | F49: =F44+F46 -> 103464.97 | G49: =G44+G46 -> 156253.33 | H49: =H44+H46 -> 218590.5 | I49: =I44+I46 -> 284959.15 | J49: =J44+J46 -> 344608.06
B50: % margin | C50: =C49/C$17 -> 0.16193371 | D50: =D49/D$17 -> 0.48849348 | E50: =E49/E$17 -> 0.55848027 | F50: =F49/F$17 -> 0.50817255 | G50: =G49/G$17 -> 0.55681704 | H50: =H49/H$17 -> 0.5648415 | I50: =I49/I$17 -> 0.57097836 | J50: =J49/J$17 -> 0.57663254
B52: Basic Shares | C52: 24870 | D52: 24940 | E52: 24555 | F52: 24235.5 | G52: 23847.1 | H52: 23399.9 | I52: 22993.3 | J52: 22623.7
...

Sheet Drivers
B2: Operating Case Drivers
B4: Income Statement | C4: Fiscal Year Ending January
B5: $MM, unless otherwise noted | C5: 44955 | D5: 45319 | E5: 45683 | F5: 46052 | G5: 46417 | H5: 46782 | I5: 47148 | J5: 47513
B7: Data Center Revenue | F7: =SUMIF($B9:$B13, Control!$C$5, Drivers!F9:F13) -> 0.58214614 | G7: =SUMIF($B9:$B13, Control!$C$5, Drivers!G9:G14) -> 0.4 | H7: =SUMIF($B9:$B13, Control!$C$5, Drivers!H9:H14) -> 0.4 | I7: =SUMIF($B9:$B13, Control!$C$5, Drivers!I9:I14) -> 0.3 | J7: =SUMIF($B9:$B13, Control!$C$5, Drivers!J9:J14) -> 0.2
C8: 15005 | D8: 47525 | E8: 115186 | F8: 182241.1 | G8: 237531.2 | H8: 267530.7 | I8: 294283.8 | J8: 323712.2
B9: Street | D9: =D8/C8-1 -> 2.1672776 | E9: =E8/D8-1 -> 1.4236928 | F9: =F8/E8-1 -> 0.58214627 | G9: =G8/F8-1 -> 0.30338985 | H9: =H8/G8-1 -> 0.12629709 | I9: =I8/H8-1 -> 0.10000011 | J9: =J8/I8-1 -> 0.10000007
F12: 182241.09 | G12: 255137.52 | H12: 357192.53 | I12: 464350.29 | J12: 557220.34
B13: Management | F13: =F12/E8-1 -> 0.58214614 | G13: =G12/F12-1 -> 0.4 | H13: =H12/G12-1 -> 0.4 | I13: =I12/H12-1 -> 0.3 | J13: =J12/I12-1 -> 0.2
B15: Gaming Revenue | F15: =SUMIF($B17:$B21, Control!$C$5, Drivers!F17:F21) -> 0.42629903 | G15: =SUMIF($B17:$B21, Control!$C$5, Drivers!G17:G22) -> 0.156 | H15: =SUMIF($B17:$B21, Control!$C$5, Drivers!H17:H22) -> 0.125 | I15: =SUMIF($B17:$B21, Control!$C$5, Drivers!I17:I22) -> 0.12 | J15: =SUMIF($B17:$B21, Control!$C$5, Drivers!J17:J22) -> 0.12
C16: 9067 | D16: 10447 | E16: 11350 | F16: 16188.5 | G16: 17499.2 | H16: 19494.9 | I16: 21151.9 | J16: 22632.6
B17: Street | D17: =D16/C16-1 -> 0.15220029 | E17: =E16/D16-1 -> 0.086436298 | F17: =F16/E16-1 -> 0.42629956 | G17: =G16/F16-1 -> 0.080964882 | H17: =H16/G16-1 -> 0.11404521 | I17: =I16/H16-1 -> 0.084996589 | J17: =J16/I16-1 -> 0.070003168
F20: 16188.494 | G20: 18713.899 | H20: 21053.136 | I20: 23579.513 | J20: 26409.054
B21: Management | F21: =F20/E16-1 -> 0.42629903 | G21: =G20/F20-1 -> 0.156 | H21: =H20/G20-1 -> 0.125 | I21: =I20/H20-1 -> 0.12 | J21: =J20/I20-1 -> 0.12
B23: Professional Visualization Revenue | F23: =SUMIF($B25:$B29, Control!$C$5, Drivers!F25:F29) -> 0.1973561 | G23: =SUMIF($B25:$B29, Control!$C$5, Drivers!G25:G29) -> 0.174 | H23: =SUMIF($B25:$B29, Control!$C$5, Drivers!H25:H29) -> 0.105 | I23: =SUMIF($B25:$B29, Control!$C$5, Drivers!I25:I29) -> 0.08 | J23: =SUMIF($B25:$B29, Control!$C$5, Drivers!J25:J29) -> 0.08
C24: 1544 | D24: 1553 | E24: 1878 | F24: 2248.6 | G24: 2546.2 | H24: 2737.1 | I24: 2874 | J24: 3017.7
B25: Street | D25: =D24/C24-1 -> 0.0058290155 | E25: =E24/D24-1 -> 0.20927238 | F25: =F24/E24-1 -> 0.19733759 | G25: =G24/F24-1 -> 0.13234902 | H25: =H24/G24-1 -> 0.074974472 | I25: =I24/H24-1 -> 0.050016441 | J25: =J24/I24-1 -> 0.05
F28: 2248.6348 | G28: 2639.8972 | H28: 2917.0864 | I28: 3150.4533 | J28: 3402.4896
B29: Management | F29: =F28/E24-1 -> 0.1973561 | G29: =G28/F28-1 -> 0.174 | H29: =H28/G28-1 -> 0.105 | I29: =I28/H28-1 -> 0.08 | J29: =J28/I28-1 -> 0.08
B31: Automotive Revenue | F31: =SUMIF($B33:$B37, Control!$C$5, Drivers!F33:F37) -> 0.44323526 | G31: =SUMIF($B33:$B37, Control!$C$5, Drivers!G33:G37) -> 0.45 | H31: =SUMIF($B33:$B37, Control!$C$5, Drivers!H33:H37) -> 0.45 | I31: =SUMIF($B33:$B37, Control!$C$5, Drivers!I33:I37) -> 0.4 | J31: =SUMIF($B33:$B37, Control!$C$5, Drivers!J33:J37) -> 0.35
C32: 903 | D32: 1091 | E32: 1694 | F32: 2444.8 | G32: 3548.7 | H32: 5158.4 | I32: 7221.7 | J32: 9388.3
B33: Street | D33: =D32/C32-1 -> 0.20819491 | E33: =E32/D32-1 -> 0.55270394 | F33: =F32/E32-1 -> 0.44321133 | G33: =G32/F32-1 -> 0.45152978 | H33: =H32/G32-1 -> 0.45360273 | I33: =I32/H32-1 -> 0.39998837 | J33: =J32/I32-1 -> 0.30001246
F36: 2444.8405 | G36: 3545.0188 | H36: 5140.2772 | I36: 7196.3881 | J36: 9715.1239
B37: Management | F37: =F36/E32-1 -> 0.44323526 | G37: =G36/F36-1 -> 0.45 | H37: =H36/G36-1 -> 0.45 | I37: =I36/H36-1 -> 0.4 | J37: =J36/I36-1 -> 0.35
B39: OEM and Other Revenue | F39: =SUMIF($B41:$B45, Control!$C$5, Drivers!F41:F45) -> 0.23134554 | G39: =SUMIF($B41:$B45, Control!$C$5, Drivers!G41:G45) -> 0.216 | H39: =SUMIF($B41:$B45, Control!$C$5, Drivers!H41:H45) -> 0.187 | I39: =SUMIF($B41:$B45, Control!$C$5, Drivers!I41:I45) -> 0.15 | J39: =SUMIF($B41:$B45, Control!$C$5, Drivers!J41:J45) -> 0.1
C40: 455 | D40: 306 | E40: 389 | F40: 479 | G40: 559.7 | H40: 616.1 | I40: 668.5 | J40: 715.2
B41: Street | D41: =D40/C40-1 -> -0.32747253 | E41: =E40/D40-1 -> 0.27124183 | F41: =F40/E40-1 -> 0.23136247 | G41: =G40/F40-1 -> 0.16847599 | H41: =H40/G40-1 -> 0.10076827 | I41: =I40/H40-1 -> 0.085051128 | J41: =J40/I40-1 -> 0.069857891
F44: 478.99342 | G44: 582.45599 | H44: 691.37526 | I44: 795.08155 | J44: 874.58971
B45: Management | F45: =F44/E40-1 -> 0.23134554 | G45: =G44/F44-1 -> 0.216 | H45: =H44/G44-1 -> 0.187 | I45: =I44/H44-1 -> 0.15 | J45: =J44/I44-1 -> 0.1
B47: Cost of Revenue Margin | F47: =SUMIF($B49:$B53, Control!$C$5, Drivers!F49:F53) -> -0.29308443 | G47: =SUMIF($B49:$B53, Control!$C$5, Drivers!G49:G53) -> -0.261 | H47: =SUMIF($B49:$B53, Control!$C$5, Drivers!H49:H53) -> -0.255 | I47: =SUMIF($B49:$B53, Control!$C$5, Drivers!I49:I53) -> -0.25 | J47: =SUMIF($B49:$B53, Control!$C$5, Drivers!J49:J53) -> -0.245
C48: -11618 | D48: -16621 | E48: -32639 | F48: -59672.6 | G48: -71425 | H48: -75462.2 | I48: -83181 | J48: -91663.8
B49: Street | C49: =C48/(C$8+C$16+C$24+C$32+C$40) -> -0.43071106 | D49: =D48/(D$8+D$16+D$24+D$32+D$40) -> -0.27282427 | E49: =E48/(E$8+E$16+E$24+E$32+E$40) -> -0.25011303 | F49: =F48/(F$8+F$16+F$24+F$32+F$40) -> -0.29308455 | G49: =G48/(G$8+G$16+G$24+G$32+G$40) -> -0.27294266 | H49: =H48/(H$8+H$16+H$24+H$32+H$40) -> -0.25533909 | I49: =I48/(I$8+I$16+I$24+I$32+I$40) -> -0.25500008 | J49: =J48/(J$8+J$16+J$24+J$32+J$40) -> -0.25499992
F52: -59672.589 | G52: -73241.504 | H52: -98683.573 | I52: -124767.93 | J52: -146417.29
B53: Management | F53: =F52/(F$12+F$20+F$28+F$36+F$44) -> -0.29308443 | G53: =G52/(G$12+G$20+G$28+G$36+G$44) -> -0.261 | H53: =H52/(H$12+H$20+H$28+H$36+H$44) -> -0.255 | I53: =I52/(I$12+I$20+I$28+I$36+I$44) -> -0.25 | J53: =J52/(J$12+J$20+J$28+J$36+J$44) -> -0.245
B55: Research and Development Costs Margin | F55: =SUMIF($B57:$B61, Control!$C$5, Drivers!F57:F61) -> -0.086009498 | G55: =SUMIF($B57:$B61, Control!$C$5, Drivers!G57:G61) -> -0.07 | H55: =SUMIF($B57:$B61, Control!$C$5, Drivers!H57:H61) -> -0.07 | I55: =SUMIF($B57:$B61, Control!$C$5, Drivers!I57:I61) -> -0.07 | J55: =SUMIF($B57:$B61, Control!$C$5, Drivers!J57:J61) -> -0.07
C56: -7339 | D56: -8675 | E56: -12914 | F56: -17511.7 | G56: -20149.7 | H56: -22041.5 | I56: -24465 | J56: -26959.9
B57: Street | C57: =C56/(C$8+C$16+C$24+C$32+C$40) -> -0.27207681 | D57: =D56/(D$8+D$16+D$24+D$32+D$40) -> -0.14239519 | E57: =E56/(E$8+E$16+E$24+E$32+E$40) -> -0.098960129 | F57: =F56/(F$8+F$16+F$24+F$32+F$40) -> -0.086009469 | G57: =G56/(G$8+G$16+G$24+G$32+G$40) -> -0.076999828 | H57: =H56/(H$8+H$16+H$24+H$32+H$40) -> -0.074581136 | I57: =I56/(I$8+I$16+I$24+I$32+I$40) -> -0.075000023 | J57: =J56/(J$8+J$16+J$24+J$32+J$40) -> -0.074999861
F60: -17511.71 | G60: -19643.315 | H60: -27089.608 | I60: -34935.021 | J60: -41833.512
B61: Management | F61: =F60/(F$12+F$20+F$28+F$36+F$44) -> -0.086009498 | G61: =G60/(G$12+G$20+G$28+G$36+G$44) -> -0.07 | H61: =H60/(H$12+H$20+H$28+H$36+H$44) -> -0.07 | I61: =I60/(I$12+I$20+I$28+I$36+I$44) -> -0.07 | J61: =J60/(J$12+J$20+J$28+J$36+J$44) -> -0.07
B63: Sales, General and Administrative Costs Margin | F63: =SUMIF($B65:$B69, Control!$C$5, Drivers!F65:F69) -> -0.021204109 | G63: =SUMIF($B65:$B69, Control!$C$5, Drivers!G65:G69) -> -0.016 | H63: =SUMIF($B65:$B69, Control!$C$5, Drivers!H65:H69) -> -0.014 | I63: =SUMIF($B65:$B69, Control!$C$5, Drivers!I65:I69) -> -0.013 | J63: =SUMIF($B65:$B69, Control!$C$5, Drivers!J65:J69) -> -0.012
C64: -2440 | D64: -2654 | E64: -3491 | F64: -4317.2 | G64: -4619.5 | H64: -4806.4 | I64: -5219.2 | J64: -5751.5
...

Sheet Projections
B2: Nvidia Projections
C4: Equity Research Case | I4: Management Case
B5: Income Statement | C5: 46052 | D5: 46417 | E5: 46782 | F5: 47148 | G5: 47513 | I5: 46052 | J5: 46417 | K5: 46782 | L5: 47148 | M5: 47513
B6: Data Center Revenue | C6: 182241.1 | D6: 237531.2 | E6: 267530.7 | F6: 294283.8 | G6: 323712.2 | I6: 182241.09 | J6: 255137.52 | K6: 357192.53 | L6: 464350.29 | M6: 557220.34
B7: Gaming Revenue | C7: 16188.5 | D7: 17499.2 | E7: 19494.9 | F7: 21151.9 | G7: 22632.6 | I7: 16188.494 | J7: 18713.899 | K7: 21053.136 | L7: 23579.513 | M7: 26409.054
B8: Professional Visualization Revenue | C8: 2248.6 | D8: 2546.2 | E8: 2737.1 | F8: 2874 | G8: 3017.7 | I8: 2248.6348 | J8: 2639.8972 | K8: 2917.0864 | L8: 3150.4533 | M8: 3402.4896
B9: Automotive Revenue | C9: 2444.8 | D9: 3548.7 | E9: 5158.4 | F9: 7221.7 | G9: 9388.3 | I9: 2444.8405 | J9: 3545.0188 | K9: 5140.2772 | L9: 7196.3881 | M9: 9715.1239
B10: OEM and Other Revenue | C10: 479 | D10: 559.7 | E10: 616.1 | F10: 668.5 | G10: 715.2 | I10: 478.99342 | J10: 582.45599 | K10: 691.37526 | L10: 795.08155 | M10: 874.58971
B11: Cost of Revenue | C11: -59672.6 | D11: -71425 | E11: -75462.2 | F11: -83181 | G11: -91663.8 | I11: -59672.589 | J11: -73241.504 | K11: -98683.573 | L11: -124767.93 | M11: -146417.29
B12: Research and Development Costs | C12: -17511.7 | D12: -20149.7 | E12: -22041.5 | F12: -24465 | G12: -26959.9 | I12: -17511.71 | J12: -19643.315 | K12: -27089.608 | L12: -34935.021 | M12: -41833.512
B13: Sales, General and Administrative Costs | C13: -4317.2 | D13: -4619.5 | E13: -4806.4 | F13: -5219.2 | G13: -5751.5 | I13: -4317.2 | J13: -4489.9007 | K13: -5417.9216 | L13: -6487.9324 | M13: -7171.4592
B14: Acquisition Termination Costs | C14: 0 | D14: 0 | E14: 0 | F14: 0 | G14: 0 | J14: same as equity research case
B15: Other Income, net | C15: 0 | D15: 0 | E15: 0 | F15: 0 | G15: 0 | J15: same as equity research case
B16: Income Tax Rate | C16: 0.166 | D16: 0.165 | E16: 0.165 | F16: 0.165 | G16: 0.165 | J16: same as equity research case
B17: Basic Shares Outstanding | C17: 24235.5 | D17: 23847.1 | E17: 23399.9 | F17: 22993.3 | G17: 22623.7 | J17: same as equity research case
B18: Diluted Shares Outstanding | C18: 24550.5 | D18: 24172.1 | E18: 23739.9 | F18: 23353.3 | G18: 23003.7 | J18: same as equity research case
B20: Statement of Cash Flows
B21: Stock-Based Compensation | C21: 6847.2 | D21: 7674.6 | E21: 8300.7 | F21: 9133.6 | G21: 10065 | I21: 6847.1968 | J21: 7576.7074 | K21: 9287.8657 | L21: 10979.578 | M21: 11952.432
B22: Depreciation Expense | C22: 2120 | D22: 2119.2 | E22: 2575.8 | F22: 2904.8 | G22: 3225.2 | I22: 2120 | J22: 2570.1879 | K22: 3785.944 | L22: 4959.7172 | M22: 5966.216
B23: Amortization Expense | C23: 354 | D23: 236 | E23: 84 | F23: 31 | G23: 10 | J23: same as equity research case
B24: Capital Expenditures | C24: 4827 | D24: 6000 | E24: 7200 | F24: 7828.8 | G24: 8627.2 | I24: 4827 | J24: 5331.757 | K24: 6578.9049 | L24: 7985.1476 | M24: 9561.9456
B25: Change in Accounts Receivables | C25: 12152 | D25: 15618.7 | E25: 17639.2 | F25: 19469.3 | G25: 21454.7 | I25: 12152 | J25: 15160.987 | K25: 22314.313 | L25: 30884.852 | M25: 42822.344
B26: Change in Inventories | C26: 4963 | D26: 6378.8 | E26: 7204 | F26: 7951.4 | G26: 8762.3 | I26: 4963 | J26: 6191.9009 | K26: 9113.3919 | L26: 12613.687 | M26: 17489.08
B27: Change in Prepaid Expenses and Other Current Assets | C27: 412 | D27: 529.5 | E27: 598 | F27: 660.1 | G27: 727.4 | I27: 412 | J27: 514.01636 | K27: 756.5419 | L27: 1047.1165 | M27: 1451.8438
B28: Change in Accounts Payable | C28: 2564 | D28: 3295.4 | E28: 3721.8 | F28: 4107.9 | G28: 4526.8 | I28: 2564 | J28: 3198.8785 | K28: 4708.1879 | L28: 6516.5209 | M28: 9035.261
B29: Change in Accrued and Other Liabilities | C29: 3371 | D29: 4332.7 | E29: 4893.2 | F29: 5400.8 | G29: 5951.6 | I29: 3371 | J29: 4205.7018 | K29: 6190.0552 | L29: 8567.5475 | M29: 11879.042
B30: "Other" Operating Activities | C30: 0 | D30: 0 | E30: 0 | F30: 0 | G30: 0 | J30: same as equity research case
B31: Purchases and Sales of Marketable Securities | C31: 0 | D31: 0 | E31: 0 | F31: 0 | G31: 0 | J31: same as equity research case
B32: Cash Paid for Acquisitions and Investments in Non-Affiliated Entities | C32: 0 | D32: 0 | E32: 0 | F32: 0 | G32: 0 | J32: same as equity research case
B33: Issuance of debt | C33: 0 | D33: 0 | E33: 0 | F33: 0 | G33: 0 | J33: same as equity research case
B34: Repayment of debt | C34: 0 | D34: -1000 | E34: 0 | F34: -1250 | G34: 0 | J34: same as equity research case
B35: Repurchases of common stock | C35: 56095 | D35: 75000 | E35: 95000 | F35: 95000 | G35: 95000 | J35: same as equity research case
B36: Dividends paid (per share) | C36: 0.04 | D36: 0.04 | E36: 0.04 | F36: 0.04 | G36: 0.04 | J36: same as equity research case
B37: "Other" Financing Activities | C37: 0 | D37: 0 | E37: 0 | F37: 0 | G37: 0 | J37: same as equity research case
B38: Interest Rate on Cash & Marketable Securities | C38: 0.035 | D38: 0.035 | E38: 0.03 | F38: 0.025 | G38: 0.02 | J38: same as equity research case
B40: Narrative About Projections | C40: GenAI market: Scaling GenAI will have a meaningful ROI for Nvidia's customers, | I40: Same assumptions on GenAI market
C41: justifying their large CAPEX spend. Compute-intensive hardware
C42: (e.g., networked GPUs) remain the dominant method for scaling Gen AI
C43: Nvidia: Data Center demand for Nvidia products continues on current trajectory | I43: Nvidia: Data Center demand for Nvidia products will continue
C44: (slowing significantly in the next 3-5 years), Nvidia and the industry avoid an | I44: to grow significantly for the next 3-5 years (much higher than the
...

Sheet Stock Trading
B2: Share Price Over Time
B4: Current Share Price | C4: 181.59
B6: Period | C6: Return | D6: Min | E6: Average | F6: Max
B7: Last 1 Month | C7: =$C$4/C37-1 -> 0.10678369 | D7: =MIN($C$15:$C$37) -> 164.07 | E7: =AVERAGE($C$15:$C$37) -> 175.6113 | F7: =MAX($C$15:$C$37) -> 183.16
B8: Last 3 Months | C8: =$C$4/C77-1 -> 0.34173193 | D8: =MIN($C$15:$C$77) -> 131.29 | E8: =AVERAGE($C$15:$C$77) -> 156.33429 | F8: =MAX($C$15:$C$77) -> 183.16
B9: Last 6 Months | C9: =$C$4/C138-1 -> 0.30781419 | D9: =MIN($C$15:$C$138) -> 94.31 | E9: =AVERAGE($C$15:$C$138) -> 135.96911 | F9: =MAX($C$15:$C$138) -> 183.16
B10: Last 12 Months | C10: =$C$4/C264-1 -> 0.53785569 | D10: =MIN($C$15:$C$264) -> 94.31 | E10: =AVERAGE($C$15:$C$264) -> 133.88086 | F10: =MAX($C$15:$C$264) -> 183.16
B11: Last 5 Years | C11: =$C$4/C1269-1 -> 14.703044 | D11: =MIN($C$15:$C$1269) -> 11.227 | E11: =AVERAGE($C$15:C1269) -> 54.100671 | F11: =MAX($C$15:$C$1269) -> 183.16
B14: Date | C14: Share price
B15: 45882 | C15: 181.59
B16: 45881 | C16: 183.16
B17: 45880 | C17: 182.06
B18: 45877 | C18: 182.7
B19: 45876 | C19: 180.77
B20: 45875 | C20: 179.42
B21: 45874 | C21: 178.26
B22: 45873 | C22: 180
B23: 45870 | C23: 173.72
B24: 45869 | C24: 177.87
B25: 45868 | C25: 179.27
B26: 45867 | C26: 175.51
... B1269: 44057 | C1269: 11.564

Sheet _CIQHiddenCacheSheet

Sheet Comps
A1: 45882
B2: Comparable Companies Valuation Range | F2: Comparable Companies Analysis | AB2: USD | AC2: USD | AD2: USD | AE2: USD | AF2: USD | AG2: USD | AH2: USD | AI2: USD | AJ2: USD | AK2: USD
F3: $$MM, unless otherwise noted | Z3: IQ_COMPANY_NAME | AA3: IQ_COUNTRY_NAME | AB3: IQ_LASTSALEPRICE | AC3: IQ_MARKETCAP | AD3: IQ_TEV | AE3: IQ_TOTAL_REV | AF3: IQ_REVENUE_MEDIAN_EST_CIQ | AG3: IQ_REVENUE_MEDIAN_EST_CIQ | AH3: IQ_REVENUE_MEDIAN_EST_CIQ | AI3: IQ_EBITDA_MEDIAN_EST_CIQ | AJ3: IQ_EBITDA_MEDIAN_EST_CIQ | AK3: IQ_EBITDA_MEDIAN_EST_CIQ
C4: Revenue Multiple | F4: =A1 -> 45882 | AE4: CY 2024 | AF4: CY 2025 | AG4: CY 2026 | AH4: CY 2027 | AI4: CY 2025 | AJ4: CY 2026 | AK4: CY 2027
B5: Valuation Build | C5: Low | D5: High
B6: Revenue Multiple | C6: 17 | D6: 20 | H6: Current Trading Value | L6: Enterprise Value / Revenue | P6: Revenue CAGR | R6: Enterprise Value / EBITDA | V6: EBITDA Margin
B7: NTM Revenue | C7: =AF8*4/12+AG8*8/12 -> 248637.14 | D7: =C7 -> 248637.14 | F7: Company | G7: Headquarters | H7: Share Price | I7: Market Cap | J7: Enterprise Value | L7: NTM | M7: CY 2026E | N7: CY 2027E | P7: CY '24-'27 | R7: NTM | S7: CY 2026E | T7: CY 2027E | V7: CY 2025E
B8: Enterprise Value | C8: =C6*C7 -> 4226831.4 | D8: =D6*D7 -> 4972742.8 | F8: =Z8 -> NVIDIA Corporation | G8: =AA8 -> United States | H8: =AB8 -> 181.59 | I8: =AC8 -> 4481096.4 | J8: =AD8 -> 4432665.4 | L8: =J8/(AF8*4/12+AG8*8/12) -> 17.827849 | M8: =J8/AG8 -> 16.165768 | N8: =J8/AH8 -> 11.722604 | P8: =(AH8/AE8)^(1/3)-1 -> 0.44741322 | R8: =J8/(AI8*4/12+AJ8*8/12) -> 27.532597 | S8: =J8/AJ8 -> 24.499707 | T8: =J8/AK8 -> 17.483239 | V8: =AI8/AF8 -> 0.61331803 | Y8: NVDA | Z8: =_xll.ciqfunctions.udf.CIQ($Y8,$Z$3) -> NVIDIA Corporation | AA8: =_xll.ciqfunctions.udf.CIQ($Y8,$AA$3) -> United States | AB8: =Control!F6 -> 181.59 | AC8: =Control!F8 -> 4481096.4 | AD8: =Control!F12 -> 4432665.4 | AE8: ='Operating Model'!D17*1/12+'Operating Model'!E17*11/12 -> 124699.08 | AF8: ='Operating Model'!E17*1/12+'Operating Model'!F17*11/12 -> 197509.96 | AG8: ='Operating Model'!F17*1/12+'Operating Model'!G17*11/12 -> 274200.73 | AH8: ='Operating Model'!G17*1/12+'Operating Model'!H17*11/12 -> 378129.77 | AI8: ='Operating Model'!E37*1/12+'Operating Model'!F37*11/12 -> 121136.42 | AJ8: ='Operating Model'!F37*1/12+'Operating Model'!G37*11/12 -> 180927.28 | AK8: ='Operating Model'!G37*1/12+'Operating Model'!H37*11/12 -> 253538
B9: Less: Net Debt and Other | C9: =-Control!$F$11-Control!$F$10-Control!$F$9 -> 48431 | D9: =C9 -> 48431
B10: Equity Value | C10: =C8+C9 -> 4275262.4 | D10: =D8+D9 -> 5021173.8 | F10: AI Focused Semiconductor Peers
B11: Fully Diluted Shares | C11: =Control!$I$10 -> 24677 | D11: =C11 -> 24677 | F11: =Z11 -> Broadcom Inc. | G11: =AA11 -> United States | H11: =AB11 -> 309.09 | I11: =AC11 -> 1453795.8 | J11: =AD11 -> 1511605.8 | L11: =J11/(AF11*4/12+AG11*8/12) -> 20.035451 | M11: =J11/AG11 -> 18.756756 | N11: =J11/AH11 -> 16.224343 | P11: =(AH11/AE11)^(1/3)-1 -> 0.19549556 | R11: =J11/(AI11*4/12+AJ11*8/12) -> 30.268048 | S11: =J11/AJ11 -> 28.305679 | T11: =J11/AK11 -> 24.705996 | V11: =AI11/AF11 -> 0.66016317 | Y11: AVGO | Z11: =_xll.ciqfunctions.udf.CIQ($Y11,$Z$3) -> Broadcom Inc. | AA11: =_xll.ciqfunctions.udf.CIQ($Y11,$AA$3) -> United States | AB11: =_xll.ciqfunctions.udf.CIQ($Y11,AB$3,$A$1,$AB$2) -> 309.09 | AC11: =_xll.ciqfunctions.udf.CIQ($Y11,AC$3,$A$1,$AC$2) -> 1453795.8 | AD11: =_xll.ciqfunctions.udf.CIQ($Y11,AD$3,$A$1,$AC$2) -> 1511605.8 | AE11: =_xll.ciqfunctions.udf.CIQ($Y11,AE$3,AE$4,$A$1,,,AE$2) -> 54529 | AF11: =_xll.ciqfunctions.udf.CIQ($Y11,AF$3,AF$4,$A$1,,,AF$2) -> 65159.8 | AG11: =_xll.ciqfunctions.udf.CIQ($Y11,AG$3,AG$4,$A$1,,,AG$2) -> 80589.939 | AH11: =_xll.ciqfunctions.udf.CIQ($Y11,AH$3,AH$4,$A$1,,,AH$2) -> 93169 | AI11: =_xll.ciqfunctions.udf.CIQ($Y11,AI$3,AI$4,$A$1,,,AI$2) -> 43016.1 | AJ11: =_xll.ciqfunctions.udf.CIQ($Y11,AJ$3,AJ$4,$A$1,,,AJ$2) -> 53402.917 | AK11: =_xll.ciqfunctions.udf.CIQ($Y11,AK$3,AK$4,$A$1,,,AK$2) -> 61183.765
B12: Implied Price Per Share | C12: =C10/C11 -> 173.24887 | D12: =D10/D11 -> 203.47586 | F12: =Z12 -> Advanced Micro Devices, Inc. | G12: =AA12 -> United States | H12: =AB12 -> 184.42 | I12: =AC12 -> 299284.83 | J12: =AD12 -> 297303.83 | L12: =J12/(AF12*4/12+AG12*8/12) -> 7.927926 | M12: =J12/AG12 -> 7.4736072 | N12: =J12/AH12 -> 6.3956939 | P12: =(AH12/AE12)^(1/3)-1 -> 0.21706909 | R12: =J12/(AI12*4/12+AJ12*8/12) -> 32.311892 | S12: =J12/AJ12 -> 28.591031 | T12: =J12/AK12 -> 22.174442 | V12: =AI12/AF12 -> 0.20661464 | Y12: AMD | Z12: =_xll.ciqfunctions.udf.CIQ($Y12,$Z$3) -> Advanced Micro Devices, Inc. | AA12: =_xll.ciqfunctions.udf.CIQ($Y12,$AA$3) -> United States | AB12: =_xll.ciqfunctions.udf.CIQ($Y12,AB$3,$A$1,$AB$2) -> 184.42 | AC12: =_xll.ciqfunctions.udf.CIQ($Y12,AC$3,$A$1,$AC$2) -> 299284.83 | AD12: =_xll.ciqfunctions.udf.CIQ($Y12,AD$3,$A$1,$AC$2) -> 297303.83 | AE12: =_xll.ciqfunctions.udf.CIQ($Y12,AE$3,AE$4,$A$1,,,AE$2) -> 25785 | AF12: =_xll.ciqfunctions.udf.CIQ($Y12,AF$3,AF$4,$A$1,,,AF$2) -> 32941.5 | AG12: =_xll.ciqfunctions.udf.CIQ($Y12,AG$3,AG$4,$A$1,,,AG$2) -> 39780.5 | AH12: =_xll.ciqfunctions.udf.CIQ($Y12,AH$3,AH$4,$A$1,,,AH$2) -> 46485 | AI12: =_xll.ciqfunctions.udf.CIQ($Y12,AI$3,AI$4,$A$1,,,AI$2) -> 6806.196 | AJ12: =_xll.ciqfunctions.udf.CIQ($Y12,AJ$3,AJ$4,$A$1,,,AJ$2) -> 10398.5 | AK12: =_xll.ciqfunctions.udf.CIQ($Y12,AK$3,AK$4,$A$1,,,AK$2) -> 13407.5
F13: =Z13 -> Marvell Technology, Inc. | G13: =AA13 -> United States | H13: =AB13 -> 79.32 | I13: =AC13 -> 68389.704 | J13: =AD13 -> 72015.804 | L13: =J13/(AF13*4/12+AG13*8/12) -> 7.7646048 | M13: =J13/AG13 -> 7.3496764 | N13: =J13/AH13 -> 6.3615392 | P13: =(AH13/AE13)^(1/3)-1 -> 0.25207695 | R13: =J13/(AI13*4/12+AJ13*8/12) -> 19.479953 | S13: =J13/AJ13 -> 18.366693 | T13: =J13/AK13 -> 16.198892 | V13: =AI13/AF13 -> 0.39485834 | Y13: MRVL | Z13: =_xll.ciqfunctions.udf.CIQ($Y13,$Z$3) -> Marvell Technology, Inc. | AA13: =_xll.ciqfunctions.udf.CIQ($Y13,$AA$3) -> United States | AB13: =_xll.ciqfunctions.udf.CIQ($Y13,AB$3,$A$1,$AB$2) -> 79.32 | AC13: =_xll.ciqfunctions.udf.CIQ($Y13,AC$3,$A$1,$AC$2) -> 68389.704 | AD13: =_xll.ciqfunctions.udf.CIQ($Y13,AD$3,$A$1,$AC$2) -> 72015.804 | AE13: =_xll.ciqfunctions.udf.CIQ($Y13,AE$3,AE$4,$A$1,,,AE$2) -> 5767.3 | AF13: =_xll.ciqfunctions.udf.CIQ($Y13,AF$3,AF$4,$A$1,,,AF$2) -> 8227.65 | AG13: =_xll.ciqfunctions.udf.CIQ($Y13,AG$3,AG$4,$A$1,,,AG$2) -> 9798.5 | AH13: =_xll.ciqfunctions.udf.CIQ($Y13,AH$3,AH$4,$A$1,,,AH$2) -> 11320.5 | AI13: =_xll.ciqfunctions.udf.CIQ($Y13,AI$3,AI$4,$A$1,,,AI$2) -> 3248.7562 | AJ13: =_xll.ciqfunctions.udf.CIQ($Y13,AJ$3,AJ$4,$A$1,,,AJ$2) -> 3921 | AK13: =_xll.ciqfunctions.udf.CIQ($Y13,AK$3,AK$4,$A$1,,,AK$2) -> 4445.7241
C14: EBITDA Multiple
B15: Valuation Build | C15: Low | D15: High | F15: Mean | I15: =AVERAGE(I11:I13) -> 607156.79 | J15: =AVERAGE(J11:J13) -> 626975.16 | L15: =AVERAGE(L11:L13) -> 11.909327 | M15: =AVERAGE(M11:M13) -> 11.193347 | N15: =AVERAGE(N11:N13) -> 9.6605255 | P15: =AVERAGE(P11:P13) -> 0.2215472 | R15: =AVERAGE(R11:R13) -> 27.353298 | S15: =AVERAGE(S11:S13) -> 25.087801 | T15: =AVERAGE(T11:T13) -> 21.026443 | V15: =AVERAGE(V11:V13) -> 0.42054538
B16: EBITDA Multiple | C16: 26 | D16: 30 | F16: Median | I16: =MEDIAN(I11:I13) -> 299284.83 | J16: =MEDIAN(J11:J13) -> 297303.83 | L16: =MEDIAN(L11:L13) -> 7.927926 | M16: =MEDIAN(M11:M13) -> 7.4736072 | N16: =MEDIAN(N11:N13) -> 6.3956939 | P16: =MEDIAN(P11:P13) -> 0.21706909 | R16: =MEDIAN(R11:R13) -> 30.268048 | S16: =MEDIAN(S11:S13) -> 28.305679 | T16: =MEDIAN(T11:T13) -> 22.174442 | V16: =MEDIAN(V11:V13) -> 0.39485834
B17: NTM EBITDA | C17: =AI8*4/12+AJ8*8/12 -> 160997 | D17: =C17 -> 160997
B18: Enterprise Value | C18: =C16*C17 -> 4185921.9 | D18: =D16*D17 -> 4829909.9 | F18: Digital Semiconductor Peers
B19: Less: Net Debt and Other | C19: =-Control!$F$11-Control!$F$10-Control!$F$9 -> 48431 | D19: =C19 -> 48431 | F19: =Z19 -> TSMC | G19: =AA19 -> Taiwan | H19: =AB19 -> 40.09087 | I19: =AC19 -> 1039661.2 | J19: =AD19 -> 984331.72 | L19: =J19/(AF19*4/12+AG19*8/12) -> 7.3118512 | M19: =J19/AG19 -> 6.9767777 | N19: =J19/AH19 -> 5.853809 | P19: =(AH19/AE19)^(1/3)-1 -> 0.23952625 | R19: =J19/(AI19*4/12+AJ19*8/12) -> 10.762157 | S19: =J19/AJ19 -> 10.311132 | T19: =J19/AK19 -> 8.9232594 | V19: =AI19/AF19 -> 0.6858456 | Y19: TWSE:2330 | Z19: TSMC | AA19: =_xll.ciqfunctions.udf.CIQ($Y19,$AA$3) -> Taiwan | AB19: =_xll.ciqfunctions.udf.CIQ($Y19,AB$3,$A$1,$AB$2) -> 40.09087 | AC19: =_xll.ciqfunctions.udf.CIQ($Y19,AC$3,$A$1,$AC$2) -> 1039661.2 | AD19: =_xll.ciqfunctions.udf.CIQ($Y19,AD$3,$A$1,$AC$2) -> 984331.72 | AE19: =_xll.ciqfunctions.udf.CIQ($Y19,AE$3,AE$4,$A$1,,,AE$2) -> 88294.926 | AF19: =_xll.ciqfunctions.udf.CIQ($Y19,AF$3,AF$4,$A$1,,,AF$2) -> 121690.49 | AG19: =_xll.ciqfunctions.udf.CIQ($Y19,AG$3,AG$4,$A$1,,,AG$2) -> 141086.87 | AH19: =_xll.ciqfunctions.udf.CIQ($Y19,AH$3,AH$4,$A$1,,,AH$2) -> 168152.35 | AI19: =_xll.ciqfunctions.udf.CIQ($Y19,AI$3,AI$4,$A$1,,,AI$2) -> 83460.888 | AJ19: =_xll.ciqfunctions.udf.CIQ($Y19,AJ$3,AJ$4,$A$1,,,AJ$2) -> 95463.012 | AK19: =_xll.ciqfunctions.udf.CIQ($Y19,AK$3,AK$4,$A$1,,,AK$2) -> 110310.78
B20: Equity Value | C20: =C18+C19 -> 4234352.9 | D20: =D18+D19 -> 4878340.9 | F20: =Z20 -> ASML Holding N.V. | G20: =AA20 -> Netherlands | H20: =AB20 -> 750.4686 | I20: =AC20 -> 290662.67 | J20: =AD20 -> 286503.81 | L20: =J20/(AF20*4/12+AG20*8/12) -> 7.3868007 | M20: =J20/AG20 -> 7.3074865 | N20: =J20/AH20 -> 6.4357803 | P20: =(AH20/AE20)^(1/3)-1 -> 0.15013339 | R20: =J20/(AI20*4/12+AJ20*8/12) -> 20.088078 | S20: =J20/AJ20 -> 19.866851 | T20: =J20/AK20 -> 16.661186 | V20: =AI20/AF20 -> 0.36750889 | Y20: ASML | Z20: =_xll.ciqfunctions.udf.CIQ($Y20,$Z$3) -> ASML Holding N.V. | AA20: =_xll.ciqfunctions.udf.CIQ($Y20,$AA$3) -> Netherlands | AB20: =_xll.ciqfunctions.udf.CIQ($Y20,AB$3,$A$1,$AB$2) -> 750.4686 | AC20: =_xll.ciqfunctions.udf.CIQ($Y20,AC$3,$A$1,$AC$2) -> 290662.67 | AD20: =_xll.ciqfunctions.udf.CIQ($Y20,AD$3,$A$1,$AC$2) -> 286503.81 | AE20: =_xll.ciqfunctions.udf.CIQ($Y20,AE$3,AE$4,$A$1,,,AE$2) -> 29260.69 | AF20: =_xll.ciqfunctions.udf.CIQ($Y20,AF$3,AF$4,$A$1,,,AF$2) -> 37943.962 | AG20: =_xll.ciqfunctions.udf.CIQ($Y20,AG$3,AG$4,$A$1,,,AG$2) -> 39206.888 | AH20: =_xll.ciqfunctions.udf.CIQ($Y20,AH$3,AH$4,$A$1,,,AH$2) -> 44517.338 | AI20: =_xll.ciqfunctions.udf.CIQ($Y20,AI$3,AI$4,$A$1,,,AI$2) -> 13944.743 | AJ20: =_xll.ciqfunctions.udf.CIQ($Y20,AJ$3,AJ$4,$A$1,,,AJ$2) -> 14421.199 | AK20: =_xll.ciqfunctions.udf.CIQ($Y20,AK$3,AK$4,$A$1,,,AK$2) -> 17195.883
B21: Fully Diluted Shares | C21: =Control!$I$10 -> 24677 | D21: =C21 -> 24677 | F21: =Z21 -> QUALCOMM Incorporated | G21: =AA21 -> United States | H21: =AB21 -> 156.59 | I21: =AC21 -> 168738.41 | J21: =AD21 -> 173515.41 | L21: =J21/(AF21*4/12+AG21*8/12) -> 3.9273112 | M21: =J21/AG21 -> 3.8838749 | N21: =J21/AH21 -> 3.7886309 | P21: =(AH21/AE21)^(1/3)-1 -> 0.040162864 | R21: =J21/(AI21*4/12+AJ21*8/12) -> 10.809817 | S21: =J21/AJ21 -> 10.953775 | T21: =J21/AK21 -> 10.067259 | V21: =AI21/AF21 -> 0.38138981 | Y21: QCOM | Z21: =_xll.ciqfunctions.udf.CIQ($Y21,$Z$3) -> QUALCOMM Incorporated | AA21: =_xll.ciqfunctions.udf.CIQ($Y21,$AA$3) -> United States | AB21: =_xll.ciqfunctions.udf.CIQ($Y21,AB$3,$A$1,$AB$2) -> 156.59 | AC21: =_xll.ciqfunctions.udf.CIQ($Y21,AC$3,$A$1,$AC$2) -> 168738.41 | AD21: =_xll.ciqfunctions.udf.CIQ($Y21,AD$3,$A$1,$AC$2) -> 173515.41 | AE21: =_xll.ciqfunctions.udf.CIQ($Y21,AE$3,AE$4,$A$1,,,AE$2) -> 40696 | AF21: =_xll.ciqfunctions.udf.CIQ($Y21,AF$3,AF$4,$A$1,,,AF$2) -> 43193.499 | AG21: =_xll.ciqfunctions.udf.CIQ($Y21,AG$3,AG$4,$A$1,,,AG$2) -> 44675.85 | AH21: =_xll.ciqfunctions.udf.CIQ($Y21,AH$3,AH$4,$A$1,,,AH$2) -> 45798.975 | AI21: =_xll.ciqfunctions.udf.CIQ($Y21,AI$3,AI$4,$A$1,,,AI$2) -> 16473.56 | AJ21: =_xll.ciqfunctions.udf.CIQ($Y21,AJ$3,AJ$4,$A$1,,,AJ$2) -> 15840.696 | AK21: =_xll.ciqfunctions.udf.CIQ($Y21,AK$3,AK$4,$A$1,,,AK$2) -> 17235.616
B22: Implied Price Per Share | C22: =C20/C21 -> 171.59107 | D22: =D20/D21 -> 197.68776 | F22: =Z22 -> Texas Instruments Incorporated | G22: =AA22 -> United States | H22: =AB22 -> 193.29 | I22: =AC22 -> 175727.12 | J22: =AD22 -> 184411.12 | L22: =J22/(AF22*4/12+AG22*8/12) -> 9.8033663 | M22: =J22/AG22 -> 9.505728 | N22: =J22/AH22 -> 8.7270419 | P22: =(AH22/AE22)^(1/3)-1 -> 0.10548243 | R22: =J22/(AI22*4/12+AJ22*8/12) -> 20.305962 | S22: =J22/AJ22 -> 19.25688 | T22: =J22/AK22 -> 16.887682 | V22: =AI22/AF22 -> 0.45891919 | Y22: TXN | Z22: =_xll.ciqfunctions.udf.CIQ($Y22,$Z$3) -> Texas Instruments Incorporated | AA22: =_xll.ciqfunctions.udf.CIQ($Y22,$AA$3) -> United States | AB22: =_xll.ciqfunctions.udf.CIQ($Y22,AB$3,$A$1,$AB$2) -> 193.29 | AC22: =_xll.ciqfunctions.udf.CIQ($Y22,AC$3,$A$1,$AC$2) -> 175727.12 | AD22: =_xll.ciqfunctions.udf.CIQ($Y22,AD$3,$A$1,$AC$2) -> 184411.12 | AE22: =_xll.ciqfunctions.udf.CIQ($Y22,AE$3,AE$4,$A$1,,,AE$2) -> 15641 | AF22: =_xll.ciqfunctions.udf.CIQ($Y22,AF$3,AF$4,$A$1,,,AF$2) -> 17633 | AG22: =_xll.ciqfunctions.udf.CIQ($Y22,AG$3,AG$4,$A$1,,,AG$2) -> 19400 | AH22: =_xll.ciqfunctions.udf.CIQ($Y22,AH$3,AH$4,$A$1,,,AH$2) -> 21131 | AI22: =_xll.ciqfunctions.udf.CIQ($Y22,AI$3,AI$4,$A$1,,,AI$2) -> 8092.122 | AJ22: =_xll.ciqfunctions.udf.CIQ($Y22,AJ$3,AJ$4,$A$1,,,AJ$2) -> 9576.376 | AK22: =_xll.ciqfunctions.udf.CIQ($Y22,AK$3,AK$4,$A$1,,,AK$2) -> 10919.86
F23: =Z23 -> Arm Holdings plc | G23: =AA23 -> United Kingdom | H23: =AB23 -> 141.6 | I23: =AC23 -> 149954.4 | J23: =AD23 -> 147444.4 | L23: =J23/(AF23*4/12+AG23*8/12) -> 28.290285 | M23: =J23/AG23 -> 26.324969 | N23: =J23/AH23 -> 23.105762 | P23: =(AH23/AE23)^(1/3)-1 -> 0.19987783 | R23: =J23/(AI23*4/12+AJ23*8/12) -> 54.38396 | S23: =J23/AJ23 -> 48.163559 | T23: =J23/AK23 -> 38.611013 | V23: =AI23/AF23 -> 0.45354724 | Y23: ARM | Z23: =_xll.ciqfunctions.udf.CIQ($Y23,$Z$3) -> Arm Holdings plc | AA23: =_xll.ciqfunctions.udf.CIQ($Y23,$AA$3) -> United Kingdom | AB23: =_xll.ciqfunctions.udf.CIQ($Y23,AB$3,$A$1,$AB$2) -> 141.6 | AC23: =_xll.ciqfunctions.udf.CIQ($Y23,AC$3,$A$1,$AC$2) -> 149954.4 | AD23: =_xll.ciqfunctions.udf.CIQ($Y23,AD$3,$A$1,$AC$2) -> 147444.4 | AE23: =_xll.ciqfunctions.udf.CIQ($Y23,AE$3,AE$4,$A$1,,,AE$2) -> 3694 | AF23: =_xll.ciqfunctions.udf.CIQ($Y23,AF$3,AF$4,$A$1,,,AF$2) -> 4433.6493 | AG23: =_xll.ciqfunctions.udf.CIQ($Y23,AG$3,AG$4,$A$1,,,AG$2) -> 5600.9334 | AH23: =_xll.ciqfunctions.udf.CIQ($Y23,AH$3,AH$4,$A$1,,,AH$2) -> 6381.2826 | AI23: =_xll.ciqfunctions.udf.CIQ($Y23,AI$3,AI$4,$A$1,,,AI$2) -> 2010.8694 | AJ23: =_xll.ciqfunctions.udf.CIQ($Y23,AJ$3,AJ$4,$A$1,,,AJ$2) -> 3061.3269 | AK23: =_xll.ciqfunctions.udf.CIQ($Y23,AK$3,AK$4,$A$1,,,AK$2) -> 3818.7136
F24: =Z24 -> Intel Corporation | G24: =AA24 -> United States | H24: =AB24 -> 22.22 | I24: =AC24 -> 97256.94 | J24: =AD24 -> 134208.94 | L24: =J24/(AF24*4/12+AG24*8/12) -> 2.5262067 | M24: =J24/AG24 -> 2.5000268 | N24: =J24/AH24 -> 2.3506375 | P24: =(AH24/AE24)^(1/3)-1 -> 0.024466339 | R24: =J24/(AI24*4/12+AJ24*8/12) -> 8.3627233 | S24: =J24/AJ24 -> 7.5935804 | T24: =J24/AK24 -> 5.8242824 | V24: =AI24/AF24 -> 0.24603798 | Y24: INTC | Z24: =_xll.ciqfunctions.udf.CIQ($Y24,$Z$3) -> Intel Corporation | AA24: =_xll.ciqfunctions.udf.CIQ($Y24,$AA$3) -> United States | AB24: =_xll.ciqfunctions.udf.CIQ($Y24,AB$3,$A$1,$AB$2) -> 22.22 | AC24: =_xll.ciqfunctions.udf.CIQ($Y24,AC$3,$A$1,$AC$2) -> 97256.94 | AD24: =_xll.ciqfunctions.udf.CIQ($Y24,AD$3,$A$1,$AC$2) -> 134208.94 | AE24: =_xll.ciqfunctions.udf.CIQ($Y24,AE$3,AE$4,$A$1,,,AE$2) -> 53101 | AF24: =_xll.ciqfunctions.udf.CIQ($Y24,AF$3,AF$4,$A$1,,,AF$2) -> 52014 | AG24: =_xll.ciqfunctions.udf.CIQ($Y24,AG$3,AG$4,$A$1,,,AG$2) -> 53683 | AH24: =_xll.ciqfunctions.udf.CIQ($Y24,AH$3,AH$4,$A$1,,,AH$2) -> 57094.698 | AI24: =_xll.ciqfunctions.udf.CIQ($Y24,AI$3,AI$4,$A$1,,,AI$2) -> 12797.419 | AJ24: =_xll.ciqfunctions.udf.CIQ($Y24,AJ$3,AJ$4,$A$1,,,AJ$2) -> 17674 | AK24: =_xll.ciqfunctions.udf.CIQ($Y24,AK$3,AK$4,$A$1,,,AK$2) -> 23043
F25: =Z25 -> Analog Devices, Inc. | G25: =AA25 -> United States | H25: =AB25 -> 237.63 | I25: =AC25 -> 117923.46 | J25: =AD25 -> 122766.24 | L25: =J25/(AF25*4/12+AG25*8/12) -> 10.525044 | M25: =J25/AG25 -> 10.167987 | N25: =J25/AH25 -> 9.1741003 | P25: =(AH25/AE25)^(1/3)-1 -> 0.12743882 | R25: =J25/(AI25*4/12+AJ25*8/12) -> 23.403363 | S25: =J25/AJ25 -> 22.428793 | T25: =J25/AK25 -> 18.716498 | V25: =AI25/AF25 -> 0.44165952 | Y25: ADI | Z25: =_xll.ciqfunctions.udf.CIQ($Y25,$Z$3) -> Analog Devices, Inc. | AA25: =_xll.ciqfunctions.udf.CIQ($Y25,$AA$3) -> United States | AB25: =_xll.ciqfunctions.udf.CIQ($Y25,AB$3,$A$1,$AB$2) -> 237.63 | AC25: =_xll.ciqfunctions.udf.CIQ($Y25,AC$3,$A$1,$AC$2) -> 117923.46 | AD25: =_xll.ciqfunctions.udf.CIQ($Y25,AD$3,$A$1,$AC$2) -> 122766.24 | AE25: =_xll.ciqfunctions.udf.CIQ($Y25,AE$3,AE$4,$A$1,,,AE$2) -> 9337.627 | AF25: =_xll.ciqfunctions.udf.CIQ($Y25,AF$3,AF$4,$A$1,,,AF$2) -> 10845.006 | AG25: =_xll.ciqfunctions.udf.CIQ($Y25,AG$3,AG$4,$A$1,,,AG$2) -> 12073.8 | AH25: =_xll.ciqfunctions.udf.CIQ($Y25,AH$3,AH$4,$A$1,,,AH$2) -> 13381.829 | AI25: =_xll.ciqfunctions.udf.CIQ($Y25,AI$3,AI$4,$A$1,,,AI$2) -> 4789.8 | AJ25: =_xll.ciqfunctions.udf.CIQ($Y25,AJ$3,AJ$4,$A$1,,,AJ$2) -> 5473.6 | AK25: =_xll.ciqfunctions.udf.CIQ($Y25,AK$3,AK$4,$A$1,,,AK$2) -> 6559.2527
F27: Mean | I27: =AVERAGE(I19:I25) -> 291417.74 | J27: =AVERAGE(J19:J25) -> 290454.52 | L27: =AVERAGE(L19:L25) -> 9.9672664 | M27: =AVERAGE(M19:M25) -> 9.5238358 | N27: =AVERAGE(N19:N25) -> 8.4908232 | P27: =AVERAGE(P19:P25) -> 0.12672685 | R27: =AVERAGE(R19:R25) -> 21.159437 | S27: =AVERAGE(S19:S25) -> 19.796367 | T27: =AVERAGE(T19:T25) -> 16.527312 | V27: =AVERAGE(V19:V25) -> 0.43355832
F28: Median | I28: =MEDIAN(I19:I25) -> 168738.41 | J28: =MEDIAN(J19:J25) -> 173515.41 | L28: =MEDIAN(L19:L25) -> 7.3868007 | M28: =MEDIAN(M19:M25) -> 7.3074865 | N28: =MEDIAN(N19:N25) -> 6.4357803 | P28: =MEDIAN(P19:P25) -> 0.12743882 | R28: =MEDIAN(R19:R25) -> 20.088078 | S28: =MEDIAN(S19:S25) -> 19.25688 | T28: =MEDIAN(T19:T25) -> 16.661186 | V28: =MEDIAN(V19:V25) -> 0.44165952
F30: Leading Tech Companies
F31: =Z31 -> Microsoft Corporation | G31: =AA31 -> United States | H31: =AB31 -> 520.58 | I31: =AC31 -> 3869557.8 | J31: =AD31 -> 3887176.8 | L31: =J31/(AF31*4/12+AG31*8/12) -> 11.777695 | M31: =J31/AG31 -> 11.230334 | N31: =J31/AH31 -> 9.8121051 | P31: =(AH31/AE31)^(1/3)-1 -> 0.14806474 | R31: =J31/(AI31*4/12+AJ31*8/12) -> 20.169691 | S31: =J31/AJ31 -> 18.933553 | T31: =J31/AK31 -> 16.427942 | V31: =AI31/AF31 -> 0.56251628 | Y31: MSFT | Z31: =_xll.ciqfunctions.udf.CIQ($Y31,$Z$3) -> Microsoft Corporation | AA31: =_xll.ciqfunctions.udf.CIQ($Y31,$AA$3) -> United States | AB31: =_xll.ciqfunctions.udf.CIQ($Y31,AB$3,$A$1,$AB$2) -> 520.58 | AC31: =_xll.ciqfunctions.udf.CIQ($Y31,AC$3,$A$1,$AC$2) -> 3869557.8 | AD31: =_xll.ciqfunctions.udf.CIQ($Y31,AD$3,$A$1,$AC$2) -> 3887176.8 | AE31: =_xll.ciqfunctions.udf.CIQ($Y31,AE$3,AE$4,$A$1,,,AE$2) -> 261802 | AF31: =_xll.ciqfunctions.udf.CIQ($Y31,AF$3,AF$4,$A$1,,,AF$2) -> 297873.16 | AG31: =_xll.ciqfunctions.udf.CIQ($Y31,AG$3,AG$4,$A$1,,,AG$2) -> 346131.88 | AH31: =_xll.ciqfunctions.udf.CIQ($Y31,AH$3,AH$4,$A$1,,,AH$2) -> 396161.35 | AI31: =_xll.ciqfunctions.udf.CIQ($Y31,AI$3,AI$4,$A$1,,,AI$2) -> 167558.5 | AJ31: =_xll.ciqfunctions.udf.CIQ($Y31,AJ$3,AJ$4,$A$1,,,AJ$2) -> 205306.25 | AK31: =_xll.ciqfunctions.udf.CIQ($Y31,AK$3,AK$4,$A$1,,,AK$2) -> 236619.83
F32: =Z32 -> Alphabet Inc. | G32: =AA32 -> United States | H32: =AB32 -> 203.03 | I32: =AC32 -> 2448314.3 | J32: =AD32 -> 2394834.3 | L32: =J32/(AF32*4/12+AG32*8/12) -> 5.6433889 | M32: =J32/AG32 -> 5.4502275 | N32: =J32/AH32 -> 4.9248408 | P32: =(AH32/AE32)^(1/3)-1 -> 0.11582897 | R32: =J32/(AI32*4/12+AJ32*8/12) -> 12.232219 | S32: =J32/AJ32 -> 11.665559 | T32: =J32/AK32 -> 10.151483 | V32: =AI32/AF32 -> 0.44831057 | Y32: GOOG | Z32: =_xll.ciqfunctions.udf.CIQ($Y32,$Z$3) -> Alphabet Inc. | AA32: =_xll.ciqfunctions.udf.CIQ($Y32,$AA$3) -> United States | AB32: =_xll.ciqfunctions.udf.CIQ($Y32,AB$3,$A$1,$AB$2) -> 203.03 | AC32: =_xll.ciqfunctions.udf.CIQ($Y32,AC$3,$A$1,$AC$2) -> 2448314.3 | AD32: =_xll.ciqfunctions.udf.CIQ($Y32,AD$3,$A$1,$AC$2) -> 2394834.3 | AE32: =_xll.ciqfunctions.udf.CIQ($Y32,AE$3,AE$4,$A$1,,,AE$2) -> 350018 | AF32: =_xll.ciqfunctions.udf.CIQ($Y32,AF$3,AF$4,$A$1,,,AF$2) -> 394281.5 | AG32: =_xll.ciqfunctions.udf.CIQ($Y32,AG$3,AG$4,$A$1,,,AG$2) -> 439400.8 | AH32: =_xll.ciqfunctions.udf.CIQ($Y32,AH$3,AH$4,$A$1,,,AH$2) -> 486276.5 | AI32: =_xll.ciqfunctions.udf.CIQ($Y32,AI$3,AI$4,$A$1,,,AI$2) -> 176760.56 | AJ32: =_xll.ciqfunctions.udf.CIQ($Y32,AJ$3,AJ$4,$A$1,,,AJ$2) -> 205291 | AK32: =_xll.ciqfunctions.udf.CIQ($Y32,AK$3,AK$4,$A$1,,,AK$2) -> 235909.8
F33: =Z33 -> Amazon.com, Inc. | G33: =AA33 -> United States | H33: =AB33 -> 224.56 | I33: =AC33 -> 2394912.7 | J33: =AD33 -> 2461302.7 | L33: =J33/(AF33*4/12+AG33*8/12) -> 3.2573563 | M33: =J33/AG33 -> 3.1593723 | N33: =J33/AH33 -> 2.8632411 | P33: =(AH33/AE33)^(1/3)-1 -> 0.10451456 | R33: =J33/(AI33*4/12+AJ33*8/12) -> 13.122661 | S33: =J33/AJ33 -> 12.422239 | T33: =J33/AK33 -> 10.570624 | V33: =AI33/AF33 -> 0.23479557 | Y33: AMZN | Z33: =_xll.ciqfunctions.udf.CIQ($Y33,$Z$3) -> Amazon.com, Inc. | AA33: =_xll.ciqfunctions.udf.CIQ($Y33,$AA$3) -> United States | AB33: =_xll.ciqfunctions.udf.CIQ($Y33,AB$3,$A$1,$AB$2) -> 224.56 | AC33: =_xll.ciqfunctions.udf.CIQ($Y33,AC$3,$A$1,$AC$2) -> 2394912.7 | AD33: =_xll.ciqfunctions.udf.CIQ($Y33,AD$3,$A$1,$AC$2) -> 2461302.7 | AE33: =_xll.ciqfunctions.udf.CIQ($Y33,AE$3,AE$4,$A$1,,,AE$2) -> 637959 | AF33: =_xll.ciqfunctions.udf.CIQ($Y33,AF$3,AF$4,$A$1,,,AF$2) -> 708744.76 | AG33: =_xll.ciqfunctions.udf.CIQ($Y33,AG$3,AG$4,$A$1,,,AG$2) -> 779048 | AH33: =_xll.ciqfunctions.udf.CIQ($Y33,AH$3,AH$4,$A$1,,,AH$2) -> 859621.18 | AI33: =_xll.ciqfunctions.udf.CIQ($Y33,AI$3,AI$4,$A$1,,,AI$2) -> 166410.13 | AJ33: =_xll.ciqfunctions.udf.CIQ($Y33,AJ$3,AJ$4,$A$1,,,AJ$2) -> 198136.8 | AK33: =_xll.ciqfunctions.udf.CIQ($Y33,AK$3,AK$4,$A$1,,,AK$2) -> 232843.66
F34: =Z34 -> Meta Platforms, Inc. | G34: =AA34 -> United States | H34: =AB34 -> 780.08 | I34: =AC34 -> 1959671.3 | J34: =AD34 -> 1962160.3 | L34: =J34/(AF34*4/12+AG34*8/12) -> 9.0390776 | M34: =J34/AG34 -> 8.6260939 | N34: =J34/AH34 -> 7.5831913 | P34: =(AH34/AE34)^(1/3)-1 -> 0.1629775 | R34: =J34/(AI34*4/12+AJ34*8/12) -> 14.81626 | S34: =J34/AJ34 -> 14.122855 | T34: =J34/AK34 -> 12.169795 | V34: =AI34/AF34 -> 0.60842932 | Y34: META | Z34: =_xll.ciqfunctions.udf.CIQ($Y34,$Z$3) -> Meta Platforms, Inc. | AA34: =_xll.ciqfunctions.udf.CIQ($Y34,$AA$3) -> United States | AB34: =_xll.ciqfunctions.udf.CIQ($Y34,AB$3,$A$1,$AB$2) -> 780.08 | AC34: =_xll.ciqfunctions.udf.CIQ($Y34,AC$3,$A$1,$AC$2) -> 1959671.3 | AD34: =_xll.ciqfunctions.udf.CIQ($Y34,AD$3,$A$1,$AC$2) -> 1962160.3 | AE34: =_xll.ciqfunctions.udf.CIQ($Y34,AE$3,AE$4,$A$1,,,AE$2) -> 164501 | AF34: =_xll.ciqfunctions.udf.CIQ($Y34,AF$3,AF$4,$A$1,,,AF$2) -> 196289.85 | AG34: =_xll.ciqfunctions.udf.CIQ($Y34,AG$3,AG$4,$A$1,,,AG$2) -> 227468 | AH34: =_xll.ciqfunctions.udf.CIQ($Y34,AH$3,AH$4,$A$1,,,AH$2) -> 258751.26 | AI34: =_xll.ciqfunctions.udf.CIQ($Y34,AI$3,AI$4,$A$1,,,AI$2) -> 119428.5 | AJ34: =_xll.ciqfunctions.udf.CIQ($Y34,AJ$3,AJ$4,$A$1,,,AJ$2) -> 138935.1 | AK34: =_xll.ciqfunctions.udf.CIQ($Y34,AK$3,AK$4,$A$1,,,AK$2) -> 161232
F36: Mean | I36: =AVERAGE(I31:I34) -> 2668114 | J36: =AVERAGE(J31:J34) -> 2676368.5 | L36: =AVERAGE(L31:L34) -> 7.4293793 | M36: =AVERAGE(M31:M34) -> 7.116507 | N36: =AVERAGE(N31:N34) -> 6.2958446 | P36: =AVERAGE(P31:P34) -> 0.13284644 | R36: =AVERAGE(R31:R34) -> 15.085208 | S36: =AVERAGE(S31:S34) -> 14.286052 | T36: =AVERAGE(T31:T34) -> 12.329961 | V36: =AVERAGE(V31:V34) -> 0.46351294
F37: Median | I37: =AVERAGE(I32:I35) -> 2267632.8 | J37: =AVERAGE(J32:J35) -> 2272765.8 | L37: =AVERAGE(L32:L35) -> 5.9799409 | M37: =AVERAGE(M32:M35) -> 5.7452312 | N37: =AVERAGE(N32:N35) -> 5.1237577 | P37: =AVERAGE(P32:P35) -> 0.12777368 | R37: =AVERAGE(R32:R35) -> 13.39038 | S37: =AVERAGE(S32:S35) -> 12.736885 | T37: =AVERAGE(T32:T35) -> 10.963967 | V37: =AVERAGE(V32:V35) -> 0.43051182
B43: Long-Term Valuation Multiples for Nvidia | F43: Long-Term Valuation Multiples for Nvidia
B44: Date | C44: NTM Revenue | D44: NTM EBITDA | G44: NTM Revenue | H44: NTM EBITDA
B45: 44057 | C45: =ciqfunctions.udf.CIQ($Y$8, "IQ_TEV_TOTAL_REV_FWD", IQ_NTM,$B45) -> #NAME? | D45: =_xll.ciqfunctions.udf.CIQ($Y$8, "IQ_TEV_EBITDA_FWD", IQ_NTM,$B45) -> #CIQINACTIVE | F45: Current | G45: =L8 -> 17.827849 | H45: =R8 -> 27.532597
B46: =IF(WEEKDAY(B45+1)=7,B45+3,B45+1) -> 44060 | C46: =ciqfunctions.udf.CIQ($Y$8, "IQ_TEV_TOTAL_REV_FWD", IQ_NTM,$B46) -> #NAME? | D46: =_xll.ciqfunctions.udf.CIQ($Y$8, "IQ_TEV_EBITDA_FWD", IQ_NTM,$B46) -> #CIQINACTIVE | F46: Last 6 Months Average | G46: =AVERAGE(C1220:C1348) -> #DIV/0! | H46: =AVERAGE(D1220:D1348) -> #DIV/0!
B47: =IF(WEEKDAY(B46+1)=7,B46+3,B46+1) -> 44061 | C47: =_xll.ciqfunctions.udf.CIQ($Y$8, "IQ_TEV_TOTAL_REV_FWD", IQ_NTM,$B47) -> #CIQINACTIVE | D47: =_xll.ciqfunctions.udf.CIQ($Y$8, "IQ_TEV_EBITDA_FWD", IQ_NTM,$B47) -> #CIQINACTIVE | F47: Last 1 Year Average | G47: =AVERAGE(C1088:C1348) -> #DIV/0! | H47: =AVERAGE(D1088:D1348) -> #DIV/0!
B48: =IF(WEEKDAY(B47+1)=7,B47+3,B47+1) -> 44062 | C48: =_xll.ciqfunctions.udf.CIQ($Y$8, "IQ_TEV_TOTAL_REV_FWD", IQ_NTM,$B48) -> #CIQINACTIVE | D48: =_xll.ciqfunctions.udf.CIQ($Y$8, "IQ_TEV_EBITDA_FWD", IQ_NTM,$B48) -> #CIQINACTIVE | F48: Last 3 year Average | G48: =AVERAGE(C566:C1348) -> #DIV/0! | H48: =AVERAGE(D566:D1348) -> #DIV/0!
...

Sheet Ppaids
A1: 45882
B2: Precedent Transaction Valuation Range | F2: Precedent Transactions
C4: EBITDA Multiple | I4: Enterprise Value /
B5: Valuation Build | C5: Low | D5: High | F5: Date Announced | G5: Target | H5: Acquirer | I5: NTM EBITDA
B6: EBITDA Multiple | C6: 30 | D6: 35 | F6: 40634 | G6: National Semiconductor Corportation | H6: Texas Instruments | I6: 11.5
B7: NTM EBITDA | C7: =Comps!C17 -> 160997 | D7: =C7 -> 160997 | F7: 41609 | G7: LSI | H7: Avago Technologies | I7: 10.7
B8: Enterprise Value | C8: =C6*C7 -> 4829909.9 | D8: =D6*D7 -> 5634894.8 | F8: 42064 | G8: Freescale Semiconductor | H8: NXP Semiconductors | I8: 13.6
B9: Less: Net Debt and Other | C9: =-Control!$F$11-Control!$F$10-Control!$F$9 -> 48431 | D9: =C9 -> 48431 | F9: 42125 | G9: Broadcom | H9: Avago Technologies | I9: 12.7
B10: Equity Value | C10: =C8+C9 -> 4878340.9 | D10: =D8+D9 -> 5683325.8 | F10: 42156 | G10: Altera Corporation | H10: Intel Corporation | I10: 22.2
B11: Fully Diluted Shares | C11: =Control!$I$10 -> 24677 | D11: =C11 -> 24677 | F11: 42552 | G11: ARM Limited | H11: Softbank Group | I11: 39
B12: Implied Price Per Share | C12: =C10/C11 -> 197.68776 | D12: =D10/D11 -> 230.30862 | F12: 42552 | G12: Linear Technology Corportation | H12: Analog Devices Inc. | I12: 15.7
F13: 42644 | G13: NXP Semiconductors | H13: Qualcomm | I13: 13.2 | K13: Announced but didn't close
F14: 42795 | G14: Mobileye | H14: Intel Corporation | I14: 53.5
F15: 43040 | G15: Cavium | H15: Marvel Technologies | I15: 17.4
F16: 43160 | G16: Microsemi Corporation | H16: Microchip Technology | I16: 14
F17: 43344 | G17: Integrated Device Technology | H17: Renesas Electronics Corportation | I17: 21.1
F18: 43525 | G18: Melanox Technologies | H18: NVIDIA | I18: 15.1
F19: 43617 | G19: Cypress Semiconductor | H19: Infineon Technologies | I19: 18.8
F20: 43891 | G20: VMWare | H20: Broadcom | I20: 15.5
F21: 44013 | G21: Maxim Integrated Products | H21: Analog Devices Inc. | I21: 24
F22: 44075 | G22: ARM Limited | H22: NVIDIA | I22: 53.2 | K22: Announced but didn't close
F24: Mean | I24: =AVERAGE(I6:I22) -> 21.835294
F25: Median | I25: =MEDIAN(I6:I22) -> 15.7

Sheet DCF
B2: Discounted Cash Flow Analysis | K2: Discounted Cash Flow Analysis Output
B4: UNLEVERED FREE CASH FLOW CALCULATION | K4: Perpetuity Growth Rate Method
B5: $MM, unless otherwise noted | C5: 46052 | D5: 46417 | E5: 46782 | F5: 47148 | G5: 47513 | H5: Normalized | K5: Perpetuity Grwoth Rate | L5: =C59 -> 0.04 | P5: =C63 -> 0.045 | T5: =C67 -> 0.05
K6: Discount Rate | L6: =B59 -> 0.095 | M6: =B60 -> 0.1 | N6: =B61 -> 0.105 | P6: =L6 -> 0.095 | Q6: =M6 -> 0.1 | R6: =N6 -> 0.105 | T6: =P6 -> 0.095 | U6: =Q6 -> 0.1 | V6: =R6 -> 0.105
B7: EBIT | C7: ='Operating Model'!F34 -> 122100.55 | D7: ='Operating Model'!G34 -> 183244.07 | E7: ='Operating Model'!H34 -> 255803.3 | F7: ='Operating Model'!I34 -> 332880.84 | G7: ='Operating Model'!J34 -> 402199.34 | H7: =G7 -> 402199.34 | K7: Present value of Annual Cash Flows | L7: =SUM($C$24:$G$24) -> 714983.98 | M7: =SUM($C$25:$G$25) -> 706737.69 | N7: =SUM($C$26:$G$26) -> 698644.2 | P7: =SUM($C$24:$G$24) -> 714983.98 | Q7: =SUM($C$25:$G$25) -> 706737.69 | R7: =SUM($C$26:$G$26) -> 698644.2 | T7: =SUM($C$24:$G$24) -> 714983.98 | U7: =SUM($C$25:$G$25) -> 706737.69 | V7: =SUM($C$26:$G$26) -> 698644.2
B8: Less: Taxes | C8: =-C7*C9 -> -20268.691 | D8: =-D7*D9 -> -30235.272 | E8: =-E7*E9 -> -42207.545 | F8: =-F7*F9 -> -54925.338 | G8: =-G7*G9 -> -66362.891 | H8: =-H7*H9 -> -66362.891 | K8: Present Value of Terminal Value | L8: =E59 -> 3879875.2 | M8: =E60 -> 3492327.3 | N8: =E61 -> 3165734.3 | P8: =E63 -> 4288381.3 | Q8: =E64 -> 3828128 | R8: =E65 -> 3446033.7 | T8: =E67 -> 4787666.6 | U8: =E68 -> 4231088.8 | V8: =E69 -> 3777296.6
B9: Tax Rate | C9: ='Operating Model'!F47 -> 0.166 | D9: ='Operating Model'!G47 -> 0.165 | E9: ='Operating Model'!H47 -> 0.165 | F9: ='Operating Model'!I47 -> 0.165 | G9: ='Operating Model'!J47 -> 0.165 | H9: =G9 -> 0.165 | K9: Enterprise Value | L9: =L7+L8 -> 4594859.2 | M9: =M7+M8 -> 4199065 | N9: =N7+N8 -> 3864378.5 | P9: =P7+P8 -> 5003365.3 | Q9: =Q7+Q8 -> 4534865.7 | R9: =R7+R8 -> 4144677.9 | T9: =T7+T8 -> 5502650.5 | U9: =U7+U8 -> 4937826.5 | V9: =V7+V8 -> 4475940.8
B10: EBIAT (NOPAT) | C10: =C7+C8 -> 101831.86 | D10: =D7+D8 -> 153008.8 | E10: =E7+E8 -> 213595.76 | F10: =F7+F8 -> 277955.5 | G10: =G7+G8 -> 335836.45 | H10: =H7+H8 -> 335836.45 | K10: Less: Net Debt | L10: =-SUM(Control!$F$9:$F$11) -> 48431 | M10: =-SUM(Control!$F$9:$F$11) -> 48431 | N10: =-SUM(Control!$F$9:$F$11) -> 48431 | P10: =-SUM(Control!$F$9:$F$11) -> 48431 | Q10: =-SUM(Control!$F$9:$F$11) -> 48431 | R10: =-SUM(Control!$F$9:$F$11) -> 48431 | T10: =-SUM(Control!$F$9:$F$11) -> 48431 | U10: =-SUM(Control!$F$9:$F$11) -> 48431 | V10: =-SUM(Control!$F$9:$F$11) -> 48431
K11: Equity Value | L11: =L9+L10 -> 4643290.2 | M11: =M9+M10 -> 4247496 | N11: =N9+N10 -> 3912809.5 | P11: =P9+P10 -> 5051796.3 | Q11: =Q9+Q10 -> 4583296.7 | R11: =R9+R10 -> 4193108.9 | T11: =T9+T10 -> 5551081.5 | U11: =U9+U10 -> 4986257.5 | V11: =V9+V10 -> 4524371.8
B12: Plus: Depreciation & Amortization | C12: ='Operating Model'!F64 -> 2474 | D12: ='Operating Model'!G64 -> 2806.1879 | E12: ='Operating Model'!H64 -> 3869.944 | F12: ='Operating Model'!I64 -> 4990.7172 | G12: ='Operating Model'!J64 -> 5976.216 | H12: =G12 -> 5976.216 | K12: Fully Diluted Shares Outstanding | L12: =Control!$I$10 -> 24677 | M12: =Control!$I$10 -> 24677 | N12: =Control!$I$10 -> 24677 | P12: =Control!$I$10 -> 24677 | Q12: =Control!$I$10 -> 24677 | R12: =Control!$I$10 -> 24677 | T12: =Control!$I$10 -> 24677 | U12: =Control!$I$10 -> 24677 | V12: =Control!$I$10 -> 24677
B13: Plus: Stock-Based Compensation | C13: 0 | D13: 0 | E13: 0 | F13: 0 | G13: 0 | H13: 0 | K13: Implied Price / Share | L13: =L11/L12 -> 188.16267 | M13: =M11/M12 -> 172.12368 | N13: =N11/N12 -> 158.56099 | P13: =P11/P12 -> 204.71679 | Q13: =Q11/Q12 -> 185.73152 | R13: =R11/R12 -> 169.91972 | T13: =T11/T12 -> 224.94961 | U13: =U11/U12 -> 202.06093 | V13: =V11/V12 -> 183.34367
B14: Less: Capital Expenditures | C14: ='Operating Model'!F72 -> -4827 | D14: ='Operating Model'!G72 -> -5331.757 | E14: ='Operating Model'!H72 -> -6578.9049 | F14: ='Operating Model'!I72 -> -7985.1476 | G14: ='Operating Model'!J72 -> -9561.9456 | H14: =-H12 -> -5976.216 | K14: Current Share Price | L14: =Control!$F$6 -> 181.59 | M14: =Control!$F$6 -> 181.59 | N14: =Control!$F$6 -> 181.59 | P14: =Control!$F$6 -> 181.59 | Q14: =Control!$F$6 -> 181.59 | R14: =Control!$F$6 -> 181.59 | T14: =Control!$F$6 -> 181.59 | U14: =Control!$F$6 -> 181.59 | V14: =Control!$F$6 -> 181.59
B15: Less: Change in New Working Capital | C15: ='Operating Model'!F66 -> -11592 | D15: ='Operating Model'!G66 -> -14462.324 | E15: ='Operating Model'!H66 -> -21286.004 | F15: ='Operating Model'!I66 -> -29461.587 | G15: ='Operating Model'!J66 -> -40848.965 | H15: =G15 -> -40848.965 | K15: Premium / (Discount) to Current | L15: =L13/L14-1 -> 0.036195112 | M15: =M13/M14-1 -> -0.052130203 | N15: =N13/N14-1 -> -0.12681873 | P15: =P13/P14-1 -> 0.1273572 | Q15: =Q13/Q14-1 -> 0.02280697 | R15: =R13/R14-1 -> -0.064267211 | T15: =T13/T14-1 -> 0.23877752 | U15: =U13/U14-1 -> 0.11273158 | V15: =V13/V14-1 -> 0.0096573115
B16: Plus: Other Cash Flow Items | C16: 0 | D16: 0 | E16: 0 | F16: 0 | G16: 0 | H16: 0
